BEGIN:VCALENDAR
VERSION:2.0
PRODID:-//Senior Junior Forum - ECPv6.14.0//NONSGML v1.0//EN
CALSCALE:GREGORIAN
METHOD:PUBLISH
X-WR-CALNAME:Senior Junior Forum
X-ORIGINAL-URL:https://seniorjuniorforum.com
X-WR-CALDESC:Events for Senior Junior Forum
REFRESH-INTERVAL;VALUE=DURATION:PT1H
X-Robots-Tag:noindex
X-PUBLISHED-TTL:PT1H
BEGIN:VTIMEZONE
TZID:America/Chicago
BEGIN:DAYLIGHT
TZOFFSETFROM:-0600
TZOFFSETTO:-0500
TZNAME:CDT
DTSTART:20230312T080000
END:DAYLIGHT
BEGIN:STANDARD
TZOFFSETFROM:-0500
TZOFFSETTO:-0600
TZNAME:CST
DTSTART:20231105T070000
END:STANDARD
END:VTIMEZONE
BEGIN:VEVENT
DTSTART;TZID=America/Chicago:20230502T181500
DTEND;TZID=America/Chicago:20230502T200000
DTSTAMP:20260425T084214
CREATED:20220602T150510Z
LAST-MODIFIED:20230425T195005Z
UID:6038-1683051300-1683057600@seniorjuniorforum.com
SUMMARY:Installation and Awards Banquet
DESCRIPTION:click on link for more information: invitation to installation 2023 \nItems for Hours: packaged snacks (no peanut butter) and small bottled water for Arts Council summer programs \nHostesses: Tagan Couch\, Lindsay Morton\, Casey Hunter\, Trudi Pittman\, Kim Schobert\, April Beam
URL:https://seniorjuniorforum.com/event/installation-and-awards-banquet-3/
LOCATION:The Forum Auditorium\, 2120 Speedway\, Wichita Falls\, TX\, 76308\, United States
CATEGORIES:Meetings
END:VEVENT
BEGIN:VEVENT
DTSTART;TZID=America/Chicago:20230504T180000
DTEND;TZID=America/Chicago:20230504T193000
DTSTAMP:20260425T084214
CREATED:20230501T160215Z
LAST-MODIFIED:20230501T160215Z
UID:6374-1683223200-1683228600@seniorjuniorforum.com
SUMMARY:2023-24 Novice Class Training
DESCRIPTION:contact Sherri Chandler for more information
URL:https://seniorjuniorforum.com/event/2023-24-novice-class-training/
LOCATION:Senior Junior Forum Room\, 2120 Speedway\, Wichita Falls\, TX\, 76308\, United States
CATEGORIES:Meetings
END:VEVENT
BEGIN:VEVENT
DTSTART;TZID=America/Chicago:20230505T110000
DTEND;TZID=America/Chicago:20230505T130000
DTSTAMP:20260425T084214
CREATED:20230501T160004Z
LAST-MODIFIED:20230501T160004Z
UID:6372-1683284400-1683291600@seniorjuniorforum.com
SUMMARY:Red Door (The Kitchen) - Cinco de Mayo Block Party
DESCRIPTION:contact Melody Jennings for more information
URL:https://seniorjuniorforum.com/event/red-door-the-kitchen-cinco-de-mayo-block-party/
LOCATION:The Kitchen (Senior Citizens Service)\, 1000 Burnett\, Wichita Falls\, TX\, 76301\, United States
CATEGORIES:Volunteer Opportunities
END:VEVENT
BEGIN:VEVENT
DTSTART;TZID=America/Chicago:20230512T110000
DTEND;TZID=America/Chicago:20230512T130000
DTSTAMP:20260425T084214
CREATED:20230508T173232Z
LAST-MODIFIED:20230508T173232Z
UID:6420-1683889200-1683896400@seniorjuniorforum.com
SUMMARY:The Kitchen Red Door - Mother's Day Luncheon
DESCRIPTION:contact Melody Jennings for more information
URL:https://seniorjuniorforum.com/event/the-kitchen-red-door-mothers-day-luncheon/
LOCATION:The Kitchen (Senior Citizens Service)\, 1000 Burnett\, Wichita Falls\, TX\, 76301\, United States
CATEGORIES:Volunteer Opportunities
END:VEVENT
BEGIN:VEVENT
DTSTART;TZID=America/Chicago:20230515T180000
DTEND;TZID=America/Chicago:20230515T190000
DTSTAMP:20260425T084214
CREATED:20220602T150625Z
LAST-MODIFIED:20230508T162413Z
UID:6040-1684173600-1684177200@seniorjuniorforum.com
SUMMARY:SJF Board Transitional Meeting
DESCRIPTION:2022-23 Board will meet at 6:00pm \n2023-24 Board will mee at 6:30pm \ncontact Ladell Schmalzried or Debbie Berend for more information
URL:https://seniorjuniorforum.com/event/sjf-board-transitional-meeting/
LOCATION:Senior Junior Forum Room\, 2120 Speedway\, Wichita Falls\, TX\, 76308\, United States
CATEGORIES:Meetings
END:VEVENT
BEGIN:VEVENT
DTSTART;TZID=America/Chicago:20230516T090000
DTEND;TZID=America/Chicago:20230518T160000
DTSTAMP:20260425T084214
CREATED:20230508T173402Z
LAST-MODIFIED:20230508T173508Z
UID:6422-1684227600-1684425600@seniorjuniorforum.com
SUMMARY:Wichita Falls Area Food Bank - Food Sorting
DESCRIPTION:contact Melody Jennings for more information
URL:https://seniorjuniorforum.com/event/wichita-falls-area-food-bank-food-sorting/
LOCATION:Wichita Falls Area Food Bank\, 1230 Midwestern Pkwy\, Wichita Falls\, TX\, 76309\, United States
CATEGORIES:Volunteer Opportunities
END:VEVENT
BEGIN:VEVENT
DTSTART;TZID=America/Chicago:20230517T090000
DTEND;TZID=America/Chicago:20230517T160000
DTSTAMP:20260425T084214
CREATED:20230508T173558Z
LAST-MODIFIED:20230508T173558Z
UID:6424-1684314000-1684339200@seniorjuniorforum.com
SUMMARY:Wichita Falls Area Food Bank - Food Sorting
DESCRIPTION:contact Melody Jennings for more information
URL:https://seniorjuniorforum.com/event/wichita-falls-area-food-bank-food-sorting-2/
LOCATION:Wichita Falls Area Food Bank\, 1230 Midwestern Pkwy\, Wichita Falls\, TX\, 76309\, United States
CATEGORIES:Volunteer Opportunities
END:VEVENT
BEGIN:VEVENT
DTSTART;TZID=America/Chicago:20230518T090000
DTEND;TZID=America/Chicago:20230518T160000
DTSTAMP:20260425T084214
CREATED:20230508T173644Z
LAST-MODIFIED:20230508T173644Z
UID:6426-1684400400-1684425600@seniorjuniorforum.com
SUMMARY:Wichita Falls Area Food Bank - Food Sorting
DESCRIPTION:contact Melody Jennings for more information
URL:https://seniorjuniorforum.com/event/wichita-falls-area-food-bank-food-sorting-3/
LOCATION:Wichita Falls Area Food Bank\, 1230 Midwestern Pkwy\, Wichita Falls\, TX\, 76309\, United States
CATEGORIES:Volunteer Opportunities
END:VEVENT
END:VCALENDAR