BEGIN:VCALENDAR
VERSION:2.0
PRODID:-//Senior Junior Forum - ECPv6.14.0//NONSGML v1.0//EN
CALSCALE:GREGORIAN
METHOD:PUBLISH
X-ORIGINAL-URL:https://seniorjuniorforum.com
X-WR-CALDESC:Events for Senior Junior Forum
REFRESH-INTERVAL;VALUE=DURATION:PT1H
X-Robots-Tag:noindex
X-PUBLISHED-TTL:PT1H
BEGIN:VTIMEZONE
TZID:America/Chicago
BEGIN:DAYLIGHT
TZOFFSETFROM:-0600
TZOFFSETTO:-0500
TZNAME:CDT
DTSTART:20230312T080000
END:DAYLIGHT
BEGIN:STANDARD
TZOFFSETFROM:-0500
TZOFFSETTO:-0600
TZNAME:CST
DTSTART:20231105T070000
END:STANDARD
END:VTIMEZONE
BEGIN:VEVENT
DTSTART;TZID=America/Chicago:20230401T100000
DTEND;TZID=America/Chicago:20230401T170000
DTSTAMP:20260422T120313
CREATED:20230309T213753Z
LAST-MODIFIED:20230309T213753Z
UID:6333-1680343200-1680368400@seniorjuniorforum.com
SUMMARY:Arts Council - Cowboy True
DESCRIPTION:contact Melody Jennings for more information
URL:https://seniorjuniorforum.com/event/arts-council-cowboy-true-2/
LOCATION:J S Bridwell Ag Center\, 111 N. Burnett\, Wichita Falls\, TX\, United States
CATEGORIES:Volunteer Opportunities
END:VEVENT
BEGIN:VEVENT
DTSTART;TZID=America/Chicago:20230404T181500
DTEND;TZID=America/Chicago:20230404T193000
DTSTAMP:20260422T120313
CREATED:20220602T150411Z
LAST-MODIFIED:20230329T160502Z
UID:6036-1680632100-1680636600@seniorjuniorforum.com
SUMMARY:General Meeting
DESCRIPTION:Program: Katie Britt\, Wichita Falls Chamber of Commerce “What’s Happening in Wichita Falls” \nItems for Hours to benefit Patsy’s House: 8 oz bottles of water; nonperishable food items; small sized cleaning supplies \nSpecial Guests: Holly Lane and Jackie Dowdy \nHostesses: Sierra Cummings\, Mayci Walton\, Julia Eriksen
URL:https://seniorjuniorforum.com/event/general-meeting-51/
LOCATION:The Forum Garden Room\, 2120 Speedway\, Wichita Falls\, TX\, 76308\, United States
CATEGORIES:Meetings
END:VEVENT
BEGIN:VEVENT
DTSTART;TZID=America/Chicago:20230407T110000
DTEND;TZID=America/Chicago:20230407T130000
DTSTAMP:20260422T120313
CREATED:20230403T155449Z
LAST-MODIFIED:20230403T155449Z
UID:6351-1680865200-1680872400@seniorjuniorforum.com
SUMMARY:Red Door Senior Citizen Center - Easter Luncheon
DESCRIPTION:contact Melody Jennings for more information
URL:https://seniorjuniorforum.com/event/red-door-senior-citizen-center-easter-luncheon/
LOCATION:The Kitchen (Senior Citizens Service)\, 1000 Burnett\, Wichita Falls\, TX\, 76301\, United States
CATEGORIES:Volunteer Opportunities
END:VEVENT
BEGIN:VEVENT
DTSTART;TZID=America/Chicago:20230417T180000
DTEND;TZID=America/Chicago:20230417T193000
DTSTAMP:20260422T120313
CREATED:20220602T150314Z
LAST-MODIFIED:20220602T150314Z
UID:6034-1681754400-1681759800@seniorjuniorforum.com
SUMMARY:SJF Board Meeting
DESCRIPTION:contact Ladell Schmalzried for more information
URL:https://seniorjuniorforum.com/event/sjf-board-meeting-32/
LOCATION:Senior Junior Forum Room\, 2120 Speedway\, Wichita Falls\, TX\, 76308\, United States
CATEGORIES:Meetings
END:VEVENT
BEGIN:VEVENT
DTSTART;TZID=America/Chicago:20230418T180000
DTEND;TZID=America/Chicago:20230418T190000
DTSTAMP:20260422T120313
CREATED:20230417T180314Z
LAST-MODIFIED:20230417T180314Z
UID:6363-1681840800-1681844400@seniorjuniorforum.com
SUMMARY:Scholarship Committee Meeting
DESCRIPTION:
URL:https://seniorjuniorforum.com/event/scholarship-committee-meeting-4/
LOCATION:Senior Junior Forum Room\, 2120 Speedway\, Wichita Falls\, TX\, 76308\, United States
CATEGORIES:Meetings
END:VEVENT
BEGIN:VEVENT
DTSTART;TZID=America/Chicago:20230420T180000
DTEND;TZID=America/Chicago:20230420T200000
DTSTAMP:20260422T120313
CREATED:20230320T180510Z
LAST-MODIFIED:20230329T160813Z
UID:6338-1682013600-1682020800@seniorjuniorforum.com
SUMMARY:Blanket Making Party with The Arc
DESCRIPTION:contact Melody Jennings for more information
URL:https://seniorjuniorforum.com/event/patsys-house-blanket-marking-party-with-the-arc/
LOCATION:The Forum Garden Room\, 2120 Speedway\, Wichita Falls\, TX\, 76308\, United States
CATEGORIES:Volunteer Opportunities
END:VEVENT
BEGIN:VEVENT
DTSTART;TZID=America/Chicago:20230424T180000
DTEND;TZID=America/Chicago:20230424T190000
DTSTAMP:20260422T120313
CREATED:20230417T180403Z
LAST-MODIFIED:20230417T180403Z
UID:6365-1682359200-1682362800@seniorjuniorforum.com
SUMMARY:Past President's Dinner
DESCRIPTION:
URL:https://seniorjuniorforum.com/event/past-presidents-dinner-3/
LOCATION:TX
CATEGORIES:Meetings
END:VEVENT
BEGIN:VEVENT
DTSTART;TZID=America/Chicago:20230424T181500
DTEND;TZID=America/Chicago:20230424T203000
DTSTAMP:20260422T120313
CREATED:20230320T180858Z
LAST-MODIFIED:20230320T180858Z
UID:6340-1682360100-1682368200@seniorjuniorforum.com
SUMMARY:The Arc Easter Dance
DESCRIPTION:contact Melody Jennings for more information
URL:https://seniorjuniorforum.com/event/the-arc-easter-dance/
LOCATION:The Elks Lodge\, 4205 Seymour Highway\, Wichita Falls\, TX\, 76309\, United States
CATEGORIES:Volunteer Opportunities
END:VEVENT
BEGIN:VEVENT
DTSTART;TZID=America/Chicago:20230427T083000
DTEND;TZID=America/Chicago:20230427T100000
DTSTAMP:20260422T120313
CREATED:20230403T155553Z
LAST-MODIFIED:20230403T155553Z
UID:6353-1682584200-1682589600@seniorjuniorforum.com
SUMMARY:Beacon Lighthouse - Birthday Treats
DESCRIPTION:contact Melody Jennings for more information \n 
URL:https://seniorjuniorforum.com/event/beacon-lighthouse-birthday-treats-12/
LOCATION:TX
CATEGORIES:Volunteer Opportunities
END:VEVENT
BEGIN:VEVENT
DTSTART;TZID=America/Chicago:20230427T180000
DTEND;TZID=America/Chicago:20230427T193000
DTSTAMP:20260422T120313
CREATED:20230417T180558Z
LAST-MODIFIED:20230417T180558Z
UID:6367-1682618400-1682623800@seniorjuniorforum.com
SUMMARY:Red River Wine & Beer Festival Committee Wrap-up Meeting
DESCRIPTION:contact Angely Culley or Emily Coffey
URL:https://seniorjuniorforum.com/event/red-river-wine-beer-festival-committee-wrap-up-meeting-4/
LOCATION:Wells Fargo Silver Room in Parker Square
CATEGORIES:Meetings
END:VEVENT
BEGIN:VEVENT
DTSTART;TZID=America/Chicago:20230429T080000
DTEND;TZID=America/Chicago:20230429T120000
DTSTAMP:20260422T120313
CREATED:20230410T210319Z
LAST-MODIFIED:20230410T210319Z
UID:6359-1682755200-1682769600@seniorjuniorforum.com
SUMMARY:Whispers of Hope Volunteer Day
DESCRIPTION:contact Melody Jennings for more information
URL:https://seniorjuniorforum.com/event/whispers-of-hope-volunteer-day/
LOCATION:Whispers of Hope Horse Farm\, 3545 Parkhill Rd\, Wichita Falls\, TX\, 76310\, United States
CATEGORIES:Volunteer Opportunities
END:VEVENT
BEGIN:VEVENT
DTSTART;TZID=America/Chicago:20230429T143000
DTEND;TZID=America/Chicago:20230429T183000
DTSTAMP:20260422T120313
CREATED:20220927T214142Z
LAST-MODIFIED:20230410T210148Z
UID:6149-1682778600-1682793000@seniorjuniorforum.com
SUMMARY:Scavenger Hunt & Pub Crawl
DESCRIPTION:  \nclick on the link for more information: PUB CRAWL & SCAVENGER HUNT 2023 \nHostesses: Tagan Couch\, Lindsay Morton\, Sierra Cummings\, Debra Burnett\, Kim Schobert
URL:https://seniorjuniorforum.com/event/scavenger-hunt-pub-crawl/
LOCATION:TBD
CATEGORIES:Socials
END:VEVENT
END:VCALENDAR