BEGIN:VCALENDAR
VERSION:2.0
PRODID:-//Senior Junior Forum - ECPv6.14.0//NONSGML v1.0//EN
CALSCALE:GREGORIAN
METHOD:PUBLISH
X-ORIGINAL-URL:https://seniorjuniorforum.com
X-WR-CALDESC:Events for Senior Junior Forum
REFRESH-INTERVAL;VALUE=DURATION:PT1H
X-Robots-Tag:noindex
X-PUBLISHED-TTL:PT1H
BEGIN:VTIMEZONE
TZID:America/Chicago
BEGIN:DAYLIGHT
TZOFFSETFROM:-0600
TZOFFSETTO:-0500
TZNAME:CDT
DTSTART:20230312T080000
END:DAYLIGHT
BEGIN:STANDARD
TZOFFSETFROM:-0500
TZOFFSETTO:-0600
TZNAME:CST
DTSTART:20231105T070000
END:STANDARD
END:VTIMEZONE
BEGIN:VEVENT
DTSTART;TZID=America/Chicago:20230207T181500
DTEND;TZID=America/Chicago:20230207T193000
DTSTAMP:20260420T145724
CREATED:20220602T145540Z
LAST-MODIFIED:20230116T201531Z
UID:6028-1675793700-1675798200@seniorjuniorforum.com
SUMMARY:General Meeting
DESCRIPTION:Items for Hours to benefit Beacon Lighthouse: Valentine Candy \nProgram: Kristi Schluter of MSU “Personality Games” \nSpecial Guests: Jadine Buckley and Deana Albert \nHostesses: Sara Donnell Cox\, Shirley Craft\, Rae Paris
URL:https://seniorjuniorforum.com/event/general-meeting-49/
LOCATION:The Forum Garden Room\, 2120 Speedway\, Wichita Falls\, TX\, 76308\, United States
CATEGORIES:Meetings
END:VEVENT
BEGIN:VEVENT
DTSTART;TZID=America/Chicago:20230208T181500
DTEND;TZID=America/Chicago:20230208T193000
DTSTAMP:20260420T145724
CREATED:20230130T174135Z
LAST-MODIFIED:20230130T174135Z
UID:6296-1675880100-1675884600@seniorjuniorforum.com
SUMMARY:Red River Wine & Beer Festival Committee Meeting
DESCRIPTION:contact Angela Culley or Emily Coffey for more information
URL:https://seniorjuniorforum.com/event/red-river-wine-beer-festival-committee-meeting-25/
LOCATION:Senior Junior Forum Room\, 2120 Speedway\, Wichita Falls\, TX\, 76308\, United States
CATEGORIES:Meetings
END:VEVENT
BEGIN:VEVENT
DTSTART;TZID=America/Chicago:20230209T180000
DTEND;TZID=America/Chicago:20230209T200000
DTSTAMP:20260420T145724
CREATED:20220927T213842Z
LAST-MODIFIED:20230116T201315Z
UID:6144-1675965600-1675972800@seniorjuniorforum.com
SUMMARY:B Cocoa Artisan Chocolate Social
DESCRIPTION:
URL:https://seniorjuniorforum.com/event/b-cocoa-artisan-chocolate-social/
LOCATION:B Cocoa Artisan Chocolate\, 809 Eighth St\, WIchita Falls\, 76301\, United States
CATEGORIES:Socials
END:VEVENT
BEGIN:VEVENT
DTSTART;TZID=America/Chicago:20230211T100000
DTEND;TZID=America/Chicago:20230211T120000
DTSTAMP:20260420T145724
CREATED:20230130T174007Z
LAST-MODIFIED:20230130T174007Z
UID:6294-1676109600-1676116800@seniorjuniorforum.com
SUMMARY:Beacon Lighthouse - SJF workday
DESCRIPTION:Make Valentine bags for Beacon – contact Melody Jennings for more information
URL:https://seniorjuniorforum.com/event/beacon-lighthouse-sjf-workday/
LOCATION:Senior Junior Forum Room\, 2120 Speedway\, Wichita Falls\, TX\, 76308\, United States
CATEGORIES:Volunteer Opportunities
END:VEVENT
BEGIN:VEVENT
DTSTART;TZID=America/Chicago:20230214T110000
DTEND;TZID=America/Chicago:20230214T130000
DTSTAMP:20260420T145724
CREATED:20230130T173524Z
LAST-MODIFIED:20230130T173524Z
UID:6288-1676372400-1676379600@seniorjuniorforum.com
SUMMARY:Red Door Senior Citizen - Valentine's luncheon
DESCRIPTION:contact Melody Jennings for more information
URL:https://seniorjuniorforum.com/event/red-door-senior-citizen-valentines-luncheon/
LOCATION:The Kitchen (Senior Citizens Service)\, 1000 Burnett\, Wichita Falls\, TX\, 76301\, United States
CATEGORIES:Volunteer Opportunities
END:VEVENT
BEGIN:VEVENT
DTSTART;TZID=America/Chicago:20230215T133000
DTEND;TZID=America/Chicago:20230215T143000
DTSTAMP:20260420T145724
CREATED:20230206T224703Z
LAST-MODIFIED:20230206T224703Z
UID:6302-1676467800-1676471400@seniorjuniorforum.com
SUMMARY:Beacon Lighthouse Tour
DESCRIPTION:contact Melody Jenning for more information
URL:https://seniorjuniorforum.com/event/beacon-lighthouse-tour/
LOCATION:Beacon Lighthouse\, 300 7th St\, Wichita Falls\, TX\, 76301\, United States
CATEGORIES:Volunteer Opportunities
END:VEVENT
BEGIN:VEVENT
DTSTART;TZID=America/Chicago:20230220T180000
DTEND;TZID=America/Chicago:20230220T190000
DTSTAMP:20260420T145724
CREATED:20220602T145453Z
LAST-MODIFIED:20220602T145453Z
UID:6026-1676916000-1676919600@seniorjuniorforum.com
SUMMARY:SJF Board Meeting
DESCRIPTION:contact Ladell Schmalzried for more information
URL:https://seniorjuniorforum.com/event/sjf-board-meeting-30/
LOCATION:Senior Junior Forum Room\, 2120 Speedway\, Wichita Falls\, TX\, 76308\, United States
CATEGORIES:Meetings
END:VEVENT
BEGIN:VEVENT
DTSTART;TZID=America/Chicago:20230223T110000
DTEND;TZID=America/Chicago:20230223T130000
DTSTAMP:20260420T145724
CREATED:20230130T173638Z
LAST-MODIFIED:20230130T173638Z
UID:6290-1677150000-1677157200@seniorjuniorforum.com
SUMMARY:Beacon Lighthouse Awards Banquet
DESCRIPTION:contact Melody Jennings for more information
URL:https://seniorjuniorforum.com/event/beacon-lighthouse-awards-banquet-2/
LOCATION:The Forum Auditorium\, 2120 Speedway\, Wichita Falls\, TX\, 76308\, United States
CATEGORIES:Volunteer Opportunities
END:VEVENT
BEGIN:VEVENT
DTSTART;TZID=America/Chicago:20230225T103000
DTEND;TZID=America/Chicago:20230225T180000
DTSTAMP:20260420T145724
CREATED:20230213T191502Z
LAST-MODIFIED:20230213T191502Z
UID:6304-1677321000-1677348000@seniorjuniorforum.com
SUMMARY:Arts Council - Home & Garden Show
DESCRIPTION:contact Melody Jennings for more information
URL:https://seniorjuniorforum.com/event/arts-council-home-garden-show/
LOCATION:MPEC\, 900 5th St.\, Wichita Falls\, TX\, United States
CATEGORIES:Volunteer Opportunities
END:VEVENT
BEGIN:VEVENT
DTSTART;TZID=America/Chicago:20230226T103000
DTEND;TZID=America/Chicago:20230226T160000
DTSTAMP:20260420T145724
CREATED:20230213T191553Z
LAST-MODIFIED:20230213T191553Z
UID:6306-1677407400-1677427200@seniorjuniorforum.com
SUMMARY:Arts Council - Home & Garden Show
DESCRIPTION:contact Melody Jennings for more information
URL:https://seniorjuniorforum.com/event/arts-council-home-garden-show-2/
LOCATION:MPEC\, 900 5th St.\, Wichita Falls\, TX\, United States
CATEGORIES:Volunteer Opportunities
END:VEVENT
BEGIN:VEVENT
DTSTART;TZID=America/Chicago:20230227T181500
DTEND;TZID=America/Chicago:20230227T203000
DTSTAMP:20260420T145724
CREATED:20230130T173746Z
LAST-MODIFIED:20230130T173746Z
UID:6292-1677521700-1677529800@seniorjuniorforum.com
SUMMARY:The Arc - Valentine's Dance
DESCRIPTION:contact Melody Jennings for more information
URL:https://seniorjuniorforum.com/event/the-arc-valentines-dance/
LOCATION:The Elks Lodge\, 4205 Seymour Highway\, Wichita Falls\, TX\, 76309\, United States
CATEGORIES:Volunteer Opportunities
END:VEVENT
END:VCALENDAR