BEGIN:VCALENDAR
VERSION:2.0
PRODID:-//Senior Junior Forum - ECPv6.14.0//NONSGML v1.0//EN
CALSCALE:GREGORIAN
METHOD:PUBLISH
X-ORIGINAL-URL:https://seniorjuniorforum.com
X-WR-CALDESC:Events for Senior Junior Forum
REFRESH-INTERVAL;VALUE=DURATION:PT1H
X-Robots-Tag:noindex
X-PUBLISHED-TTL:PT1H
BEGIN:VTIMEZONE
TZID:America/Chicago
BEGIN:DAYLIGHT
TZOFFSETFROM:-0600
TZOFFSETTO:-0500
TZNAME:CDT
DTSTART:20230312T080000
END:DAYLIGHT
BEGIN:STANDARD
TZOFFSETFROM:-0500
TZOFFSETTO:-0600
TZNAME:CST
DTSTART:20231105T070000
END:STANDARD
END:VTIMEZONE
BEGIN:VEVENT
DTSTART;TZID=America/Chicago:20230103T181500
DTEND;TZID=America/Chicago:20230103T193000
DTSTAMP:20260420T145722
CREATED:20220602T145410Z
LAST-MODIFIED:20221228T205222Z
UID:6024-1672769700-1672774200@seniorjuniorforum.com
SUMMARY:General Meeting
DESCRIPTION:Chit Chat & Chew Potluck – bring dessert or salad \nItems for Hours to benefit Wichita Falls Area Food Bank: canned goods with protein such as peanut butter\, tuna\, canned chicken\, spaghetti or ravioli \nProgram: Trista Eaton of Flex Appeal “Importance of Excercise” \nSpecial Guests: Sherri Chandler and Tari Cummings \nHostesses: Tammy Young\, Tagan Couch\, April Beam\, Kim Schobert\, Margaret Acedo\, Elizabeth Bullinger
URL:https://seniorjuniorforum.com/event/general-meeting-48/
LOCATION:The Forum Garden Room\, 2120 Speedway\, Wichita Falls\, TX\, 76308\, United States
CATEGORIES:Meetings
END:VEVENT
BEGIN:VEVENT
DTSTART;TZID=America/Chicago:20230105T100000
DTEND;TZID=America/Chicago:20230105T130000
DTSTAMP:20260420T145722
CREATED:20221228T205339Z
LAST-MODIFIED:20221228T205339Z
UID:6270-1672912800-1672923600@seniorjuniorforum.com
SUMMARY:Kell House - undecorating
DESCRIPTION:contact Melody Jennings for more information
URL:https://seniorjuniorforum.com/event/kell-house-undecorating/
LOCATION:The Kell House\, 900 Bluff Street\, Wichita Falls\, TX\, 76301\, United States
CATEGORIES:Volunteer Opportunities
END:VEVENT
BEGIN:VEVENT
DTSTART;TZID=America/Chicago:20230107T090000
DTEND;TZID=America/Chicago:20230107T110000
DTSTAMP:20260420T145722
CREATED:20221228T205541Z
LAST-MODIFIED:20221228T205541Z
UID:6272-1673082000-1673089200@seniorjuniorforum.com
SUMMARY:Wichita Falls Area Food Bank - Mobile Pantry
DESCRIPTION:contact Melody Jennings for more information
URL:https://seniorjuniorforum.com/event/wichita-falls-area-food-bank-mobile-pantry-3/
LOCATION:Blue Sky Self Storage\, 3801 Old Jacksboro Hwy\, Wichita Falls\, TX\, 76302\, United States
CATEGORIES:Volunteer Opportunities
END:VEVENT
BEGIN:VEVENT
DTSTART;TZID=America/Chicago:20230107T120000
DTEND;TZID=America/Chicago:20230107T140000
DTSTAMP:20260420T145722
CREATED:20230103T193857Z
LAST-MODIFIED:20230103T193857Z
UID:6276-1673092800-1673100000@seniorjuniorforum.com
SUMMARY:Whispers of Hope - Undecorating
DESCRIPTION:contact Melody Jennings for more information
URL:https://seniorjuniorforum.com/event/whispers-of-hope-undecorating/
LOCATION:Whispers of Hope Horse Farm\, 3545 Parkhill Rd\, Wichita Falls\, TX\, 76310\, United States
CATEGORIES:Volunteer Opportunities
END:VEVENT
BEGIN:VEVENT
DTSTART;TZID=America/Chicago:20230109T181500
DTEND;TZID=America/Chicago:20230109T200000
DTSTAMP:20260420T145722
CREATED:20230103T194050Z
LAST-MODIFIED:20230103T194050Z
UID:6278-1673288100-1673294400@seniorjuniorforum.com
SUMMARY:The Arc - Tropical Bingo
DESCRIPTION:contact Melody Jennings for more information
URL:https://seniorjuniorforum.com/event/the-arc-tropical-bingo/
LOCATION:The Elks Lodge\, 4205 Seymour Highway\, Wichita Falls\, TX\, 76309\, United States
CATEGORIES:Volunteer Opportunities
END:VEVENT
BEGIN:VEVENT
DTSTART;TZID=America/Chicago:20230111T183000
DTEND;TZID=America/Chicago:20230111T193000
DTSTAMP:20260420T145722
CREATED:20230103T193739Z
LAST-MODIFIED:20230110T200313Z
UID:6274-1673461800-1673465400@seniorjuniorforum.com
SUMMARY:Red River Wine & Beer Festival Committee Meeting
DESCRIPTION:contact Angela Culley or Emily Coffey for more information
URL:https://seniorjuniorforum.com/event/red-river-wine-beer-festival-committee-meeting-24/
LOCATION:Senior Junior Forum Room\, 2120 Speedway\, Wichita Falls\, TX\, 76308\, United States
CATEGORIES:Meetings
END:VEVENT
BEGIN:VEVENT
DTSTART;TZID=America/Chicago:20230112T173000
DTEND;TZID=America/Chicago:20230112T210000
DTSTAMP:20260420T145722
CREATED:20220927T213537Z
LAST-MODIFIED:20221219T163216Z
UID:6142-1673544600-1673557200@seniorjuniorforum.com
SUMMARY:Game Night Social
DESCRIPTION:Click on link below for more information: \nGAME NIGHT SOCIAL 2022
URL:https://seniorjuniorforum.com/event/game-night-social-4/
LOCATION:The Elks Lodge\, 4205 Seymour Highway\, Wichita Falls\, TX\, 76309\, United States
CATEGORIES:Socials
END:VEVENT
BEGIN:VEVENT
DTSTART;TZID=America/Chicago:20230116T180000
DTEND;TZID=America/Chicago:20230116T193000
DTSTAMP:20260420T145722
CREATED:20220602T145311Z
LAST-MODIFIED:20220602T145311Z
UID:6022-1673892000-1673897400@seniorjuniorforum.com
SUMMARY:SJF Board Meeting
DESCRIPTION:contact Ladell Schmalzried for more information
URL:https://seniorjuniorforum.com/event/sjf-board-meeting-29/
LOCATION:Senior Junior Forum Room\, 2120 Speedway\, Wichita Falls\, TX\, 76308\, United States
CATEGORIES:Meetings
END:VEVENT
END:VCALENDAR