BEGIN:VCALENDAR
VERSION:2.0
PRODID:-//Senior Junior Forum - ECPv6.14.0//NONSGML v1.0//EN
CALSCALE:GREGORIAN
METHOD:PUBLISH
X-ORIGINAL-URL:https://seniorjuniorforum.com
X-WR-CALDESC:Events for Senior Junior Forum
REFRESH-INTERVAL;VALUE=DURATION:PT1H
X-Robots-Tag:noindex
X-PUBLISHED-TTL:PT1H
BEGIN:VTIMEZONE
TZID:America/Chicago
BEGIN:DAYLIGHT
TZOFFSETFROM:-0600
TZOFFSETTO:-0500
TZNAME:CDT
DTSTART:20220313T080000
END:DAYLIGHT
BEGIN:STANDARD
TZOFFSETFROM:-0500
TZOFFSETTO:-0600
TZNAME:CST
DTSTART:20221106T070000
END:STANDARD
END:VTIMEZONE
BEGIN:VEVENT
DTSTART;TZID=America/Chicago:20221201T173000
DTEND;TZID=America/Chicago:20221201T203000
DTSTAMP:20260420T120747
CREATED:20220927T213439Z
LAST-MODIFIED:20221010T213501Z
UID:6140-1669915800-1669926600@seniorjuniorforum.com
SUMMARY:Sip Shop & See the Lights Social
DESCRIPTION:
URL:https://seniorjuniorforum.com/event/sip-shop-stroll-social/
LOCATION:Harvest Drug & Gift\, 4426 Kell Blvd\, WICHITA FALLS\, TX\, 76310\, United States
CATEGORIES:Socials
END:VEVENT
BEGIN:VEVENT
DTSTART;TZID=America/Chicago:20221202T084500
DTEND;TZID=America/Chicago:20221202T110000
DTSTAMP:20260420T120747
CREATED:20221010T213737Z
LAST-MODIFIED:20221010T213737Z
UID:6190-1669970700-1669978800@seniorjuniorforum.com
SUMMARY:Santa's House at The Kell House
DESCRIPTION:contact Theresa Gilmore for more information
URL:https://seniorjuniorforum.com/event/santas-house-at-the-kell-house-2/
LOCATION:The Kell House\, 900 Bluff Street\, Wichita Falls\, TX\, 76301\, United States
CATEGORIES:Volunteer Opportunities
END:VEVENT
BEGIN:VEVENT
DTSTART;TZID=America/Chicago:20221204T124500
DTEND;TZID=America/Chicago:20221204T160000
DTSTAMP:20260420T120747
CREATED:20221010T213836Z
LAST-MODIFIED:20221010T213836Z
UID:6192-1670157900-1670169600@seniorjuniorforum.com
SUMMARY:Santa's House at The Kell House
DESCRIPTION:contact Theresa Gilmore for more information
URL:https://seniorjuniorforum.com/event/santas-house-at-the-kell-house-3/
LOCATION:The Kell House\, 900 Bluff Street\, Wichita Falls\, TX\, 76301\, United States
CATEGORIES:Volunteer Opportunities
END:VEVENT
BEGIN:VEVENT
DTSTART;TZID=America/Chicago:20221205T084500
DTEND;TZID=America/Chicago:20221205T133000
DTSTAMP:20260420T120747
CREATED:20221010T213950Z
LAST-MODIFIED:20221010T213950Z
UID:6194-1670229900-1670247000@seniorjuniorforum.com
SUMMARY:Santa's House at The Kell House
DESCRIPTION:contact Theresa Gilmore for more information
URL:https://seniorjuniorforum.com/event/santas-house-at-the-kell-house-4/
LOCATION:The Kell House\, 900 Bluff Street\, Wichita Falls\, TX\, 76301\, United States
CATEGORIES:Volunteer Opportunities
END:VEVENT
BEGIN:VEVENT
DTSTART;TZID=America/Chicago:20221206T084500
DTEND;TZID=America/Chicago:20221206T133000
DTSTAMP:20260420T120747
CREATED:20221010T214045Z
LAST-MODIFIED:20221010T214045Z
UID:6196-1670316300-1670333400@seniorjuniorforum.com
SUMMARY:Santa's House at The Kell House
DESCRIPTION:contact Theresa Gilmore for more information
URL:https://seniorjuniorforum.com/event/santas-house-at-the-kell-house-5/
LOCATION:The Kell House\, 900 Bluff Street\, Wichita Falls\, TX\, 76301\, United States
CATEGORIES:Volunteer Opportunities
END:VEVENT
BEGIN:VEVENT
DTSTART;TZID=America/Chicago:20221206T181500
DTEND;TZID=America/Chicago:20221206T200000
DTSTAMP:20260420T120747
CREATED:20220602T145043Z
LAST-MODIFIED:20220927T212634Z
UID:6018-1670350500-1670356800@seniorjuniorforum.com
SUMMARY:President's Christmas Dinner
DESCRIPTION:Entertainment: Members of the Wichita Falls Youth Symphony \nSpecial Guests: Annette Barfield and Angela Culley
URL:https://seniorjuniorforum.com/event/presidents-christmas-dinner-3/
LOCATION:The Forum Auditorium\, 2120 Speedway\, Wichita Falls\, TX\, 76308\, United States
CATEGORIES:Meetings
END:VEVENT
BEGIN:VEVENT
DTSTART;TZID=America/Chicago:20221207T084500
DTEND;TZID=America/Chicago:20221207T133000
DTSTAMP:20260420T120747
CREATED:20221010T214135Z
LAST-MODIFIED:20221010T214135Z
UID:6198-1670402700-1670419800@seniorjuniorforum.com
SUMMARY:Santa's House at The Kell House
DESCRIPTION:contact Theresa Gilmore for more information
URL:https://seniorjuniorforum.com/event/santas-house-at-the-kell-house-6/
LOCATION:The Kell House\, 900 Bluff Street\, Wichita Falls\, TX\, 76301\, United States
CATEGORIES:Volunteer Opportunities
END:VEVENT
BEGIN:VEVENT
DTSTART;TZID=America/Chicago:20221208T080000
DTEND;TZID=America/Chicago:20221208T170000
DTSTAMP:20260420T120747
CREATED:20220602T143919Z
LAST-MODIFIED:20221117T222507Z
UID:5998-1670486400-1670518800@seniorjuniorforum.com
SUMMARY:Christmas Tour of Homes
DESCRIPTION:Christmas Tour of Homes 2022
URL:https://seniorjuniorforum.com/event/christmas-tour-of-homes-4/
LOCATION:TBD
CATEGORIES:Fundraiser
END:VEVENT
BEGIN:VEVENT
DTSTART;TZID=America/Chicago:20221209T084500
DTEND;TZID=America/Chicago:20221209T210000
DTSTAMP:20260420T120747
CREATED:20221010T214221Z
LAST-MODIFIED:20221010T214427Z
UID:6200-1670575500-1670619600@seniorjuniorforum.com
SUMMARY:Santa's House at The Kell House
DESCRIPTION:contact Theresa Gilmore for more information
URL:https://seniorjuniorforum.com/event/santas-house-at-the-kell-house-7/
LOCATION:The Kell House\, 900 Bluff Street\, Wichita Falls\, TX\, 76301\, United States
CATEGORIES:Volunteer Opportunities
END:VEVENT
BEGIN:VEVENT
DTSTART;TZID=America/Chicago:20221212T180000
DTEND;TZID=America/Chicago:20221212T190000
DTSTAMP:20260420T120747
CREATED:20220602T145132Z
LAST-MODIFIED:20221205T203517Z
UID:6020-1670868000-1670871600@seniorjuniorforum.com
SUMMARY:SJF Board Christmas Party
DESCRIPTION:contact Ladell Schmalzried for more information
URL:https://seniorjuniorforum.com/event/sjf-board-meeting-28/
LOCATION:Senior Junior Forum Room\, 2120 Speedway\, Wichita Falls\, TX\, 76308\, United States
CATEGORIES:Meetings
END:VEVENT
BEGIN:VEVENT
DTSTART;TZID=America/Chicago:20221213T180000
DTEND;TZID=America/Chicago:20221213T190000
DTSTAMP:20260420T120747
CREATED:20221107T170625Z
LAST-MODIFIED:20221121T154304Z
UID:6224-1670954400-1670958000@seniorjuniorforum.com
SUMMARY:Goals & Long-Range Committee Meeting
DESCRIPTION:contact Tracy Barrells or Shelly Hutchins for more information
URL:https://seniorjuniorforum.com/event/goals-long-range-committee-meeting-16/
LOCATION:Senior Junior Forum Room\, 2120 Speedway\, Wichita Falls\, TX\, 76308\, United States
CATEGORIES:Meetings
END:VEVENT
BEGIN:VEVENT
DTSTART;TZID=America/Chicago:20221219T181500
DTEND;TZID=America/Chicago:20221219T203000
DTSTAMP:20260420T120747
CREATED:20221205T203636Z
LAST-MODIFIED:20221205T203636Z
UID:6258-1671473700-1671481800@seniorjuniorforum.com
SUMMARY:The ARC - Christmas Party
DESCRIPTION:contact Melody Jennings for more information
URL:https://seniorjuniorforum.com/event/the-arc-christmas-party/
LOCATION:The Elks Lodge\, 4205 Seymour Highway\, Wichita Falls\, TX\, 76309\, United States
CATEGORIES:Volunteer Opportunities
END:VEVENT
BEGIN:VEVENT
DTSTART;TZID=America/Chicago:20221221T111500
DTEND;TZID=America/Chicago:20221221T123000
DTSTAMP:20260420T120747
CREATED:20221205T203823Z
LAST-MODIFIED:20221205T203823Z
UID:6260-1671621300-1671625800@seniorjuniorforum.com
SUMMARY:Red Door - Christmas Luncheon
DESCRIPTION:contact Melody Jennings for more information
URL:https://seniorjuniorforum.com/event/red-door-christmas-luncheon/
LOCATION:The Kitchen (Senior Citizens Service)\, 1000 Burnett\, Wichita Falls\, TX\, 76301\, United States
CATEGORIES:Volunteer Opportunities
END:VEVENT
BEGIN:VEVENT
DTSTART;TZID=America/Chicago:20221229T083000
DTEND;TZID=America/Chicago:20221229T100000
DTSTAMP:20260420T120747
CREATED:20221228T204955Z
LAST-MODIFIED:20221228T204955Z
UID:6267-1672302600-1672308000@seniorjuniorforum.com
SUMMARY:Beacon Lighthouse birthday treats
DESCRIPTION:drop off home baked treats and/or fruit \ncontact Melody Jennings for more information
URL:https://seniorjuniorforum.com/event/beacon-lighthouse-birthday-treats-11/
LOCATION:Beacon Lighthouse\, 300 7th St\, Wichita Falls\, TX\, 76301\, United States
CATEGORIES:Volunteer Opportunities
END:VEVENT
END:VCALENDAR