BEGIN:VCALENDAR
VERSION:2.0
PRODID:-//Senior Junior Forum - ECPv6.14.0//NONSGML v1.0//EN
CALSCALE:GREGORIAN
METHOD:PUBLISH
X-WR-CALNAME:Senior Junior Forum
X-ORIGINAL-URL:https://seniorjuniorforum.com
X-WR-CALDESC:Events for Senior Junior Forum
REFRESH-INTERVAL;VALUE=DURATION:PT1H
X-Robots-Tag:noindex
X-PUBLISHED-TTL:PT1H
BEGIN:VTIMEZONE
TZID:America/Chicago
BEGIN:DAYLIGHT
TZOFFSETFROM:-0600
TZOFFSETTO:-0500
TZNAME:CDT
DTSTART:20160313T080000
END:DAYLIGHT
BEGIN:STANDARD
TZOFFSETFROM:-0500
TZOFFSETTO:-0600
TZNAME:CST
DTSTART:20161106T070000
END:STANDARD
END:VTIMEZONE
BEGIN:VEVENT
DTSTART;TZID=America/Chicago:20160725T124500
DTEND;TZID=America/Chicago:20160727T151500
DTSTAMP:20260425T163913
CREATED:20160620T181339Z
LAST-MODIFIED:20160620T181339Z
UID:3606-1469450700-1469632500@seniorjuniorforum.com
SUMMARY:Kemp Center for the Arts Super Hero Art Camp
DESCRIPTION:volunteers needed for kids Super Hero Art Camp at The Kemp Center of the Arts \ncontact Susan Phillips for more information \n 
URL:https://seniorjuniorforum.com/event/kemp-center-for-the-arts-super-hero-art-camp/
LOCATION:The Kemp Center\, 1300 Lamar Street\, Wichita Falls\, TX\, 76301\, United States
CATEGORIES:Volunteer Opportunities
END:VEVENT
BEGIN:VEVENT
DTSTART;TZID=America/Chicago:20160718T180000
DTEND;TZID=America/Chicago:20160718T190000
DTSTAMP:20260425T163913
CREATED:20160714T142005Z
LAST-MODIFIED:20160714T142005Z
UID:3624-1468864800-1468868400@seniorjuniorforum.com
SUMMARY:Executive Board Meeting
DESCRIPTION:contact Tracy Barrells for more information
URL:https://seniorjuniorforum.com/event/executive-board-meeting-3/
LOCATION:Senior Junior Forum Room\, 2120 Speedway\, Wichita Falls\, TX\, 76308\, United States
CATEGORIES:Meetings
END:VEVENT
BEGIN:VEVENT
DTSTART;TZID=America/Chicago:20160716T083000
DTEND;TZID=America/Chicago:20160716T120000
DTSTAMP:20260425T163913
CREATED:20160714T141827Z
LAST-MODIFIED:20160714T141827Z
UID:3622-1468657800-1468670400@seniorjuniorforum.com
SUMMARY:Special Olympics Swimming Event
DESCRIPTION:contact Susan Phillips or Traci Poore for more information
URL:https://seniorjuniorforum.com/event/special-olympics-swimming-event/
LOCATION:Vernon College Aquatics Center\, 4400 College Drive\, Vernon\, TX\, 76384\, United States
CATEGORIES:Volunteer Opportunities
END:VEVENT
BEGIN:VEVENT
DTSTART;TZID=America/Chicago:20160627T180000
DTEND;TZID=America/Chicago:20160627T190000
DTSTAMP:20260425T163913
CREATED:20160520T153555Z
LAST-MODIFIED:20160520T153718Z
UID:3577-1467050400-1467054000@seniorjuniorforum.com
SUMMARY:Executive Board Meeting
DESCRIPTION:contact Tracy Barrells for more information
URL:https://seniorjuniorforum.com/event/executive-board-meeting-2/
LOCATION:Senior Junior Forum Room\, 2120 Speedway\, Wichita Falls\, TX\, 76308\, United States
END:VEVENT
BEGIN:VEVENT
DTSTART;TZID=America/Chicago:20160625T153000
DTEND;TZID=America/Chicago:20160625T210000
DTSTAMP:20260425T163913
CREATED:20160607T185644Z
LAST-MODIFIED:20160607T185644Z
UID:3594-1466868600-1466888400@seniorjuniorforum.com
SUMMARY:Art & Soul Festival
DESCRIPTION:contact Susan Phillips for more information
URL:https://seniorjuniorforum.com/event/art-soul-festival/
LOCATION:Downtown\, Indiana Ave
CATEGORIES:Volunteer Opportunities
END:VEVENT
BEGIN:VEVENT
DTSTART;TZID=America/Chicago:20160620T123000
DTEND;TZID=America/Chicago:20160624T154500
DTSTAMP:20260425T163913
CREATED:20160607T185910Z
LAST-MODIFIED:20160620T181707Z
UID:3596-1466425800-1466783100@seniorjuniorforum.com
SUMMARY:Kemp Center for the Arts Anime Art Camp
DESCRIPTION:Anime Art Camp – June 20-24 (12:45- 3:15) \ncontact Susan Phillips for more information
URL:https://seniorjuniorforum.com/event/kemp-center-for-the-arts-summer-camps/
LOCATION:The Kemp Center\, 1300 Lamar Street\, Wichita Falls\, TX\, 76301\, United States
CATEGORIES:Volunteer Opportunities
END:VEVENT
BEGIN:VEVENT
DTSTART;TZID=America/Chicago:20160616T180000
DTEND;TZID=America/Chicago:20160616T190000
DTSTAMP:20260425T163913
CREATED:20160607T185110Z
LAST-MODIFIED:20160607T185110Z
UID:3593-1466100000-1466103600@seniorjuniorforum.com
SUMMARY:Social Committee Meeting
DESCRIPTION:contact Belinda Fike or Debbie Berend for more information
URL:https://seniorjuniorforum.com/event/social-committee-meeting/
LOCATION:Senior Junior Forum Room\, 2120 Speedway\, Wichita Falls\, TX\, 76308\, United States
CATEGORIES:Meetings
END:VEVENT
BEGIN:VEVENT
DTSTART;TZID=America/Chicago:20160607T180000
DTEND;TZID=America/Chicago:20160607T200000
DTSTAMP:20260425T163913
CREATED:20160519T215543Z
LAST-MODIFIED:20160519T215725Z
UID:3575-1465322400-1465329600@seniorjuniorforum.com
SUMMARY:2016-17 Novice Training
DESCRIPTION:contact Lesa Reimers for more information
URL:https://seniorjuniorforum.com/event/2016-17-novice-training/
LOCATION:The Pelican\, 2301 Midwestern Pkwy\, Wichita Falls\, TX\, 736308\, United States
CATEGORIES:Meetings
END:VEVENT
BEGIN:VEVENT
DTSTART;TZID=America/Chicago:20160526T180000
DTEND;TZID=America/Chicago:20160526T190000
DTSTAMP:20260425T163913
CREATED:20160516T140408Z
LAST-MODIFIED:20160516T140408Z
UID:3566-1464285600-1464289200@seniorjuniorforum.com
SUMMARY:Audit Committee meeting
DESCRIPTION:contact Jeri Kaspar or Tracy Barrells for more information
URL:https://seniorjuniorforum.com/event/audit-committee-meeting/
LOCATION:Senior Junior Forum Room\, 2120 Speedway\, Wichita Falls\, TX\, 76308\, United States
CATEGORIES:Meetings
END:VEVENT
BEGIN:VEVENT
DTSTART;TZID=America/Chicago:20160526T173000
DTEND;TZID=America/Chicago:20160526T180000
DTSTAMP:20260425T163913
CREATED:20160517T181750Z
LAST-MODIFIED:20160517T181750Z
UID:3570-1464283800-1464285600@seniorjuniorforum.com
SUMMARY:2015-16 Community Service Committee wrap-up meeting
DESCRIPTION:contact Debbie Berend for more information
URL:https://seniorjuniorforum.com/event/2015-16-community-service-committee-wrap-up-meeting/
LOCATION:Senior Junior Forum Room\, 2120 Speedway\, Wichita Falls\, TX\, 76308\, United States
CATEGORIES:Meetings
END:VEVENT
BEGIN:VEVENT
DTSTART;TZID=America/Chicago:20160523T180000
DTEND;TZID=America/Chicago:20160523T190000
DTSTAMP:20260425T163913
CREATED:20160518T141023Z
LAST-MODIFIED:20160518T141023Z
UID:3574-1464026400-1464030000@seniorjuniorforum.com
SUMMARY:Red River Wine & Beer Festival Committee Wrap-up Meeting
DESCRIPTION:contact Susan Richardson or Karol Gilbert for more information
URL:https://seniorjuniorforum.com/event/red-river-wine-beer-festival-committee-wrap-up-meeting/
LOCATION:Senior Junior Forum Room\, 2120 Speedway\, Wichita Falls\, TX\, 76308\, United States
CATEGORIES:Meetings
END:VEVENT
BEGIN:VEVENT
DTSTART;TZID=America/Chicago:20160521T181500
DTEND;TZID=America/Chicago:20160521T200000
DTSTAMP:20260425T163913
CREATED:20160516T160455Z
LAST-MODIFIED:20160516T160455Z
UID:3569-1463854500-1463860800@seniorjuniorforum.com
SUMMARY:Kemp Center for the Arts Sculpture Garden Opening
DESCRIPTION:contact Debbie Berend for more information
URL:https://seniorjuniorforum.com/event/kemp-center-for-the-arts-sculpture-garden-opening/
LOCATION:The Kemp Center\, 1300 Lamar Street\, Wichita Falls\, TX\, 76301\, United States
CATEGORIES:Volunteer Opportunities
END:VEVENT
BEGIN:VEVENT
DTSTART;TZID=America/Chicago:20160520T090000
DTEND;TZID=America/Chicago:20160520T130000
DTSTAMP:20260425T163913
CREATED:20160517T182831Z
LAST-MODIFIED:20160517T183241Z
UID:3571-1463734800-1463749200@seniorjuniorforum.com
SUMMARY:Block Party at THE Kitchen (Senior Citizens Service)
DESCRIPTION:volunteers needed to help with carnival games \ncall Keri or Rye at Senior Citizens Service (THE Kitchen) at 322-6232 if you can volunteer
URL:https://seniorjuniorforum.com/event/block-party-at-the-kitchen/
LOCATION:The Kitchen (Senior Citizens Service)\, 1000 Burnett\, Wichita Falls\, TX\, 76301\, United States
CATEGORIES:Volunteer Opportunities
END:VEVENT
BEGIN:VEVENT
DTSTART;TZID=America/Chicago:20160516T180000
DTEND;TZID=America/Chicago:20160516T200000
DTSTAMP:20260425T163913
CREATED:20151028T021800Z
LAST-MODIFIED:20160516T160251Z
UID:3455-1463421600-1463428800@seniorjuniorforum.com
SUMMARY:Transitional Board Meeting
DESCRIPTION:contact Kathy Tegtmeyer or Tracy Barrells for more information
URL:https://seniorjuniorforum.com/event/transitional-board-meeting/
LOCATION:Senior Junior Forum Room\, 2120 Speedway\, Wichita Falls\, TX\, 76308\, United States
CATEGORIES:Meetings
END:VEVENT
BEGIN:VEVENT
DTSTART;TZID=America/Chicago:20160503T183000
DTEND;TZID=America/Chicago:20160503T203000
DTSTAMP:20260425T163913
CREATED:20151028T021652Z
LAST-MODIFIED:20160414T184251Z
UID:3454-1462300200-1462307400@seniorjuniorforum.com
SUMMARY:Installation & Awards Banquet
DESCRIPTION:Please click here to view the invitation – 2016 Installation Banquet \nWoman of the Year and Novice of the Year awards presented \nService recognition \nInstallation of new members \nIntroduction of 2016-17 novices \nInstallation of new board members \nHostesses:  Teressa Stephenson\, Valry Tryer\, Durleen VanWinkle & Social Committee
URL:https://seniorjuniorforum.com/event/installation-awards-banquet/
LOCATION:The Forum Auditorium\, 2120 Speedway\, Wichita Falls\, TX\, 76308\, United States
CATEGORIES:Meetings
END:VEVENT
BEGIN:VEVENT
DTSTART;TZID=America/Chicago:20160430T083000
DTEND;TZID=America/Chicago:20160430T160000
DTSTAMP:20260425T163913
CREATED:20160330T180755Z
LAST-MODIFIED:20160330T180755Z
UID:3549-1462005000-1462032000@seniorjuniorforum.com
SUMMARY:Special Olympics Track & Field Day
DESCRIPTION:Please contact Debbie Berend for more information
URL:https://seniorjuniorforum.com/event/special-olympics-track-field-day/
LOCATION:Iowa Park High School Track\, 1513 Bob Dawson Dr.\, Iowa Park \, TX\, United States
CATEGORIES:Volunteer Opportunities
END:VEVENT
BEGIN:VEVENT
DTSTART;TZID=America/Chicago:20160429T100000
DTEND;TZID=America/Chicago:20160501T160000
DTSTAMP:20260425T163913
CREATED:20160414T183406Z
LAST-MODIFIED:20160414T183406Z
UID:3555-1461924000-1462118400@seniorjuniorforum.com
SUMMARY:Woman's Faith Refuge Showcase Home
DESCRIPTION:located at 3311 Robin – contact Debbie Berend for more information
URL:https://seniorjuniorforum.com/event/womans-faith-refuge-showcase-home/
CATEGORIES:Volunteer Opportunities
END:VEVENT
BEGIN:VEVENT
DTSTART;TZID=America/Chicago:20160419T183000
DTEND;TZID=America/Chicago:20160419T193000
DTSTAMP:20260425T163913
CREATED:20160405T155720Z
LAST-MODIFIED:20160405T155720Z
UID:3553-1461090600-1461094200@seniorjuniorforum.com
SUMMARY:2016-17 Novice Tea
DESCRIPTION:contact Lesa Reimers for more information
URL:https://seniorjuniorforum.com/event/2016-17-novice-tea/
LOCATION:Senior Junior Forum Room\, 2120 Speedway\, Wichita Falls\, TX\, 76308\, United States
CATEGORIES:Meetings
END:VEVENT
BEGIN:VEVENT
DTSTART;TZID=America/Chicago:20160416T180000
DTEND;TZID=America/Chicago:20160416T220000
DTSTAMP:20260425T163913
CREATED:20160315T201106Z
LAST-MODIFIED:20160315T202707Z
UID:3539-1460829600-1460844000@seniorjuniorforum.com
SUMMARY:12th Annual Red River Wine & Beer Festival
DESCRIPTION:Join SJF members at the 12th Annual Red River Wine & Beer Festival.   Sample some Texas wine & beer.  Listen to live music by Walkin’ Johnny while you shop\, eat and bid on great auction items. All the fun starts at 6:00pm at the JS Bridwell Ag Center.   Proceeds benefit Senior-Junior Forum charities and MSU scholarships. \nTickets available at Local Boys Liquor; Market Street (on Kell) and all 3 Union Square Credit Union locations. \nRed River Wine & Beer Festival \n  \nVolunteers needed –  contact Liz Wathen or Susan Phillips for more information
URL:https://seniorjuniorforum.com/event/red-river-wine-beer-festival/
LOCATION:J S Bridwell Ag Center\, 111 N. Burnett\, Wichita Falls\, TX\, United States
CATEGORIES:Fundraiser
END:VEVENT
BEGIN:VEVENT
DTSTART;TZID=America/Chicago:20160412T180000
DTEND;TZID=America/Chicago:20160412T190000
DTSTAMP:20260425T163913
CREATED:20160405T155604Z
LAST-MODIFIED:20160405T155604Z
UID:3552-1460484000-1460487600@seniorjuniorforum.com
SUMMARY:Scholarship Committee Meeting
DESCRIPTION:contact Janice Swarts for more information
URL:https://seniorjuniorforum.com/event/scholarship-committee-meeting/
LOCATION:Senior Junior Forum Room\, 2120 Speedway\, Wichita Falls\, TX\, 76308\, United States
CATEGORIES:Meetings
END:VEVENT
BEGIN:VEVENT
DTSTART;TZID=America/Chicago:20160411T180000
DTEND;TZID=America/Chicago:20160411T190000
DTSTAMP:20260425T163913
CREATED:20151028T021508Z
LAST-MODIFIED:20151028T021508Z
UID:3453-1460397600-1460401200@seniorjuniorforum.com
SUMMARY:Red River Wine & Beer Festival Committee meeting (Ways & Means)
DESCRIPTION:contact Susan Richardson or Karol Gilbert for more details
URL:https://seniorjuniorforum.com/event/red-river-wine-beer-festival-committee-meeting-ways-means-5/
LOCATION:Senior Junior Forum Room\, 2120 Speedway\, Wichita Falls\, TX\, 76308\, United States
CATEGORIES:Meetings
END:VEVENT
BEGIN:VEVENT
DTSTART;TZID=America/Chicago:20160405T190000
DTEND;TZID=America/Chicago:20160405T203000
DTSTAMP:20260425T163913
CREATED:20151028T021406Z
LAST-MODIFIED:20151028T021406Z
UID:3452-1459882800-1459888200@seniorjuniorforum.com
SUMMARY:General Meeting
DESCRIPTION:Program: “Red River Wine Festival” \nSpecial Guests: Nancy Paden & Karol Gilbert \nHostesses: Kay Sabine & Ashley Sims \nItems for Hours: Camp Snacks for The Kemp Center & Kemp at the Forum\, Special Olympics – unfrozen freezer pops\, individually wrapped snack cakes\, crackers\, chips\, cookies
URL:https://seniorjuniorforum.com/event/general-meeting-5/
LOCATION:The Forum Garden Room\, 2120 Speedway\, Wichita Falls\, TX\, 76308\, United States
CATEGORIES:Meetings
END:VEVENT
BEGIN:VEVENT
DTSTART;TZID=America/Chicago:20160402T130000
DTEND;TZID=America/Chicago:20160402T170000
DTSTAMP:20260425T163913
CREATED:20160315T202042Z
LAST-MODIFIED:20160315T202042Z
UID:3544-1459602000-1459616400@seniorjuniorforum.com
SUMMARY:Cowboy True
DESCRIPTION:volunteers needed for Friday & Saturday.  Contact Debbie Berend for more details
URL:https://seniorjuniorforum.com/event/cowboy-true-2/
LOCATION:J S Bridwell Ag Center\, 111 N. Burnett\, Wichita Falls\, TX\, United States
CATEGORIES:Volunteer Opportunities
END:VEVENT
BEGIN:VEVENT
DTSTART;TZID=America/Chicago:20160401T173000
DTEND;TZID=America/Chicago:20160401T210000
DTSTAMP:20260425T163913
CREATED:20160315T201936Z
LAST-MODIFIED:20160315T201936Z
UID:3543-1459531800-1459544400@seniorjuniorforum.com
SUMMARY:Cowboy True
DESCRIPTION:volunteers needed for Friday & Saturday.  Contact Debbie Berend for more details
URL:https://seniorjuniorforum.com/event/cowboy-true/
LOCATION:J S Bridwell Ag Center\, 111 N. Burnett\, Wichita Falls\, TX\, United States
CATEGORIES:Volunteer Opportunities
END:VEVENT
BEGIN:VEVENT
DTSTART;TZID=America/Chicago:20160324T180000
DTEND;TZID=America/Chicago:20160324T200000
DTSTAMP:20260425T163913
CREATED:20160221T173846Z
LAST-MODIFIED:20160221T173948Z
UID:3536-1458842400-1458849600@seniorjuniorforum.com
SUMMARY:March Social - Doornament Class
DESCRIPTION:We will be making a “doornament” on Thursday\, March 24th.  The class will be taught by Pocket Picasso & appetizers will be provided by The Gypsy Kit. \nTo find out more information about the social\, please click here DOORNAMENT CLASS \n 
URL:https://seniorjuniorforum.com/event/march-social-doornament-class/
LOCATION:The Gypsy Kit\, 900 8th St (Hamilton Bldg)\, Wichita Falls\, TX\, 76301\, United States
CATEGORIES:Socials
END:VEVENT
BEGIN:VEVENT
DTSTART;TZID=America/Chicago:20160307T180000
DTEND;TZID=America/Chicago:20160307T193000
DTSTAMP:20260425T163913
CREATED:20151028T021242Z
LAST-MODIFIED:20160222T195818Z
UID:3451-1457373600-1457379000@seniorjuniorforum.com
SUMMARY:Red River Wine & Beer Festival Committee meeting (Ways & Means)
DESCRIPTION:contact Susan Richardson or Karol Gilbert for more details
URL:https://seniorjuniorforum.com/event/red-river-wine-beer-festival-committee-meeting-ways-means-4/
LOCATION:Senior Junior Forum Room\, 2120 Speedway\, Wichita Falls\, TX\, 76308\, United States
CATEGORIES:Meetings
END:VEVENT
BEGIN:VEVENT
DTSTART;TZID=America/Chicago:20160305T083000
DTEND;TZID=America/Chicago:20160305T133000
DTSTAMP:20260425T163913
CREATED:20160210T170303Z
LAST-MODIFIED:20160210T170303Z
UID:3531-1457166600-1457184600@seniorjuniorforum.com
SUMMARY:Special Olympics Basketball
DESCRIPTION:contact Debbie Berend for more information
URL:https://seniorjuniorforum.com/event/special-olympics-basketball/
LOCATION:Hirschi High School\, 3106 Borton\, Wichita Falls\, TX\, 76305\, United States
CATEGORIES:Volunteer Opportunities
END:VEVENT
BEGIN:VEVENT
DTSTART;TZID=America/Chicago:20160301T190000
DTEND;TZID=America/Chicago:20160301T203000
DTSTAMP:20260425T163913
CREATED:20151028T021140Z
LAST-MODIFIED:20151028T021140Z
UID:3450-1456858800-1456864200@seniorjuniorforum.com
SUMMARY:General Meeting
DESCRIPTION:Program: “Woman’s Forum Clubs” \nSpecial Guests: Melinda Blancett & Marianne Wilson \nHostesses: Traci Poore & Michele Prouty \nItems for Hours: Easter Candy (2 bags)
URL:https://seniorjuniorforum.com/event/general-meeting-4/
LOCATION:The Forum Garden Room\, 2120 Speedway\, Wichita Falls\, TX\, 76308\, United States
CATEGORIES:Meetings
END:VEVENT
BEGIN:VEVENT
DTSTART;TZID=America/Chicago:20160227T090000
DTEND;TZID=America/Chicago:20160228T170000
DTSTAMP:20260425T163913
CREATED:20160124T180925Z
LAST-MODIFIED:20160124T180925Z
UID:3520-1456563600-1456678800@seniorjuniorforum.com
SUMMARY:Home & Garden Show
DESCRIPTION:contact Debbie Berend for more information
URL:https://seniorjuniorforum.com/event/home-garden-show/
LOCATION:MPEC\, 900 5th St.\, Wichita Falls\, TX\, United States
CATEGORIES:Volunteer Opportunities
END:VEVENT
BEGIN:VEVENT
DTSTART;TZID=America/Chicago:20160219T190000
DTEND;TZID=America/Chicago:20160219T220000
DTSTAMP:20260425T163913
CREATED:20160128T205340Z
LAST-MODIFIED:20160128T205727Z
UID:3522-1455908400-1455919200@seniorjuniorforum.com
SUMMARY:Mystery Murder Party
DESCRIPTION:Joint social with The Woman’s Forum \ncontact Marianne Lechuga for more information or click here for invitation SJF Murder Mystery Social \n  \n 
URL:https://seniorjuniorforum.com/event/mystery-murder-party/
LOCATION:The Forum Garden Room\, 2120 Speedway\, Wichita Falls\, TX\, 76308\, United States
CATEGORIES:Socials
END:VEVENT
END:VCALENDAR