BEGIN:VCALENDAR
VERSION:2.0
PRODID:-//Senior Junior Forum - ECPv6.14.0//NONSGML v1.0//EN
CALSCALE:GREGORIAN
METHOD:PUBLISH
X-WR-CALNAME:Senior Junior Forum
X-ORIGINAL-URL:https://seniorjuniorforum.com
X-WR-CALDESC:Events for Senior Junior Forum
REFRESH-INTERVAL;VALUE=DURATION:PT1H
X-Robots-Tag:noindex
X-PUBLISHED-TTL:PT1H
BEGIN:VTIMEZONE
TZID:America/Chicago
BEGIN:DAYLIGHT
TZOFFSETFROM:-0600
TZOFFSETTO:-0500
TZNAME:CDT
DTSTART:20160313T080000
END:DAYLIGHT
BEGIN:STANDARD
TZOFFSETFROM:-0500
TZOFFSETTO:-0600
TZNAME:CST
DTSTART:20161106T070000
END:STANDARD
END:VTIMEZONE
BEGIN:VEVENT
DTSTART;TZID=America/Chicago:20161022T080000
DTEND;TZID=America/Chicago:20161022T140000
DTSTAMP:20260425T113657
CREATED:20160721T213151Z
LAST-MODIFIED:20160721T213151Z
UID:3685-1477123200-1477144800@seniorjuniorforum.com
SUMMARY:Special Olympics Bocce Ball
DESCRIPTION:contact Susan Phillips for more information
URL:https://seniorjuniorforum.com/event/special-olympics-bocce-ball/
LOCATION:Cosmetic Laser Center\, 2611 Harrison\, Suite 700\, Wichita Falls\, TX\, 76308\, United States
CATEGORIES:Volunteer Opportunities
END:VEVENT
BEGIN:VEVENT
DTSTART;TZID=America/Chicago:20161021T173000
DTEND;TZID=America/Chicago:20161021T203000
DTSTAMP:20260425T113657
CREATED:20160721T213018Z
LAST-MODIFIED:20160721T213018Z
UID:3684-1477071000-1477081800@seniorjuniorforum.com
SUMMARY:Kemp Center for the Arts - Mystery Art
DESCRIPTION:contact Susan Phillips
URL:https://seniorjuniorforum.com/event/kemp-center-for-the-arts-mystery-art-2/
LOCATION:The Kemp Center\, 1300 Lamar Street\, Wichita Falls\, TX\, 76301\, United States
CATEGORIES:Volunteer Opportunities
END:VEVENT
BEGIN:VEVENT
DTSTART;TZID=America/Chicago:20161020T180000
DTEND;TZID=America/Chicago:20161020T190000
DTSTAMP:20260425T113657
CREATED:20161014T190830Z
LAST-MODIFIED:20161014T190830Z
UID:3746-1476986400-1476990000@seniorjuniorforum.com
SUMMARY:Goals & Long Range Committee meeting
DESCRIPTION:contact Kim Ballard or Susan Richardson for more information
URL:https://seniorjuniorforum.com/event/goals-long-range-committee-meeting-2/
LOCATION:Senior Junior Forum Room\, 2120 Speedway\, Wichita Falls\, TX\, 76308\, United States
CATEGORIES:Meetings
END:VEVENT
BEGIN:VEVENT
DTSTART;TZID=America/Chicago:20161017T180000
DTEND;TZID=America/Chicago:20161017T190000
DTSTAMP:20260425T113657
CREATED:20160721T203025Z
LAST-MODIFIED:20160721T203025Z
UID:3653-1476727200-1476730800@seniorjuniorforum.com
SUMMARY:Executive Board Meeting
DESCRIPTION:contact Tracy Barrells for more information
URL:https://seniorjuniorforum.com/event/executive-board-meeting-6/
LOCATION:Senior Junior Forum Room\, 2120 Speedway\, Wichita Falls\, TX\, 76308\, United States
CATEGORIES:Meetings
END:VEVENT
BEGIN:VEVENT
DTSTART;TZID=America/Chicago:20161013T180000
DTEND;TZID=America/Chicago:20161013T200000
DTSTAMP:20260425T113657
CREATED:20160925T171140Z
LAST-MODIFIED:20160925T171140Z
UID:3724-1476381600-1476388800@seniorjuniorforum.com
SUMMARY:Kemp Center for the Arts - Mystery Spirits
DESCRIPTION:contact Susan Phillips for more details
URL:https://seniorjuniorforum.com/event/kemp-center-for-the-arts-mystery-spirits-2/
LOCATION:The Kemp Center\, 1300 Lamar Street\, Wichita Falls\, TX\, 76301\, United States
CATEGORIES:Volunteer Opportunities
END:VEVENT
BEGIN:VEVENT
DTSTART;TZID=America/Chicago:20161013T173000
DTEND;TZID=America/Chicago:20161013T200000
DTSTAMP:20260425T113657
CREATED:20160721T211857Z
LAST-MODIFIED:20160721T211857Z
UID:3682-1476379800-1476388800@seniorjuniorforum.com
SUMMARY:Kemp Center for the Arts - Mystery Spirits
DESCRIPTION:contact Susan Phillips for more information
URL:https://seniorjuniorforum.com/event/kemp-center-for-the-arts-mystery-spirits/
LOCATION:The Kemp Center\, 1300 Lamar Street\, Wichita Falls\, TX\, 76301\, United States
CATEGORIES:Volunteer Opportunities
END:VEVENT
BEGIN:VEVENT
DTSTART;TZID=America/Chicago:20161012T180000
DTEND;TZID=America/Chicago:20161012T193000
DTSTAMP:20260425T113657
CREATED:20160721T213613Z
LAST-MODIFIED:20161003T142421Z
UID:3688-1476295200-1476300600@seniorjuniorforum.com
SUMMARY:First Step Halloween party
DESCRIPTION:contact Pam Glendening or Susan Phillips for more information
URL:https://seniorjuniorforum.com/event/first-step-halloween-party-2/
LOCATION:Cosmetic Laser Center\, 2611 Harrison\, Suite 700\, Wichita Falls\, TX\, 76308\, United States
CATEGORIES:Volunteer Opportunities
END:VEVENT
BEGIN:VEVENT
DTSTART;TZID=America/Chicago:20161010T180000
DTEND;TZID=America/Chicago:20161010T190000
DTSTAMP:20260425T113657
CREATED:20160721T204212Z
LAST-MODIFIED:20160721T204212Z
UID:3664-1476122400-1476126000@seniorjuniorforum.com
SUMMARY:Red River Wine & Beer Festival committee meeting (Ways & Means)
DESCRIPTION:contact Karol Gilbert or Liz Wathen for more information
URL:https://seniorjuniorforum.com/event/red-river-wine-beer-festival-committee-meeting-ways-means-8/
LOCATION:Senior Junior Forum Room\, 2120 Speedway\, Wichita Falls\, TX\, 76308\, United States
CATEGORIES:Meetings
END:VEVENT
BEGIN:VEVENT
DTSTART;TZID=America/Chicago:20161010T173000
DTEND;TZID=America/Chicago:20161010T180000
DTSTAMP:20260425T113657
CREATED:20160721T204106Z
LAST-MODIFIED:20160721T204106Z
UID:3663-1476120600-1476122400@seniorjuniorforum.com
SUMMARY:Christmas Tour of Homes committee meeting
DESCRIPTION:contact Durleen Van Winkle or LaNell Kruger for more information
URL:https://seniorjuniorforum.com/event/christmas-tour-of-homes-committee-meeting-3/
LOCATION:Senior Junior Forum Room\, 2120 Speedway\, Wichita Falls\, TX\, 76308\, United States
CATEGORIES:Meetings
END:VEVENT
BEGIN:VEVENT
DTSTART;TZID=America/Chicago:20161008T193000
DTEND;TZID=America/Chicago:20161008T223000
DTSTAMP:20260425T113657
CREATED:20160721T210945Z
LAST-MODIFIED:20160926T204757Z
UID:3677-1475955000-1475965800@seniorjuniorforum.com
SUMMARY:Backdoor Theatre social - "Rock of Ages"
DESCRIPTION:Click here for more details backdoor-theatre-october-social-002 \nHostesses:  Debbie Berend\, Teresa Austin & Jamie Trumpf
URL:https://seniorjuniorforum.com/event/backdoor-theatre-social-rock-of-ages/
LOCATION:Backdoor Theatre\, 501 Indiana Ave\, Wichita Falls\, TX\, 76301\, United States
CATEGORIES:Socials
END:VEVENT
BEGIN:VEVENT
DTSTART;TZID=America/Chicago:20161004T190000
DTEND;TZID=America/Chicago:20161004T203000
DTSTAMP:20260425T113657
CREATED:20160721T200704Z
LAST-MODIFIED:20160927T153810Z
UID:3642-1475607600-1475613000@seniorjuniorforum.com
SUMMARY:General Meeting
DESCRIPTION:Special Guests: Chris Estes & Amber Meadows \nHostesses: Toni Cowardin & Shelly Hutchin – \nItems for Hours: 2 bags Halloween candy for Faith Refuge\, First Step & Beacon Lighthouse parties
URL:https://seniorjuniorforum.com/event/general-meeting-6/
LOCATION:The Forum Garden Room\, 2120 Speedway\, Wichita Falls\, TX\, 76308\, United States
CATEGORIES:Meetings
END:VEVENT
BEGIN:VEVENT
DTSTART;TZID=America/Chicago:20161001T090000
DTEND;TZID=America/Chicago:20161001T140000
DTSTAMP:20260425T113657
CREATED:20160721T211713Z
LAST-MODIFIED:20160721T211713Z
UID:3681-1475312400-1475330400@seniorjuniorforum.com
SUMMARY:MSU - Burns Fantasy of Lights workday
DESCRIPTION:contact Susan Phillips for more information
URL:https://seniorjuniorforum.com/event/msu-burns-fantasy-of-lights-workday/
LOCATION:Cosmetic Laser Center\, 2611 Harrison\, Suite 700\, Wichita Falls\, TX\, 76308\, United States
CATEGORIES:Volunteer Opportunities
END:VEVENT
BEGIN:VEVENT
DTSTART;TZID=America/Chicago:20160926T180000
DTEND;TZID=America/Chicago:20160926T190000
DTSTAMP:20260425T113657
CREATED:20160721T202901Z
LAST-MODIFIED:20160913T213415Z
UID:3652-1474912800-1474916400@seniorjuniorforum.com
SUMMARY:Executive Board Meeting
DESCRIPTION:contact Tracy Barrells
URL:https://seniorjuniorforum.com/event/executive-board-meeting-5/
LOCATION:Senior Junior Forum Room\, 2120 Speedway\, Wichita Falls\, TX\, 76308\, United States
CATEGORIES:Meetings
END:VEVENT
BEGIN:VEVENT
DTSTART;TZID=America/Chicago:20160922T183000
DTEND;TZID=America/Chicago:20160922T210000
DTSTAMP:20260425T113657
CREATED:20160721T210500Z
LAST-MODIFIED:20160903T164922Z
UID:3673-1474569000-1474578000@seniorjuniorforum.com
SUMMARY:How Great Thou Art Social
DESCRIPTION:Hostesses: Maria Maloney\, Vicky Payne & Tamara Barfield  click here for more infoHowGreatThouArtSocial
URL:https://seniorjuniorforum.com/event/how-great-thou-art-social/
LOCATION:How Great Thou Art Studio\, 3002 Kemp Blvd.\, Wichita Falls\, TX\, 76308\, United States
CATEGORIES:Socials
END:VEVENT
BEGIN:VEVENT
DTSTART;TZID=America/Chicago:20160912T180000
DTEND;TZID=America/Chicago:20160912T190000
DTSTAMP:20260425T113657
CREATED:20160721T204003Z
LAST-MODIFIED:20160721T204003Z
UID:3662-1473703200-1473706800@seniorjuniorforum.com
SUMMARY:Red River Wine & Beer Festival committee meeting (Ways & Means)
DESCRIPTION:contact Karol Gilbert or Liz Wathen for more information
URL:https://seniorjuniorforum.com/event/red-river-wine-beer-festival-committee-meeting-ways-means-7/
LOCATION:Senior Junior Forum Room\, 2120 Speedway\, Wichita Falls\, TX\, 76308\, United States
CATEGORIES:Meetings
END:VEVENT
BEGIN:VEVENT
DTSTART;TZID=America/Chicago:20160912T173000
DTEND;TZID=America/Chicago:20160912T180000
DTSTAMP:20260425T113657
CREATED:20160721T203841Z
LAST-MODIFIED:20160721T203841Z
UID:3661-1473701400-1473703200@seniorjuniorforum.com
SUMMARY:Christmas Tour of Homes committee meeting
DESCRIPTION:contact Durleen Van Winkle or LaNell Kruger for more information
URL:https://seniorjuniorforum.com/event/christmas-tour-of-homes-committee-meeting-2/
LOCATION:Senior Junior Forum Room\, 2120 Speedway\, Wichita Falls\, TX\, 76308\, United States
CATEGORIES:Meetings
END:VEVENT
BEGIN:VEVENT
DTSTART;TZID=America/Chicago:20160910T090000
DTEND;TZID=America/Chicago:20160910T170000
DTSTAMP:20260425T113657
CREATED:20160719T215651Z
LAST-MODIFIED:20160719T215651Z
UID:3636-1473498000-1473526800@seniorjuniorforum.com
SUMMARY:Kemp Center for the Arts Stroll and Roll
DESCRIPTION:contact Susan Phillips for more information
URL:https://seniorjuniorforum.com/event/kemp-center-for-the-arts-stroll-and-roll/
LOCATION:The Kemp Center\, 1300 Lamar Street\, Wichita Falls\, TX\, 76301\, United States
CATEGORIES:Volunteer Opportunities
END:VEVENT
BEGIN:VEVENT
DTSTART;TZID=America/Chicago:20160909T090000
DTEND;TZID=America/Chicago:20160909T180000
DTSTAMP:20260425T113657
CREATED:20160719T215535Z
LAST-MODIFIED:20160719T215535Z
UID:3634-1473411600-1473444000@seniorjuniorforum.com
SUMMARY:Beacon Lighthouse Golf Tournament
DESCRIPTION:contact Susan Phillips for more information
URL:https://seniorjuniorforum.com/event/beacon-lighthouse-golf-tournament/
LOCATION:Champions Golf Course\, 4401 Lake Park Dr.\, Wichita Falls\, TX\, 76302\, United States
CATEGORIES:Volunteer Opportunities
END:VEVENT
BEGIN:VEVENT
DTSTART;TZID=America/Chicago:20160906T183000
DTEND;TZID=America/Chicago:20160906T203000
DTSTAMP:20260425T113657
CREATED:20160714T143321Z
LAST-MODIFIED:20160721T210211Z
UID:3628-1473186600-1473193800@seniorjuniorforum.com
SUMMARY:General Meeting - Mix\, Munch & Mingle
DESCRIPTION:Bring your favorite dish and catch up with other members and meet our novices \nProgram: “Meet the Novices” \nHostesses:  Sussan Halverson; Teresa Austin; Tamara Barfield; Brenna Pohlod – \nItems for Hours: diapers & wipes\, toilet paper\, paper towels\, sanitary products for Faith Refuge
URL:https://seniorjuniorforum.com/event/general-meeting-mix-munch-mingle/
LOCATION:The Forum Garden Room\, 2120 Speedway\, Wichita Falls\, TX\, 76308\, United States
CATEGORIES:Meetings
END:VEVENT
BEGIN:VEVENT
DTSTART;TZID=America/Chicago:20160828T120000
DTEND;TZID=America/Chicago:20160828T133000
DTSTAMP:20260425T113657
CREATED:20160719T215132Z
LAST-MODIFIED:20160720T140320Z
UID:3633-1472385600-1472391000@seniorjuniorforum.com
SUMMARY:Special Olympics Hotter 'N' Hell bike race
DESCRIPTION:contact Susan Phillips or Traci Poore for more information
URL:https://seniorjuniorforum.com/event/special-olympics-hotter-n-hell-bike-race/
LOCATION:MPEC\, 900 5th St.\, Wichita Falls\, TX\, United States
CATEGORIES:Volunteer Opportunities
END:VEVENT
BEGIN:VEVENT
DTSTART;TZID=America/Chicago:20160827T070000
DTEND;TZID=America/Chicago:20160827T110000
DTSTAMP:20260425T113657
CREATED:20160810T143912Z
LAST-MODIFIED:20160810T143912Z
UID:3700-1472281200-1472295600@seniorjuniorforum.com
SUMMARY:Hotter 'n' Hell
DESCRIPTION:contact Susan Phillips to volunteer at this event
URL:https://seniorjuniorforum.com/event/hotter-n-hell/
LOCATION:MPEC\, 900 5th St.\, Wichita Falls\, TX\, United States
CATEGORIES:Volunteer Opportunities
END:VEVENT
BEGIN:VEVENT
DTSTART;TZID=America/Chicago:20160825T180000
DTEND;TZID=America/Chicago:20160825T200000
DTSTAMP:20260425T113657
CREATED:20160714T142626Z
LAST-MODIFIED:20160801T192637Z
UID:3626-1472148000-1472155200@seniorjuniorforum.com
SUMMARY:Live at the Lake Social
DESCRIPTION:Hostesses: Belinda Fike\, Shelly Hutchins & Stephanie Kramer   click here for more details Live at the Lake Social
URL:https://seniorjuniorforum.com/event/live-at-the-lake-social/
LOCATION:Wichita Falls Musuem of Art at MSU\, #2 Eureka Circle\, Wichita Falls\, TX\, 76308\, United States
CATEGORIES:Socials
END:VEVENT
BEGIN:VEVENT
DTSTART;TZID=America/Chicago:20160815T180000
DTEND;TZID=America/Chicago:20160815T190000
DTSTAMP:20260425T113657
CREATED:20160721T202731Z
LAST-MODIFIED:20160721T202731Z
UID:3651-1471284000-1471287600@seniorjuniorforum.com
SUMMARY:Executive Board Meeting
DESCRIPTION:contact Tracy Barrells for more information
URL:https://seniorjuniorforum.com/event/executive-board-meeting-4/
LOCATION:Senior Junior Forum Room\, 2120 Speedway\, Wichita Falls\, TX\, 76308\, United States
CATEGORIES:Meetings
END:VEVENT
BEGIN:VEVENT
DTSTART;TZID=America/Chicago:20160801T180000
DTEND;TZID=America/Chicago:20160801T190000
DTSTAMP:20260425T113657
CREATED:20160714T142140Z
LAST-MODIFIED:20160720T140359Z
UID:3625-1470074400-1470078000@seniorjuniorforum.com
SUMMARY:Red River Wine & Beer Festival committee meeting (Ways & Means)
DESCRIPTION:contact Karol Gilbert or Liz Wathen for more information
URL:https://seniorjuniorforum.com/event/red-river-wine-beer-festival-committee-meeting-ways-means-6/
LOCATION:Senior Junior Forum Room\, 2120 Speedway\, Wichita Falls\, TX\, 76308\, United States
CATEGORIES:Meetings
END:VEVENT
BEGIN:VEVENT
DTSTART;TZID=America/Chicago:20160801T173000
DTEND;TZID=America/Chicago:20160801T180000
DTSTAMP:20260425T113657
CREATED:20160719T215855Z
LAST-MODIFIED:20160719T215855Z
UID:3637-1470072600-1470074400@seniorjuniorforum.com
SUMMARY:Christmas Tour of Homes committee meeting
DESCRIPTION:contact Durleen Van Winkle or LaNell Kruger for more information
URL:https://seniorjuniorforum.com/event/christmas-tour-of-homes-committee-meeting/
LOCATION:Senior Junior Forum Room\, 2120 Speedway\, Wichita Falls\, TX\, 76308\, United States
CATEGORIES:Meetings
END:VEVENT
BEGIN:VEVENT
DTSTART;TZID=America/Chicago:20160725T124500
DTEND;TZID=America/Chicago:20160727T151500
DTSTAMP:20260425T113657
CREATED:20160620T181339Z
LAST-MODIFIED:20160620T181339Z
UID:3606-1469450700-1469632500@seniorjuniorforum.com
SUMMARY:Kemp Center for the Arts Super Hero Art Camp
DESCRIPTION:volunteers needed for kids Super Hero Art Camp at The Kemp Center of the Arts \ncontact Susan Phillips for more information \n 
URL:https://seniorjuniorforum.com/event/kemp-center-for-the-arts-super-hero-art-camp/
LOCATION:The Kemp Center\, 1300 Lamar Street\, Wichita Falls\, TX\, 76301\, United States
CATEGORIES:Volunteer Opportunities
END:VEVENT
BEGIN:VEVENT
DTSTART;TZID=America/Chicago:20160718T180000
DTEND;TZID=America/Chicago:20160718T190000
DTSTAMP:20260425T113657
CREATED:20160714T142005Z
LAST-MODIFIED:20160714T142005Z
UID:3624-1468864800-1468868400@seniorjuniorforum.com
SUMMARY:Executive Board Meeting
DESCRIPTION:contact Tracy Barrells for more information
URL:https://seniorjuniorforum.com/event/executive-board-meeting-3/
LOCATION:Senior Junior Forum Room\, 2120 Speedway\, Wichita Falls\, TX\, 76308\, United States
CATEGORIES:Meetings
END:VEVENT
BEGIN:VEVENT
DTSTART;TZID=America/Chicago:20160716T083000
DTEND;TZID=America/Chicago:20160716T120000
DTSTAMP:20260425T113657
CREATED:20160714T141827Z
LAST-MODIFIED:20160714T141827Z
UID:3622-1468657800-1468670400@seniorjuniorforum.com
SUMMARY:Special Olympics Swimming Event
DESCRIPTION:contact Susan Phillips or Traci Poore for more information
URL:https://seniorjuniorforum.com/event/special-olympics-swimming-event/
LOCATION:Vernon College Aquatics Center\, 4400 College Drive\, Vernon\, TX\, 76384\, United States
CATEGORIES:Volunteer Opportunities
END:VEVENT
BEGIN:VEVENT
DTSTART;TZID=America/Chicago:20160627T180000
DTEND;TZID=America/Chicago:20160627T190000
DTSTAMP:20260425T113657
CREATED:20160520T153555Z
LAST-MODIFIED:20160520T153718Z
UID:3577-1467050400-1467054000@seniorjuniorforum.com
SUMMARY:Executive Board Meeting
DESCRIPTION:contact Tracy Barrells for more information
URL:https://seniorjuniorforum.com/event/executive-board-meeting-2/
LOCATION:Senior Junior Forum Room\, 2120 Speedway\, Wichita Falls\, TX\, 76308\, United States
END:VEVENT
BEGIN:VEVENT
DTSTART;TZID=America/Chicago:20160625T153000
DTEND;TZID=America/Chicago:20160625T210000
DTSTAMP:20260425T113657
CREATED:20160607T185644Z
LAST-MODIFIED:20160607T185644Z
UID:3594-1466868600-1466888400@seniorjuniorforum.com
SUMMARY:Art & Soul Festival
DESCRIPTION:contact Susan Phillips for more information
URL:https://seniorjuniorforum.com/event/art-soul-festival/
LOCATION:Downtown\, Indiana Ave
CATEGORIES:Volunteer Opportunities
END:VEVENT
END:VCALENDAR