BEGIN:VCALENDAR
VERSION:2.0
PRODID:-//Senior Junior Forum - ECPv6.14.0//NONSGML v1.0//EN
CALSCALE:GREGORIAN
METHOD:PUBLISH
X-WR-CALNAME:Senior Junior Forum
X-ORIGINAL-URL:https://seniorjuniorforum.com
X-WR-CALDESC:Events for Senior Junior Forum
REFRESH-INTERVAL;VALUE=DURATION:PT1H
X-Robots-Tag:noindex
X-PUBLISHED-TTL:PT1H
BEGIN:VTIMEZONE
TZID:America/Chicago
BEGIN:DAYLIGHT
TZOFFSETFROM:-0600
TZOFFSETTO:-0500
TZNAME:CDT
DTSTART:20160313T080000
END:DAYLIGHT
BEGIN:STANDARD
TZOFFSETFROM:-0500
TZOFFSETTO:-0600
TZNAME:CST
DTSTART:20161106T070000
END:STANDARD
BEGIN:DAYLIGHT
TZOFFSETFROM:-0600
TZOFFSETTO:-0500
TZNAME:CDT
DTSTART:20170312T080000
END:DAYLIGHT
BEGIN:STANDARD
TZOFFSETFROM:-0500
TZOFFSETTO:-0600
TZNAME:CST
DTSTART:20171105T070000
END:STANDARD
END:VTIMEZONE
BEGIN:VEVENT
DTSTART;TZID=America/Chicago:20170228T160000
DTEND;TZID=America/Chicago:20170228T210000
DTSTAMP:20260425T072943
CREATED:20170116T170945Z
LAST-MODIFIED:20170116T171029Z
UID:3810-1488297600-1488315600@seniorjuniorforum.com
SUMMARY:Chili's Senior-Junior Forum "Give Back Night"
DESCRIPTION:click here for more details Chili’s Give Back Event Flyer
URL:https://seniorjuniorforum.com/event/chilis-senior-junior-forum-give-back-night/
LOCATION:Chili’s\, 3710 Call Field Rd\, Wichita Falls\, 76308\, United States
CATEGORIES:Fundraiser
END:VEVENT
BEGIN:VEVENT
DTSTART;TZID=America/Chicago:20170225T090000
DTEND;TZID=America/Chicago:20170226T170000
DTSTAMP:20260425T072943
CREATED:20170116T171833Z
LAST-MODIFIED:20170130T163751Z
UID:3814-1488013200-1488128400@seniorjuniorforum.com
SUMMARY:Kemp Center Home & Garden Show
DESCRIPTION:contact Susan Phillips to volunteer
URL:https://seniorjuniorforum.com/event/kemp-center-home-garden-show/
LOCATION:MPEC\, 900 5th St.\, Wichita Falls\, TX\, United States
CATEGORIES:Volunteer Opportunities
END:VEVENT
BEGIN:VEVENT
DTSTART;TZID=America/Chicago:20170225T080000
DTEND;TZID=America/Chicago:20170225T170000
DTSTAMP:20260425T072943
CREATED:20170217T211835Z
LAST-MODIFIED:20170217T211835Z
UID:3824-1488009600-1488042000@seniorjuniorforum.com
SUMMARY:Special Olympics Basketball
DESCRIPTION:contact Susan Phillips for more information
URL:https://seniorjuniorforum.com/event/special-olympics-basketball-2/
LOCATION:Graham High School\, 1000 Brazos St.\, Graham\, TX\, United States
CATEGORIES:Volunteer Opportunities
END:VEVENT
BEGIN:VEVENT
DTSTART;TZID=America/Chicago:20170220T180000
DTEND;TZID=America/Chicago:20170220T190000
DTSTAMP:20260425T072943
CREATED:20160721T203422Z
LAST-MODIFIED:20160721T203422Z
UID:3657-1487613600-1487617200@seniorjuniorforum.com
SUMMARY:Executive Board Meeting
DESCRIPTION:contact Tracy Barrells for more information \n 
URL:https://seniorjuniorforum.com/event/executive-board-meeting-10/
LOCATION:Senior Junior Forum Room\, 2120 Speedway\, Wichita Falls\, TX\, 76308\, United States
CATEGORIES:Meetings
END:VEVENT
BEGIN:VEVENT
DTSTART;TZID=America/Chicago:20170218T170000
DTEND;TZID=America/Chicago:20170218T210000
DTSTAMP:20260425T072943
CREATED:20161024T212743Z
LAST-MODIFIED:20170127T152631Z
UID:3759-1487437200-1487451600@seniorjuniorforum.com
SUMMARY:Wine & Cheese & Pizza Social
DESCRIPTION:  \nHostesses:  Delores Culley; Tagan Couch; Kathleen Brown; Lindsay Morton & Brenna Pohlod
URL:https://seniorjuniorforum.com/event/wine-cheese-pizza-social/
LOCATION:Gypsy Uncorked\, 3115 Kemp\, Wichita Falls\, Texas\, 76308
CATEGORIES:Socials
END:VEVENT
BEGIN:VEVENT
DTSTART;TZID=America/Chicago:20170213T180000
DTEND;TZID=America/Chicago:20170213T190000
DTSTAMP:20260425T072943
CREATED:20160721T204934Z
LAST-MODIFIED:20160721T204934Z
UID:3670-1487008800-1487012400@seniorjuniorforum.com
SUMMARY:Red River Wine Festival committee meeting (Ways & Means)
DESCRIPTION:contact Karol Gilbert or Liz Wathen for more information
URL:https://seniorjuniorforum.com/event/red-river-wine-festival-committee-meeting-ways-means/
LOCATION:Senior Junior Forum Room\, 2120 Speedway\, Wichita Falls\, TX\, 76308\, United States
CATEGORIES:Meetings
END:VEVENT
BEGIN:VEVENT
DTSTART;TZID=America/Chicago:20170207T190000
DTEND;TZID=America/Chicago:20170207T203000
DTSTAMP:20260425T072943
CREATED:20160721T201834Z
LAST-MODIFIED:20170130T163850Z
UID:3646-1486494000-1486499400@seniorjuniorforum.com
SUMMARY:General Meeting
DESCRIPTION:Special Guests: Pam Glendening & Vicki Tigert \nHostesses:  Jamie Trumpf & Teresa Austin – \nItems for Hours: 2 bags valentine candy for Faith Refuge\, First Step & Beacon Lighthouse parties \n 
URL:https://seniorjuniorforum.com/event/general-meeting-8/
LOCATION:The Forum Auditorium\, 2120 Speedway\, Wichita Falls\, TX\, 76308\, United States
CATEGORIES:Meetings
END:VEVENT
BEGIN:VEVENT
DTSTART;TZID=America/Chicago:20170128T081500
DTEND;TZID=America/Chicago:20170128T130000
DTSTAMP:20260425T072943
CREATED:20170103T192415Z
LAST-MODIFIED:20170103T192415Z
UID:3807-1485591300-1485608400@seniorjuniorforum.com
SUMMARY:Special Olympics Polar Plunge
DESCRIPTION:contact Susan Phillips for more information
URL:https://seniorjuniorforum.com/event/special-olympics-polar-plunge-2/
LOCATION:TX
CATEGORIES:Volunteer Opportunities
END:VEVENT
BEGIN:VEVENT
DTSTART;TZID=America/Chicago:20170119T180000
DTEND;TZID=America/Chicago:20170119T203000
DTSTAMP:20260425T072943
CREATED:20160804T214523Z
LAST-MODIFIED:20170102T183848Z
UID:3697-1484848800-1484857800@seniorjuniorforum.com
SUMMARY:BUNKO Social
DESCRIPTION:BUNKO at 8th Street Coffee House – click here for more info:January Social \nHostesses: Cami Dean & Carley McGhee
URL:https://seniorjuniorforum.com/event/bunko-social/
LOCATION:8th Street Coffee House\, 710 8th Street\, WIchita Falls\, TX\, 76310\, United States
CATEGORIES:Socials
END:VEVENT
BEGIN:VEVENT
DTSTART;TZID=America/Chicago:20170118T080000
DTEND;TZID=America/Chicago:20170118T100000
DTSTAMP:20260425T072943
CREATED:20161229T150343Z
LAST-MODIFIED:20170103T192256Z
UID:3800-1484726400-1484733600@seniorjuniorforum.com
SUMMARY:Beacon Lighthouse January birthday treats
DESCRIPTION:take homemade cookies\, cupcakes and treats to Beacon Lighthouse by 10:00am \nor contact Susan Phillips for more information
URL:https://seniorjuniorforum.com/event/beacon-lighthouse-january-birthday-treats/
LOCATION:Beacon Lighthouse\, 300 7th St\, Wichita Falls\, TX\, 76301\, United States
CATEGORIES:Volunteer Opportunities
END:VEVENT
BEGIN:VEVENT
DTSTART;TZID=America/Chicago:20170116T180000
DTEND;TZID=America/Chicago:20170116T190000
DTSTAMP:20260425T072943
CREATED:20160721T203319Z
LAST-MODIFIED:20160721T203319Z
UID:3656-1484589600-1484593200@seniorjuniorforum.com
SUMMARY:Executive Board Meeting
DESCRIPTION:contact Tracy Barrells for more information
URL:https://seniorjuniorforum.com/event/executive-board-meeting-9/
LOCATION:Senior Junior Forum Room\, 2120 Speedway\, Wichita Falls\, TX\, 76308\, United States
CATEGORIES:Meetings
END:VEVENT
BEGIN:VEVENT
DTSTART;TZID=America/Chicago:20170114T180000
DTEND;TZID=America/Chicago:20170114T210000
DTSTAMP:20260425T072943
CREATED:20161229T150508Z
LAST-MODIFIED:20170103T192220Z
UID:3802-1484416800-1484427600@seniorjuniorforum.com
SUMMARY:Kemp Center - Kemp Karnevale
DESCRIPTION:contact Susan Phillips for more information
URL:https://seniorjuniorforum.com/event/kemp-center-kemp-karnevale/
LOCATION:The Kemp Center\, 1300 Lamar Street\, Wichita Falls\, TX\, 76301\, United States
CATEGORIES:Volunteer Opportunities
END:VEVENT
BEGIN:VEVENT
DTSTART;TZID=America/Chicago:20170109T180000
DTEND;TZID=America/Chicago:20170109T190000
DTSTAMP:20260425T072943
CREATED:20160721T204804Z
LAST-MODIFIED:20160721T204804Z
UID:3669-1483984800-1483988400@seniorjuniorforum.com
SUMMARY:Red River Wine & Beer Festival committee meeting (Ways & Means)
DESCRIPTION:contact Karol Gilbert or Liz Wathen for more information
URL:https://seniorjuniorforum.com/event/red-river-wine-beer-festival-committee-meeting-ways-means-10/
LOCATION:Senior Junior Forum Room\, 2120 Speedway\, Wichita Falls\, TX\, 76308\, United States
CATEGORIES:Meetings
END:VEVENT
BEGIN:VEVENT
DTSTART;TZID=America/Chicago:20170103T183000
DTEND;TZID=America/Chicago:20170103T203000
DTSTAMP:20260425T072943
CREATED:20160721T201647Z
LAST-MODIFIED:20170102T183742Z
UID:3645-1483468200-1483475400@seniorjuniorforum.com
SUMMARY:General Meeting - Chit\, Chat & Chew
DESCRIPTION:Bring your favorite salad or dessert to accompany soups and casseroles brought by the board members. \nProgram: Women’s Issues & Community Services” – Mary Brasher & Kathleen Brown \nSpecial Guests: Debbie Berend & Susan Phillips \nHostesses:  Carly McGhee\, Lindsay Morton\, Vicky Payne & Brenna Pohlod \nItems for Hours: Travel size shampoos\, deodorants\, toothpastes\, toothbrushes\, soap\, diapers & wipes for First Step
URL:https://seniorjuniorforum.com/event/general-meeting-chit-chat-chew/
LOCATION:The Forum Garden Room\, 2120 Speedway\, Wichita Falls\, TX\, 76308\, United States
CATEGORIES:Meetings
END:VEVENT
BEGIN:VEVENT
DTSTART;TZID=America/Chicago:20161219T180000
DTEND;TZID=America/Chicago:20161219T190000
DTSTAMP:20260425T072943
CREATED:20160721T203219Z
LAST-MODIFIED:20160721T203219Z
UID:3655-1482170400-1482174000@seniorjuniorforum.com
SUMMARY:Executive Board Meeting
DESCRIPTION:contact Tracy Barrells for more information
URL:https://seniorjuniorforum.com/event/executive-board-meeting-8/
LOCATION:Senior Junior Forum Room\, 2120 Speedway\, Wichita Falls\, TX\, 76308\, United States
CATEGORIES:Meetings
END:VEVENT
BEGIN:VEVENT
DTSTART;TZID=America/Chicago:20161213T183000
DTEND;TZID=America/Chicago:20161213T203000
DTSTAMP:20260425T072943
CREATED:20160721T201242Z
LAST-MODIFIED:20161116T201738Z
UID:3644-1481653800-1481661000@seniorjuniorforum.com
SUMMARY:President's Dinner & General Meeting
DESCRIPTION:Click here to view invitation presidents-dinner-2016 \nSpecial Guests: Cathy Aune & Kathy Tegtmeyer \nHostesses:  Susan Bailey\, Kay Sabine\, Stephanie Kramer\, Roma Martin & Sharon McCluskey \nItems for Hours: $5 donation for service organizations parties & goodie bags \n 
URL:https://seniorjuniorforum.com/event/presidents-dinner-general-meeting/
LOCATION:The Forum Auditorium\, 2120 Speedway\, Wichita Falls\, TX\, 76308\, United States
CATEGORIES:Meetings
END:VEVENT
BEGIN:VEVENT
DTSTART;TZID=America/Chicago:20161212T180000
DTEND;TZID=America/Chicago:20161212T190000
DTSTAMP:20260425T072943
CREATED:20160721T204655Z
LAST-MODIFIED:20160721T205232Z
UID:3668-1481565600-1481569200@seniorjuniorforum.com
SUMMARY:Red River Wine & Beer Festival committee meeting (Ways & Means)
DESCRIPTION:contact Karol Gilbert or Liz Wathen for more information
URL:https://seniorjuniorforum.com/event/red-river-wine-beer-festival-ways-means/
LOCATION:Senior Junior Forum Room\, 2120 Speedway\, Wichita Falls\, TX\, 76308\, United States
CATEGORIES:Meetings
END:VEVENT
BEGIN:VEVENT
DTSTART;TZID=America/Chicago:20161211T133000
DTEND;TZID=America/Chicago:20161211T180000
DTSTAMP:20260425T072943
CREATED:20161027T214851Z
LAST-MODIFIED:20161123T211514Z
UID:3768-1481463000-1481479200@seniorjuniorforum.com
SUMMARY:Special Olympics Bowling Competition
DESCRIPTION:contact Susan Phillips for more information
URL:https://seniorjuniorforum.com/event/special-olympics-bowling-competition/
LOCATION:Village Bowl\, 4022 1/2 Kemp Blvd\, Wichita Falls\, 76308\, United States
CATEGORIES:Volunteer Opportunities
END:VEVENT
BEGIN:VEVENT
DTSTART;TZID=America/Chicago:20161206T110000
DTEND;TZID=America/Chicago:20161206T200000
DTSTAMP:20260425T072943
CREATED:20161011T141731Z
LAST-MODIFIED:20161011T141731Z
UID:3743-1481022000-1481054400@seniorjuniorforum.com
SUMMARY:37th Annual Woman's Forum Christmas Tour of Homes
DESCRIPTION:
URL:https://seniorjuniorforum.com/event/37th-annual-womans-forum-christmas-tour-of-homes/
LOCATION:TX
END:VEVENT
BEGIN:VEVENT
DTSTART;TZID=America/Chicago:20161121T180000
DTEND;TZID=America/Chicago:20161121T190000
DTSTAMP:20260425T072943
CREATED:20160721T203121Z
LAST-MODIFIED:20160721T203121Z
UID:3654-1479751200-1479754800@seniorjuniorforum.com
SUMMARY:Executive Board Meeting
DESCRIPTION:contact Tracy Barrells for more information
URL:https://seniorjuniorforum.com/event/executive-board-meeting-7/
LOCATION:Senior Junior Forum Room\, 2120 Speedway\, Wichita Falls\, TX\, 76308\, United States
CATEGORIES:Meetings
END:VEVENT
BEGIN:VEVENT
DTSTART;TZID=America/Chicago:20161117T100000
DTEND;TZID=America/Chicago:20161117T130000
DTSTAMP:20260425T072943
CREATED:20160927T154515Z
LAST-MODIFIED:20161027T214548Z
UID:3738-1479376800-1479387600@seniorjuniorforum.com
SUMMARY:The Kitchen - Thanksgiving Luncheon
DESCRIPTION:contact Susan Phillips for more information
URL:https://seniorjuniorforum.com/event/the-kitchen-thanksgiving-party/
LOCATION:TX
CATEGORIES:Volunteer Opportunities
END:VEVENT
BEGIN:VEVENT
DTSTART;TZID=America/Chicago:20161116T090000
DTEND;TZID=America/Chicago:20161116T110000
DTSTAMP:20260425T072943
CREATED:20160927T154424Z
LAST-MODIFIED:20161027T214617Z
UID:3737-1479286800-1479294000@seniorjuniorforum.com
SUMMARY:Beacon Lighthouse - Thanksgiving & Birthday treats
DESCRIPTION:contact Susan Phillips for more information
URL:https://seniorjuniorforum.com/event/beacon-lighthouse-thanksgivingbirthday-treats/
LOCATION:Beacon Lighthouse\, 300 7th St\, Wichita Falls\, TX\, 76301\, United States
CATEGORIES:Volunteer Opportunities
END:VEVENT
BEGIN:VEVENT
DTSTART;TZID=America/Chicago:20161114T180000
DTEND;TZID=America/Chicago:20161114T190000
DTSTAMP:20260425T072943
CREATED:20160721T204414Z
LAST-MODIFIED:20160721T204414Z
UID:3666-1479146400-1479150000@seniorjuniorforum.com
SUMMARY:Red River Wine & Beer Festival committee meeting (Ways & Means)
DESCRIPTION:contact Karol Gilbert or Liz Wathen for more information
URL:https://seniorjuniorforum.com/event/red-river-wine-beer-festival-committee-meeting-ways-means-9/
LOCATION:Senior Junior Forum Room\, 2120 Speedway\, Wichita Falls\, TX\, 76308\, United States
CATEGORIES:Meetings
END:VEVENT
BEGIN:VEVENT
DTSTART;TZID=America/Chicago:20161114T173000
DTEND;TZID=America/Chicago:20161114T180000
DTSTAMP:20260425T072943
CREATED:20160721T204315Z
LAST-MODIFIED:20160721T204315Z
UID:3665-1479144600-1479146400@seniorjuniorforum.com
SUMMARY:Christmas Tour of Homes committee meeting
DESCRIPTION:contact Durleen Van Winkle or LaNell Kruger for more information
URL:https://seniorjuniorforum.com/event/christmas-tour-of-homes-committee-meeting-4/
LOCATION:Senior Junior Forum Room\, 2120 Speedway\, Wichita Falls\, TX\, 76308\, United States
CATEGORIES:Meetings
END:VEVENT
BEGIN:VEVENT
DTSTART;TZID=America/Chicago:20161107T173000
DTEND;TZID=America/Chicago:20161107T183000
DTSTAMP:20260425T072943
CREATED:20161025T190506Z
LAST-MODIFIED:20161025T190506Z
UID:3763-1478539800-1478543400@seniorjuniorforum.com
SUMMARY:Parliamentary Committee Meeting
DESCRIPTION:Contact Kathy Tegtmeyer for more information
URL:https://seniorjuniorforum.com/event/parliamentary-committee-meeting/
LOCATION:Senior Junior Forum Room\, 2120 Speedway\, Wichita Falls\, TX\, 76308\, United States
CATEGORIES:Meetings
END:VEVENT
BEGIN:VEVENT
DTSTART;TZID=America/Chicago:20161105T130000
DTEND;TZID=America/Chicago:20161105T170000
DTSTAMP:20260425T072943
CREATED:20160721T211058Z
LAST-MODIFIED:20161003T142319Z
UID:3679-1478350800-1478365200@seniorjuniorforum.com
SUMMARY:Blue Ostrich Winery Social
DESCRIPTION:Click here for more information: Nov. Social at Blue Ostrich WInery \nHostesses: Teressa Stephenson\, Toni Cowardin & Jackie Jones
URL:https://seniorjuniorforum.com/event/blue-ostrich-winery-social/
LOCATION:Blue Ostrich Winery\, 5611 FM2382\, Saint Jo\, TX\, United States
CATEGORIES:Socials
END:VEVENT
BEGIN:VEVENT
DTSTART;TZID=America/Chicago:20161101T190000
DTEND;TZID=America/Chicago:20161101T203000
DTSTAMP:20260425T072943
CREATED:20160721T200953Z
LAST-MODIFIED:20161024T211838Z
UID:3643-1478026800-1478032200@seniorjuniorforum.com
SUMMARY:General Meeting
DESCRIPTION:  \nProgram:  John Ingle\, Times Record News; Henry Florsheim\, CEO\, Chamber of Commerce & Dave Lilly\, Trinity Hughes     Developers \nHostesses:  Kathleen Brown & Jackie Jones – \nItems for Hours: Individual packages of dried fruit\, hard candy & crackers for The Kitchen Christmas goody bags
URL:https://seniorjuniorforum.com/event/general-meeting-7/
LOCATION:The Forum Garden Room\, 2120 Speedway\, Wichita Falls\, TX\, 76308\, United States
CATEGORIES:Meetings
END:VEVENT
BEGIN:VEVENT
DTSTART;TZID=America/Chicago:20161027T180000
DTEND;TZID=America/Chicago:20161027T193000
DTSTAMP:20260425T072943
CREATED:20160925T171403Z
LAST-MODIFIED:20160925T171403Z
UID:3725-1477591200-1477596600@seniorjuniorforum.com
SUMMARY:First Step Candlelight Vigil
DESCRIPTION:contact Susan Phillips for more details
URL:https://seniorjuniorforum.com/event/first-step-candlelight-vigil/
LOCATION:Cosmetic Laser Center\, 2611 Harrison\, Suite 700\, Wichita Falls\, TX\, 76308\, United States
CATEGORIES:Volunteer Opportunities
END:VEVENT
BEGIN:VEVENT
DTSTART;TZID=America/Chicago:20161026T080000
DTEND;TZID=America/Chicago:20161026T100000
DTSTAMP:20260425T072943
CREATED:20160721T213319Z
LAST-MODIFIED:20160721T213319Z
UID:3686-1477468800-1477476000@seniorjuniorforum.com
SUMMARY:Beacon Lighthouse - treats
DESCRIPTION:bake & take treats to the Beacon for their Halloween party \ncontact Susan Phillips for more information
URL:https://seniorjuniorforum.com/event/beacon-lighthouse-treats/
LOCATION:Beacon Lighthouse\, 300 7th St\, Wichita Falls\, TX\, 76301\, United States
CATEGORIES:Volunteer Opportunities
END:VEVENT
BEGIN:VEVENT
DTSTART;TZID=America/Chicago:20161022T090000
DTEND;TZID=America/Chicago:20161022T120000
DTSTAMP:20260425T072943
CREATED:20161017T200337Z
LAST-MODIFIED:20161017T200337Z
UID:3747-1477126800-1477137600@seniorjuniorforum.com
SUMMARY:Kemp Center Mystery Arts (clean & organize)
DESCRIPTION:contact Susan Phillips for more information
URL:https://seniorjuniorforum.com/event/kemp-center-mystery-arts-clean-organize/
LOCATION:The Kemp Center\, 1300 Lamar Street\, Wichita Falls\, TX\, 76301\, United States
CATEGORIES:Volunteer Opportunities
END:VEVENT
END:VCALENDAR