BEGIN:VCALENDAR
VERSION:2.0
PRODID:-//Senior Junior Forum - ECPv6.14.0//NONSGML v1.0//EN
CALSCALE:GREGORIAN
METHOD:PUBLISH
X-WR-CALNAME:Senior Junior Forum
X-ORIGINAL-URL:https://seniorjuniorforum.com
X-WR-CALDESC:Events for Senior Junior Forum
REFRESH-INTERVAL;VALUE=DURATION:PT1H
X-Robots-Tag:noindex
X-PUBLISHED-TTL:PT1H
BEGIN:VTIMEZONE
TZID:America/Chicago
BEGIN:DAYLIGHT
TZOFFSETFROM:-0600
TZOFFSETTO:-0500
TZNAME:CDT
DTSTART:20170312T080000
END:DAYLIGHT
BEGIN:STANDARD
TZOFFSETFROM:-0500
TZOFFSETTO:-0600
TZNAME:CST
DTSTART:20171105T070000
END:STANDARD
END:VTIMEZONE
BEGIN:VEVENT
DTSTART;TZID=America/Chicago:20170607T110000
DTEND;TZID=America/Chicago:20170607T140000
DTSTAMP:20260422T223124
CREATED:20170605T204058Z
LAST-MODIFIED:20170605T204058Z
UID:3916-1496833200-1496844000@seniorjuniorforum.com
SUMMARY:Beacon Lighthouse Awards Luncheon
DESCRIPTION:contact Susan Phillips for more information
URL:https://seniorjuniorforum.com/event/beacon-lighthouse-awards-luncheon/
LOCATION:Luby’s Cafeteria\, 1801 9th St.\, Wichiat Falls\, TX\, 76301\, United States
CATEGORIES:Volunteer Opportunities
END:VEVENT
BEGIN:VEVENT
DTSTART;TZID=America/Chicago:20170606T180000
DTEND;TZID=America/Chicago:20170606T200000
DTSTAMP:20260422T223124
CREATED:20170522T153831Z
LAST-MODIFIED:20170522T153831Z
UID:3883-1496772000-1496779200@seniorjuniorforum.com
SUMMARY:2017-18 Novice Training
DESCRIPTION:17-18 Novices will learn about the SJF service organizations and learn more about Senior-Junior Forum. \nPlease contact Amber Meadows for more information.
URL:https://seniorjuniorforum.com/event/2017-18-novice-training/
LOCATION:Fuzzy’s Taco Shop\, 2611 Plaza Parkway\, Wichita Falls\, TX\, 76308\, United States
CATEGORIES:Meetings
END:VEVENT
BEGIN:VEVENT
DTSTART;TZID=America/Chicago:20170522T180000
DTEND;TZID=America/Chicago:20170522T190000
DTSTAMP:20260422T223124
CREATED:20170501T193131Z
LAST-MODIFIED:20170501T193131Z
UID:3859-1495476000-1495479600@seniorjuniorforum.com
SUMMARY:Audit Committee Meeting
DESCRIPTION:contact Rae Paris for more information
URL:https://seniorjuniorforum.com/event/audit-committee-meeting-2/
LOCATION:Senior Junior Forum Room\, 2120 Speedway\, Wichita Falls\, TX\, 76308\, United States
CATEGORIES:Meetings
END:VEVENT
BEGIN:VEVENT
DTSTART;TZID=America/Chicago:20170515T173000
DTEND;TZID=America/Chicago:20170515T190000
DTSTAMP:20260422T223124
CREATED:20160721T203725Z
LAST-MODIFIED:20170419T154840Z
UID:3660-1494869400-1494874800@seniorjuniorforum.com
SUMMARY:Transitional Executive Board Meeting
DESCRIPTION:contact Tracy Barrells for more information \n 
URL:https://seniorjuniorforum.com/event/transitional-executive-board-meeting/
LOCATION:Senior Junior Forum Room\, 2120 Speedway\, Wichita Falls\, TX\, 76308\, United States
CATEGORIES:Meetings
END:VEVENT
BEGIN:VEVENT
DTSTART;TZID=America/Chicago:20170502T183000
DTEND;TZID=America/Chicago:20170502T203000
DTSTAMP:20260422T223124
CREATED:20160721T202408Z
LAST-MODIFIED:20160804T214830Z
UID:3649-1493749800-1493757000@seniorjuniorforum.com
SUMMARY:Installation & Awards Banquet
DESCRIPTION:  \nHostesses:  Maureen Laukhuf\, Toni Cowardin\, Shelly Hutchins\, Jackie Jones & Jamie Trumpf
URL:https://seniorjuniorforum.com/event/installation-awards-banquet-2/
LOCATION:The Forum Auditorium\, 2120 Speedway\, Wichita Falls\, TX\, 76308\, United States
CATEGORIES:Meetings
END:VEVENT
BEGIN:VEVENT
DTSTART;TZID=America/Chicago:20170428T173000
DTEND;TZID=America/Chicago:20170428T220000
DTSTAMP:20260422T223124
CREATED:20170313T153742Z
LAST-MODIFIED:20170313T154100Z
UID:3835-1493400600-1493416800@seniorjuniorforum.com
SUMMARY:Steak Dinner & Concert Social
DESCRIPTION:click here to view more information  April 28\, 2017 SOCIAL
URL:https://seniorjuniorforum.com/event/steak-dinner-concert-social/
LOCATION:The Forum Auditorium\, 2120 Speedway\, Wichita Falls\, TX\, 76308\, United States
CATEGORIES:Socials
END:VEVENT
BEGIN:VEVENT
DTSTART;TZID=America/Chicago:20170428T100000
DTEND;TZID=America/Chicago:20170430T160000
DTSTAMP:20260422T223124
CREATED:20170329T214309Z
LAST-MODIFIED:20170329T214309Z
UID:3847-1493373600-1493568000@seniorjuniorforum.com
SUMMARY:Faith Refuge Decorator House
DESCRIPTION:contact Susan Phillips for more information
URL:https://seniorjuniorforum.com/event/faith-refuge-decorator-house/
LOCATION:Cosmetic Laser Center\, 2611 Harrison\, Suite 700\, Wichita Falls\, TX\, 76308\, United States
CATEGORIES:Volunteer Opportunities
END:VEVENT
BEGIN:VEVENT
DTSTART;TZID=America/Chicago:20170424T180000
DTEND;TZID=America/Chicago:20170424T190000
DTSTAMP:20260422T223124
CREATED:20170410T202501Z
LAST-MODIFIED:20170410T202501Z
UID:3855-1493056800-1493060400@seniorjuniorforum.com
SUMMARY:Parliamentary Committee meeting
DESCRIPTION:contact Kathy Tegtmeyer for more information
URL:https://seniorjuniorforum.com/event/parliamentary-committee-meeting-2/
LOCATION:Senior Junior Forum Room\, 2120 Speedway\, Wichita Falls\, TX\, 76308\, United States
CATEGORIES:Meetings
END:VEVENT
BEGIN:VEVENT
DTSTART;TZID=America/Chicago:20170422T080000
DTEND;TZID=America/Chicago:20170422T170000
DTSTAMP:20260422T223124
CREATED:20170329T214156Z
LAST-MODIFIED:20170329T214156Z
UID:3845-1492848000-1492880400@seniorjuniorforum.com
SUMMARY:Special Olympics - Track & Field Event
DESCRIPTION:contact Susan Phillips for more information
URL:https://seniorjuniorforum.com/event/special-olympics-track-field-event/
LOCATION:Iowa Park High School Track\, 1513 Bob Dawson Dr.\, Iowa Park \, TX\, United States
CATEGORIES:Volunteer Opportunities
END:VEVENT
BEGIN:VEVENT
DTSTART;TZID=America/Chicago:20170418T180000
DTEND;TZID=America/Chicago:20170418T190000
DTSTAMP:20260422T223124
CREATED:20170406T215450Z
LAST-MODIFIED:20170406T215450Z
UID:3852-1492538400-1492542000@seniorjuniorforum.com
SUMMARY:Scholarship Committee Meeting
DESCRIPTION:contact Debi Ballard for more information
URL:https://seniorjuniorforum.com/event/scholarship-committee-meeting-2/
LOCATION:Senior Junior Forum Room\, 2120 Speedway\, Wichita Falls\, TX\, 76308\, United States
CATEGORIES:Meetings
END:VEVENT
BEGIN:VEVENT
DTSTART;TZID=America/Chicago:20170417T180000
DTEND;TZID=America/Chicago:20170417T190000
DTSTAMP:20260422T223124
CREATED:20160721T203613Z
LAST-MODIFIED:20160721T203613Z
UID:3659-1492452000-1492455600@seniorjuniorforum.com
SUMMARY:Executive Board Meeting
DESCRIPTION:contact Tracy Barrells for more information
URL:https://seniorjuniorforum.com/event/executive-board-meeting-12/
LOCATION:Senior Junior Forum Room\, 2120 Speedway\, Wichita Falls\, TX\, 76308\, United States
CATEGORIES:Meetings
END:VEVENT
BEGIN:VEVENT
DTSTART;TZID=America/Chicago:20170412T080000
DTEND;TZID=America/Chicago:20170412T100000
DTSTAMP:20260422T223124
CREATED:20170329T214051Z
LAST-MODIFIED:20170329T214051Z
UID:3843-1491984000-1491991200@seniorjuniorforum.com
SUMMARY:Beacon Lighthouse Birthday Treats
DESCRIPTION:contact Susan Phillips for more information
URL:https://seniorjuniorforum.com/event/beacon-lighthouse-birthday-treats-2/
LOCATION:Beacon Lighthouse\, 300 7th St\, Wichita Falls\, TX\, 76301\, United States
CATEGORIES:Volunteer Opportunities
END:VEVENT
BEGIN:VEVENT
DTSTART;TZID=America/Chicago:20170411T183000
DTEND;TZID=America/Chicago:20170411T200000
DTSTAMP:20260422T223124
CREATED:20170329T214543Z
LAST-MODIFIED:20170329T214543Z
UID:3849-1491935400-1491940800@seniorjuniorforum.com
SUMMARY:2017-18 Novice Tea
DESCRIPTION:Contact Amber Meadows or Lesa Reimers for more information
URL:https://seniorjuniorforum.com/event/2017-18-novice-tea/
LOCATION:Senior Junior Forum Room\, 2120 Speedway\, Wichita Falls\, TX\, 76308\, United States
CATEGORIES:Meetings
END:VEVENT
BEGIN:VEVENT
DTSTART;TZID=America/Chicago:20170410T180000
DTEND;TZID=America/Chicago:20170410T190000
DTSTAMP:20260422T223124
CREATED:20170329T213918Z
LAST-MODIFIED:20170329T213918Z
UID:3841-1491847200-1491850800@seniorjuniorforum.com
SUMMARY:Red River Wine & Beer Festival Committee Wrap-up Meeting
DESCRIPTION:contact Karol Gilbert & Liz Wathen for more information
URL:https://seniorjuniorforum.com/event/red-river-wine-beer-festival-committee-wrap-up-meeting-2/
LOCATION:Senior Junior Forum Room\, 2120 Speedway\, Wichita Falls\, TX\, 76308\, United States
CATEGORIES:Meetings
END:VEVENT
BEGIN:VEVENT
DTSTART;TZID=America/Chicago:20170404T190000
DTEND;TZID=America/Chicago:20170404T203000
DTSTAMP:20260422T223124
CREATED:20160721T202236Z
LAST-MODIFIED:20161111T211504Z
UID:3648-1491332400-1491337800@seniorjuniorforum.com
SUMMARY:General Meeting
DESCRIPTION:Special Guests: Loisanne Neal & Sue Bartlett \nProgram: “Big Brothers Big Sisters” \nHostesses:  Vicky Payne & Kathleen Brown – \nItems for Hours: unfrozen freezer pops\, individually wrapped snack cakes\, crackers\, cookies for The Kemp kids camps
URL:https://seniorjuniorforum.com/event/general-meeting-10/
LOCATION:The Forum Garden Room\, 2120 Speedway\, Wichita Falls\, TX\, 76308\, United States
CATEGORIES:Meetings
END:VEVENT
BEGIN:VEVENT
DTSTART;TZID=America/Chicago:20170331T170000
DTEND;TZID=America/Chicago:20170401T210000
DTSTAMP:20260422T223124
CREATED:20170303T193927Z
LAST-MODIFIED:20170303T193927Z
UID:3831-1490979600-1491080400@seniorjuniorforum.com
SUMMARY:The Forum - Cowboy True
DESCRIPTION:contact Susan Phillips for more information
URL:https://seniorjuniorforum.com/event/the-forum-cowboy-true/
LOCATION:J S Bridwell Ag Center\, 111 N. Burnett\, Wichita Falls\, TX\, United States
CATEGORIES:Volunteer Opportunities
END:VEVENT
BEGIN:VEVENT
DTSTART;TZID=America/Chicago:20170325T180000
DTEND;TZID=America/Chicago:20170325T220000
DTSTAMP:20260422T223124
CREATED:20160721T205507Z
LAST-MODIFIED:20161209T221916Z
UID:3672-1490464800-1490479200@seniorjuniorforum.com
SUMMARY:13th Annual Red River Wine & Beer Festival
DESCRIPTION:
URL:https://seniorjuniorforum.com/event/13th-annual-red-river-wine-beer-festival/
LOCATION:J S Bridwell Ag Center\, 111 N. Burnett\, Wichita Falls\, TX\, United States
CATEGORIES:Fundraiser
END:VEVENT
BEGIN:VEVENT
DTSTART;TZID=America/Chicago:20170320T180000
DTEND;TZID=America/Chicago:20170320T190000
DTSTAMP:20260422T223124
CREATED:20160721T203518Z
LAST-MODIFIED:20160721T203518Z
UID:3658-1490032800-1490036400@seniorjuniorforum.com
SUMMARY:Executive Board Meeting
DESCRIPTION:contact Tracy Barrells for more information
URL:https://seniorjuniorforum.com/event/executive-board-meeting-11/
LOCATION:Senior Junior Forum Room\, 2120 Speedway\, Wichita Falls\, TX\, 76308\, United States
CATEGORIES:Meetings
END:VEVENT
BEGIN:VEVENT
DTSTART;TZID=America/Chicago:20170313T180000
DTEND;TZID=America/Chicago:20170313T193000
DTSTAMP:20260422T223124
CREATED:20160721T205044Z
LAST-MODIFIED:20160721T205044Z
UID:3671-1489428000-1489433400@seniorjuniorforum.com
SUMMARY:Red River Wine & Beer Festival committee meeting (Ways & Means)
DESCRIPTION:contact Karol Gilbert or Liz Wathen for more information
URL:https://seniorjuniorforum.com/event/red-river-wine-beer-festival-committee-meeting-ways-means-11/
LOCATION:Senior Junior Forum Room\, 2120 Speedway\, Wichita Falls\, TX\, 76308\, United States
CATEGORIES:Meetings
END:VEVENT
BEGIN:VEVENT
DTSTART;TZID=America/Chicago:20170307T190000
DTEND;TZID=America/Chicago:20170307T203000
DTSTAMP:20260422T223124
CREATED:20160721T202040Z
LAST-MODIFIED:20161111T211623Z
UID:3647-1488913200-1488918600@seniorjuniorforum.com
SUMMARY:General Meeting
DESCRIPTION:Program:  “Red River Wine & Beer Festival” \nSpecial Guests:  Annette Ritchie & Diane Dockery \nHostesses:  Tamara Barfield & Lesa Reimers \nItems for Hours:  2 bags Easter candy for Faith Refuge\, First Step & Beacon Lighthouse parties
URL:https://seniorjuniorforum.com/event/general-meeting-9/
LOCATION:The Forum Garden Room\, 2120 Speedway\, Wichita Falls\, TX\, 76308\, United States
CATEGORIES:Meetings
END:VEVENT
BEGIN:VEVENT
DTSTART;TZID=America/Chicago:20170304T110000
DTEND;TZID=America/Chicago:20170304T150000
DTSTAMP:20260422T223124
CREATED:20170303T193733Z
LAST-MODIFIED:20170303T193733Z
UID:3828-1488625200-1488639600@seniorjuniorforum.com
SUMMARY:Special Olympics Flag Football
DESCRIPTION:contact Susan Phillips for more information
URL:https://seniorjuniorforum.com/event/special-olympics-flag-football/
LOCATION:Kay Yeager Coliseum\, 1000 5th St.\, Wichita Falls\, TX\, 76301\, United States
CATEGORIES:Volunteer Opportunities
END:VEVENT
BEGIN:VEVENT
DTSTART;TZID=America/Chicago:20170228T160000
DTEND;TZID=America/Chicago:20170228T210000
DTSTAMP:20260422T223124
CREATED:20170116T170945Z
LAST-MODIFIED:20170116T171029Z
UID:3810-1488297600-1488315600@seniorjuniorforum.com
SUMMARY:Chili's Senior-Junior Forum "Give Back Night"
DESCRIPTION:click here for more details Chili’s Give Back Event Flyer
URL:https://seniorjuniorforum.com/event/chilis-senior-junior-forum-give-back-night/
LOCATION:Chili’s\, 3710 Call Field Rd\, Wichita Falls\, 76308\, United States
CATEGORIES:Fundraiser
END:VEVENT
BEGIN:VEVENT
DTSTART;TZID=America/Chicago:20170225T090000
DTEND;TZID=America/Chicago:20170226T170000
DTSTAMP:20260422T223124
CREATED:20170116T171833Z
LAST-MODIFIED:20170130T163751Z
UID:3814-1488013200-1488128400@seniorjuniorforum.com
SUMMARY:Kemp Center Home & Garden Show
DESCRIPTION:contact Susan Phillips to volunteer
URL:https://seniorjuniorforum.com/event/kemp-center-home-garden-show/
LOCATION:MPEC\, 900 5th St.\, Wichita Falls\, TX\, United States
CATEGORIES:Volunteer Opportunities
END:VEVENT
BEGIN:VEVENT
DTSTART;TZID=America/Chicago:20170225T080000
DTEND;TZID=America/Chicago:20170225T170000
DTSTAMP:20260422T223124
CREATED:20170217T211835Z
LAST-MODIFIED:20170217T211835Z
UID:3824-1488009600-1488042000@seniorjuniorforum.com
SUMMARY:Special Olympics Basketball
DESCRIPTION:contact Susan Phillips for more information
URL:https://seniorjuniorforum.com/event/special-olympics-basketball-2/
LOCATION:Graham High School\, 1000 Brazos St.\, Graham\, TX\, United States
CATEGORIES:Volunteer Opportunities
END:VEVENT
BEGIN:VEVENT
DTSTART;TZID=America/Chicago:20170220T180000
DTEND;TZID=America/Chicago:20170220T190000
DTSTAMP:20260422T223124
CREATED:20160721T203422Z
LAST-MODIFIED:20160721T203422Z
UID:3657-1487613600-1487617200@seniorjuniorforum.com
SUMMARY:Executive Board Meeting
DESCRIPTION:contact Tracy Barrells for more information \n 
URL:https://seniorjuniorforum.com/event/executive-board-meeting-10/
LOCATION:Senior Junior Forum Room\, 2120 Speedway\, Wichita Falls\, TX\, 76308\, United States
CATEGORIES:Meetings
END:VEVENT
BEGIN:VEVENT
DTSTART;TZID=America/Chicago:20170218T170000
DTEND;TZID=America/Chicago:20170218T210000
DTSTAMP:20260422T223124
CREATED:20161024T212743Z
LAST-MODIFIED:20170127T152631Z
UID:3759-1487437200-1487451600@seniorjuniorforum.com
SUMMARY:Wine & Cheese & Pizza Social
DESCRIPTION:  \nHostesses:  Delores Culley; Tagan Couch; Kathleen Brown; Lindsay Morton & Brenna Pohlod
URL:https://seniorjuniorforum.com/event/wine-cheese-pizza-social/
LOCATION:Gypsy Uncorked\, 3115 Kemp\, Wichita Falls\, Texas\, 76308
CATEGORIES:Socials
END:VEVENT
BEGIN:VEVENT
DTSTART;TZID=America/Chicago:20170213T180000
DTEND;TZID=America/Chicago:20170213T190000
DTSTAMP:20260422T223124
CREATED:20160721T204934Z
LAST-MODIFIED:20160721T204934Z
UID:3670-1487008800-1487012400@seniorjuniorforum.com
SUMMARY:Red River Wine Festival committee meeting (Ways & Means)
DESCRIPTION:contact Karol Gilbert or Liz Wathen for more information
URL:https://seniorjuniorforum.com/event/red-river-wine-festival-committee-meeting-ways-means/
LOCATION:Senior Junior Forum Room\, 2120 Speedway\, Wichita Falls\, TX\, 76308\, United States
CATEGORIES:Meetings
END:VEVENT
BEGIN:VEVENT
DTSTART;TZID=America/Chicago:20170207T190000
DTEND;TZID=America/Chicago:20170207T203000
DTSTAMP:20260422T223124
CREATED:20160721T201834Z
LAST-MODIFIED:20170130T163850Z
UID:3646-1486494000-1486499400@seniorjuniorforum.com
SUMMARY:General Meeting
DESCRIPTION:Special Guests: Pam Glendening & Vicki Tigert \nHostesses:  Jamie Trumpf & Teresa Austin – \nItems for Hours: 2 bags valentine candy for Faith Refuge\, First Step & Beacon Lighthouse parties \n 
URL:https://seniorjuniorforum.com/event/general-meeting-8/
LOCATION:The Forum Auditorium\, 2120 Speedway\, Wichita Falls\, TX\, 76308\, United States
CATEGORIES:Meetings
END:VEVENT
BEGIN:VEVENT
DTSTART;TZID=America/Chicago:20170128T081500
DTEND;TZID=America/Chicago:20170128T130000
DTSTAMP:20260422T223124
CREATED:20170103T192415Z
LAST-MODIFIED:20170103T192415Z
UID:3807-1485591300-1485608400@seniorjuniorforum.com
SUMMARY:Special Olympics Polar Plunge
DESCRIPTION:contact Susan Phillips for more information
URL:https://seniorjuniorforum.com/event/special-olympics-polar-plunge-2/
LOCATION:TX
CATEGORIES:Volunteer Opportunities
END:VEVENT
BEGIN:VEVENT
DTSTART;TZID=America/Chicago:20170119T180000
DTEND;TZID=America/Chicago:20170119T203000
DTSTAMP:20260422T223124
CREATED:20160804T214523Z
LAST-MODIFIED:20170102T183848Z
UID:3697-1484848800-1484857800@seniorjuniorforum.com
SUMMARY:BUNKO Social
DESCRIPTION:BUNKO at 8th Street Coffee House – click here for more info:January Social \nHostesses: Cami Dean & Carley McGhee
URL:https://seniorjuniorforum.com/event/bunko-social/
LOCATION:8th Street Coffee House\, 710 8th Street\, WIchita Falls\, TX\, 76310\, United States
CATEGORIES:Socials
END:VEVENT
END:VCALENDAR