BEGIN:VCALENDAR
VERSION:2.0
PRODID:-//Senior Junior Forum - ECPv6.14.0//NONSGML v1.0//EN
CALSCALE:GREGORIAN
METHOD:PUBLISH
X-WR-CALNAME:Senior Junior Forum
X-ORIGINAL-URL:https://seniorjuniorforum.com
X-WR-CALDESC:Events for Senior Junior Forum
REFRESH-INTERVAL;VALUE=DURATION:PT1H
X-Robots-Tag:noindex
X-PUBLISHED-TTL:PT1H
BEGIN:VTIMEZONE
TZID:America/Chicago
BEGIN:DAYLIGHT
TZOFFSETFROM:-0600
TZOFFSETTO:-0500
TZNAME:CDT
DTSTART:20170312T080000
END:DAYLIGHT
BEGIN:STANDARD
TZOFFSETFROM:-0500
TZOFFSETTO:-0600
TZNAME:CST
DTSTART:20171105T070000
END:STANDARD
END:VTIMEZONE
BEGIN:VEVENT
DTSTART;TZID=America/Chicago:20171016T180000
DTEND;TZID=America/Chicago:20171016T190000
DTSTAMP:20260422T185741
CREATED:20170802T203220Z
LAST-MODIFIED:20170802T203220Z
UID:3998-1508176800-1508180400@seniorjuniorforum.com
SUMMARY:Executive Board Meeting
DESCRIPTION:contact Mary Brasher for more information
URL:https://seniorjuniorforum.com/event/executive-board-meeting-16/
LOCATION:Senior Junior Forum Room\, 2120 Speedway\, Wichita Falls\, TX\, 76308\, United States
CATEGORIES:Meetings
END:VEVENT
BEGIN:VEVENT
DTSTART;TZID=America/Chicago:20171011T080000
DTEND;TZID=America/Chicago:20171011T170000
DTSTAMP:20260422T185741
CREATED:20170918T154936Z
LAST-MODIFIED:20170918T154936Z
UID:4084-1507708800-1507741200@seniorjuniorforum.com
SUMMARY:Beacon Lighthouse - White Cane Day
DESCRIPTION:contact Susan Phillips for more information
URL:https://seniorjuniorforum.com/event/beacon-lighthouse-white-cane-day/
LOCATION:Beacon Lighthouse\, 300 7th St\, Wichita Falls\, TX\, 76301\, United States
CATEGORIES:Volunteer Opportunities
END:VEVENT
BEGIN:VEVENT
DTSTART;TZID=America/Chicago:20171009T180000
DTEND;TZID=America/Chicago:20171009T190000
DTSTAMP:20260422T185741
CREATED:20170928T215639Z
LAST-MODIFIED:20170928T215639Z
UID:4106-1507572000-1507575600@seniorjuniorforum.com
SUMMARY:Red River Wine & Beer Festival Committee Meeting
DESCRIPTION:contact Liz Wathen or Lesa Reimers for more information
URL:https://seniorjuniorforum.com/event/red-river-wine-beer-festival-committee-meeting-2/
LOCATION:Senior Junior Forum Room\, 2120 Speedway\, Wichita Falls\, TX\, 76308\, United States
CATEGORIES:Meetings
END:VEVENT
BEGIN:VEVENT
DTSTART;TZID=America/Chicago:20171007T090000
DTEND;TZID=America/Chicago:20171007T140000
DTSTAMP:20260422T185741
CREATED:20170918T154744Z
LAST-MODIFIED:20171006T180648Z
UID:4082-1507366800-1507384800@seniorjuniorforum.com
SUMMARY:MSU-Burns Fantasy of Lights - workday
DESCRIPTION:contact Susan Phillips for more information \nenter at entrance #7 of the Forest Green Apartment Complex
URL:https://seniorjuniorforum.com/event/msu-burns-fantasy-of-lights-workday-2/
LOCATION:The Warehouse Workshop\, 5228 Professional Dr.\, Wichita Falls\, TX\, 76302\, United States
CATEGORIES:Volunteer Opportunities
END:VEVENT
BEGIN:VEVENT
DTSTART;TZID=America/Chicago:20171006T190000
DTEND;TZID=America/Chicago:20171006T220000
DTSTAMP:20260422T185741
CREATED:20170809T214653Z
LAST-MODIFIED:20170809T214653Z
UID:4050-1507316400-1507327200@seniorjuniorforum.com
SUMMARY:An Evening of IMPROV
DESCRIPTION:more info at a later date \nHostesses: Christi Kelton\,Gaby Lockhart & Lucy Zamastil \nAdvisors: Melanie Lindsay & Jeanne Petrosian
URL:https://seniorjuniorforum.com/event/an-evening-of-improv/
LOCATION:Backdoor Theatre\, 501 Indiana Ave\, Wichita Falls\, TX\, 76301\, United States
CATEGORIES:Socials
END:VEVENT
BEGIN:VEVENT
DTSTART;TZID=America/Chicago:20171003T190000
DTEND;TZID=America/Chicago:20171003T203000
DTSTAMP:20260422T185741
CREATED:20170625T221122Z
LAST-MODIFIED:20170802T204108Z
UID:3930-1507057200-1507062600@seniorjuniorforum.com
SUMMARY:General Meeting
DESCRIPTION:Program: “Red River Wine & Beer Festival Proceeds presented to service organization” \nSpecial Guests: Vernetha Vaden & Angie Forrester \nHostesses:  Sharron Davis; Amber Gee; Kimberly Hair \nItems for Hours for First Step\, Faith Refuge & Beacon Lighthouse: 2 bags Halloween candy
URL:https://seniorjuniorforum.com/event/general-meeting-12/
LOCATION:The Forum Garden Room\, 2120 Speedway\, Wichita Falls\, TX\, 76308\, United States
CATEGORIES:Meetings
END:VEVENT
BEGIN:VEVENT
DTSTART;TZID=America/Chicago:20170930T080000
DTEND;TZID=America/Chicago:20170930T140000
DTSTAMP:20260422T185741
CREATED:20170802T205518Z
LAST-MODIFIED:20170802T205518Z
UID:4034-1506758400-1506780000@seniorjuniorforum.com
SUMMARY:Special Olympics - Bocce Ball
DESCRIPTION:contact Susan Phillips for  more information
URL:https://seniorjuniorforum.com/event/special-olympics-bocce-ball-2/
LOCATION:Cosmetic Laser Center\, 2611 Harrison\, Suite 700\, Wichita Falls\, TX\, 76308\, United States
CATEGORIES:Volunteer Opportunities
END:VEVENT
BEGIN:VEVENT
DTSTART;TZID=America/Chicago:20170926T180000
DTEND;TZID=America/Chicago:20170926T190000
DTSTAMP:20260422T185741
CREATED:20170918T155242Z
LAST-MODIFIED:20170918T155339Z
UID:4086-1506448800-1506452400@seniorjuniorforum.com
SUMMARY:Christmas Tour of Homes - Committee Meeting
DESCRIPTION:contact Loisanne Neal or Michelle Nelson for more information
URL:https://seniorjuniorforum.com/event/christmas-tour-of-homes-committee-meeting-5/
LOCATION:Jason’s Deli\, 2907 Garnett Ave\, Wichita Falls\, TX\, 76308\, United States
CATEGORIES:Meetings
END:VEVENT
BEGIN:VEVENT
DTSTART;TZID=America/Chicago:20170919T180000
DTEND;TZID=America/Chicago:20170919T203000
DTSTAMP:20260422T185741
CREATED:20170809T213126Z
LAST-MODIFIED:20170824T140848Z
UID:4043-1505844000-1505853000@seniorjuniorforum.com
SUMMARY:Clinkers Painting Class Social
DESCRIPTION:Enjoy painting your choice of wine glass or a coffee mug \nMimosas\, wine & snacks will be included.  Click here for details: SJF Clinkers Social flyer Sept 19 \nHostesses: Connie Joyce\, Lydia McWhorter & Jennifer Pollan \nAdvisors: Chris Estes & Brenna Pohlod \n 
URL:https://seniorjuniorforum.com/event/clinkers-painting-class-social/
LOCATION:little h creative\, 822 Indiana\, Wichita Falls\, TX\, 76301\, United States
CATEGORIES:Socials
END:VEVENT
BEGIN:VEVENT
DTSTART;TZID=America/Chicago:20170918T180000
DTEND;TZID=America/Chicago:20170918T190000
DTSTAMP:20260422T185741
CREATED:20170802T203116Z
LAST-MODIFIED:20170802T203116Z
UID:3996-1505757600-1505761200@seniorjuniorforum.com
SUMMARY:Executive Board Meeting
DESCRIPTION:contact Mary Brasher for more information
URL:https://seniorjuniorforum.com/event/executive-board-meeting-15/
LOCATION:Senior Junior Forum Room\, 2120 Speedway\, Wichita Falls\, TX\, 76308\, United States
CATEGORIES:Meetings
END:VEVENT
BEGIN:VEVENT
DTSTART;TZID=America/Chicago:20170916T083000
DTEND;TZID=America/Chicago:20170916T120000
DTSTAMP:20260422T185741
CREATED:20170824T140442Z
LAST-MODIFIED:20170824T140442Z
UID:4076-1505550600-1505563200@seniorjuniorforum.com
SUMMARY:Special Olympics Fire Truck Pull
DESCRIPTION:contact Susan Phillips for more information
URL:https://seniorjuniorforum.com/event/special-olympics-fire-truck-pull/
LOCATION:Cosmetic Laser Center\, 2611 Harrison\, Suite 700\, Wichita Falls\, TX\, 76308\, United States
CATEGORIES:Volunteer Opportunities
END:VEVENT
BEGIN:VEVENT
DTSTART;TZID=America/Chicago:20170911T180000
DTEND;TZID=America/Chicago:20170911T190000
DTSTAMP:20260422T185741
CREATED:20170724T215325Z
LAST-MODIFIED:20170724T215325Z
UID:3975-1505152800-1505156400@seniorjuniorforum.com
SUMMARY:Red River Wine & Beer Festival Committee Meeting
DESCRIPTION:contact Liz Wathen or Lesa Reimers\, co-chairs for more information
URL:https://seniorjuniorforum.com/event/red-river-wine-beer-festival-committee-meeting/
LOCATION:Senior Junior Forum Room\, 2120 Speedway\, Wichita Falls\, TX\, 76308\, United States
CATEGORIES:Meetings
END:VEVENT
BEGIN:VEVENT
DTSTART;TZID=America/Chicago:20170909T090000
DTEND;TZID=America/Chicago:20170909T170000
DTSTAMP:20260422T185741
CREATED:20170802T205321Z
LAST-MODIFIED:20170802T205321Z
UID:4030-1504947600-1504976400@seniorjuniorforum.com
SUMMARY:The Kemp Center - Stroll & Roll
DESCRIPTION:contact Susan Phillips for more information
URL:https://seniorjuniorforum.com/event/the-kemp-center-stroll-roll/
LOCATION:The Kemp Center\, 1300 Lamar Street\, Wichita Falls\, TX\, 76301\, United States
CATEGORIES:Volunteer Opportunities
END:VEVENT
BEGIN:VEVENT
DTSTART;TZID=America/Chicago:20170909T080000
DTEND;TZID=America/Chicago:20170909T130000
DTSTAMP:20260422T185741
CREATED:20170802T205419Z
LAST-MODIFIED:20170802T205419Z
UID:4032-1504944000-1504962000@seniorjuniorforum.com
SUMMARY:Special Olympics - Softball
DESCRIPTION:contact Susan Phillips for more information
URL:https://seniorjuniorforum.com/event/special-olympics-softball/
LOCATION:Cosmetic Laser Center\, 2611 Harrison\, Suite 700\, Wichita Falls\, TX\, 76308\, United States
CATEGORIES:Volunteer Opportunities
END:VEVENT
BEGIN:VEVENT
DTSTART;TZID=America/Chicago:20170908T080000
DTEND;TZID=America/Chicago:20170908T180000
DTSTAMP:20260422T185741
CREATED:20170802T205219Z
LAST-MODIFIED:20170802T205219Z
UID:4028-1504857600-1504893600@seniorjuniorforum.com
SUMMARY:Beacon Lighthouse Golf Tournament
DESCRIPTION:contact Susan Phillips for more information
URL:https://seniorjuniorforum.com/event/beacon-lighthouse-golf-tournament-2/
LOCATION:Champions Golf Course\, 4401 Lake Park Dr.\, Wichita Falls\, TX\, 76302\, United States
CATEGORIES:Volunteer Opportunities
END:VEVENT
BEGIN:VEVENT
DTSTART;TZID=America/Chicago:20170907T080000
DTEND;TZID=America/Chicago:20170907T170000
DTSTAMP:20260422T185741
CREATED:20170802T204938Z
LAST-MODIFIED:20170802T204938Z
UID:4024-1504771200-1504803600@seniorjuniorforum.com
SUMMARY:The Kitchen "Texoma Gives Back"
DESCRIPTION:contact Susan Phillips for more information
URL:https://seniorjuniorforum.com/event/the-kitchen-texoma-gives-back/
LOCATION:The Kitchen (Senior Citizens Service)\, 1000 Burnett\, Wichita Falls\, TX\, 76301\, United States
CATEGORIES:Volunteer Opportunities
END:VEVENT
BEGIN:VEVENT
DTSTART;TZID=America/Chicago:20170906T180000
DTEND;TZID=America/Chicago:20170906T200000
DTSTAMP:20260422T185741
CREATED:20170802T204847Z
LAST-MODIFIED:20170802T204847Z
UID:4022-1504720800-1504728000@seniorjuniorforum.com
SUMMARY:The Kitchen "Texoma Gives Back" Kickoff party
DESCRIPTION:contact Susan Phillips for more information
URL:https://seniorjuniorforum.com/event/the-kitchen-texoma-gives-back-kickoff-party/
LOCATION:The Kitchen (Senior Citizens Service)\, 1000 Burnett\, Wichita Falls\, TX\, 76301\, United States
CATEGORIES:Volunteer Opportunities
END:VEVENT
BEGIN:VEVENT
DTSTART;TZID=America/Chicago:20170905T183000
DTEND;TZID=America/Chicago:20170905T203000
DTSTAMP:20260422T185741
CREATED:20170625T220934Z
LAST-MODIFIED:20170809T214500Z
UID:3928-1504636200-1504643400@seniorjuniorforum.com
SUMMARY:General Meeting
DESCRIPTION:Mix Munch & Mingle Pot Luck Dinner at 6:30 \nBring your favorite potluck dish (except novices) \nProgram: “Meet the 2017-18 Novices” \nSpecial Guests: Treva Clifton & Tagan Couch \nHostesses:  Stacy Bailey; Samantha Beard; Kelli Blake; Megan Coats; Charlotte Dameron\nItems for Hours for Faith Refuge: diapers & wipes; sanitary products; paper towels; toilet paper
URL:https://seniorjuniorforum.com/event/general-meeting-11/
LOCATION:The Forum Garden Room\, 2120 Speedway\, Wichita Falls\, TX\, 76308\, United States
CATEGORIES:Meetings
END:VEVENT
BEGIN:VEVENT
DTSTART;TZID=America/Chicago:20170828T180000
DTEND;TZID=America/Chicago:20170828T190000
DTSTAMP:20260422T185741
CREATED:20170802T203017Z
LAST-MODIFIED:20170809T212211Z
UID:3994-1503943200-1503946800@seniorjuniorforum.com
SUMMARY:Executive Board Meeting
DESCRIPTION:contact Mary Brasher for more information
URL:https://seniorjuniorforum.com/event/executive-board-meeting-14/
LOCATION:Senior Junior Forum Room\, 2120 Speedway\, Wichita Falls\, TX\, 76308\, United States
CATEGORIES:Meetings
END:VEVENT
BEGIN:VEVENT
DTSTART;TZID=America/Chicago:20170827T114500
DTEND;TZID=America/Chicago:20170827T133000
DTSTAMP:20260422T185741
CREATED:20170824T140152Z
LAST-MODIFIED:20170824T140600Z
UID:4074-1503834300-1503840600@seniorjuniorforum.com
SUMMARY:Special Olympics Hotter 'n Hell Bicycle Races
DESCRIPTION:Come out and cheer on the athletes as they ride.  Contact Susan Phillips for more information
URL:https://seniorjuniorforum.com/event/special-olympics-hotter-n-hell/
LOCATION:MPEC\, 900 5th St.\, Wichita Falls\, TX\, United States
CATEGORIES:Volunteer Opportunities
END:VEVENT
BEGIN:VEVENT
DTSTART;TZID=America/Chicago:20170822T180000
DTEND;TZID=America/Chicago:20170822T203000
DTSTAMP:20260422T185741
CREATED:20170629T211745Z
LAST-MODIFIED:20170809T212505Z
UID:3959-1503424800-1503433800@seniorjuniorforum.com
SUMMARY:Bunco Mixer
DESCRIPTION:Tuesday\, August 22nd in the Club Room of the Forum (eastside parking lot\, separate entrance) \nDoors open at 6:00pm be ready to start playing at 6:30pm. \nLight snacks will be served. \nBring your drink of choice (soda\, tea\, wine\, beer\, etc.)\, water will be furnished \nCost is $5.00 per person.  (used for fabulous cash prizes and light snacks) \nWe will play either 3 games or until 8:30\, whichever comes first! \nTo Reserve your spot contact Debbie Berend by Thursday\, August 17th. (Need to have head count so that we have the correct amount of tables set up and needed supplies) \nThis is open to SJF members only. \n 
URL:https://seniorjuniorforum.com/event/bunco-mixer/
LOCATION:The Forum Club Room (East Entrance)\, 2120 Speedway\, Wichita Falls\, TX\, 76308\, United States
CATEGORIES:Socials
END:VEVENT
BEGIN:VEVENT
DTSTART;TZID=America/Chicago:20170810T183000
DTEND;TZID=America/Chicago:20170810T203000
DTSTAMP:20260422T185741
CREATED:20170628T215729Z
LAST-MODIFIED:20170809T214202Z
UID:3953-1502389800-1502397000@seniorjuniorforum.com
SUMMARY:Live at the Lake Social
DESCRIPTION:The first social of the year will be “Live at the Lake” at Wichita Falls Museum of Art at 6:30pm \nBand: 11th Street Saints    Cost: Free (Gypsy Kit will have food available for purchase or you can bring your own) \nFalls Distributing will have refreshments (free) or you can BYOB. \nBring your lawn chair or blanket.  Enjoy the music and fellowship with other SJF members and guests. \nRSVP by August 8th to Connie Barnhart – Click here for more details Live at the Lake Social 8-10-17 \nHostesses:  Kelli Blake\, Lisa Kipp & Hillary Schaff \nAdvisors: Cathy Aune\, Ginger Beisch & Jill Montz
URL:https://seniorjuniorforum.com/event/live-at-the-lake-social-2/
LOCATION:Wichita Falls Musuem of Art at MSU\, #2 Eureka Circle\, Wichita Falls\, TX\, 76308\, United States
CATEGORIES:Socials
END:VEVENT
BEGIN:VEVENT
DTSTART;TZID=America/Chicago:20170722T090000
DTEND;TZID=America/Chicago:20170722T140000
DTSTAMP:20260422T185741
CREATED:20170619T205859Z
LAST-MODIFIED:20170619T205859Z
UID:3926-1500714000-1500732000@seniorjuniorforum.com
SUMMARY:Special Olympics - "Aquatics"
DESCRIPTION:contact Susan Phillips for more information
URL:https://seniorjuniorforum.com/event/special-olympics-aquatics/
LOCATION:Vernon College Aquatics Center\, 4400 College Drive\, Vernon\, TX\, 76384\, United States
CATEGORIES:Volunteer Opportunities
END:VEVENT
BEGIN:VEVENT
DTSTART;TZID=America/Chicago:20170721T110000
DTEND;TZID=America/Chicago:20170721T123000
DTSTAMP:20260422T185741
CREATED:20170619T205744Z
LAST-MODIFIED:20170706T210431Z
UID:3924-1500634800-1500640200@seniorjuniorforum.com
SUMMARY:UPDATE:  The Kitchen  - "Senior Idol"
DESCRIPTION:contact Susan Phillips for  more information
URL:https://seniorjuniorforum.com/event/the-kitchen-senior-idol/
LOCATION:The Kitchen (Senior Citizens Service)\, 1000 Burnett\, Wichita Falls\, TX\, 76301\, United States
CATEGORIES:Volunteer Opportunities
END:VEVENT
BEGIN:VEVENT
DTSTART;TZID=America/Chicago:20170711T180000
DTEND;TZID=America/Chicago:20170711T190000
DTSTAMP:20260422T185741
CREATED:20170628T215911Z
LAST-MODIFIED:20170628T215911Z
UID:3956-1499796000-1499799600@seniorjuniorforum.com
SUMMARY:2017-18 Outreach Committee Meeting
DESCRIPTION:contact Diane Dockery for more information
URL:https://seniorjuniorforum.com/event/2017-18-outreach-committee-meeting/
LOCATION:Senior Junior Forum Room\, 2120 Speedway\, Wichita Falls\, TX\, 76308\, United States
CATEGORIES:Meetings
END:VEVENT
BEGIN:VEVENT
DTSTART;TZID=America/Chicago:20170626T180000
DTEND;TZID=America/Chicago:20170626T190000
DTSTAMP:20260422T185741
CREATED:20170619T205544Z
LAST-MODIFIED:20170619T205544Z
UID:3922-1498500000-1498503600@seniorjuniorforum.com
SUMMARY:2016-17 Community Service Committee Meeting
DESCRIPTION:contact Susan Phillips for more information
URL:https://seniorjuniorforum.com/event/2016-17-community-service-committee-meeting/
LOCATION:Senior Junior Forum Room\, 2120 Speedway\, Wichita Falls\, TX\, 76308\, United States
CATEGORIES:Meetings
END:VEVENT
BEGIN:VEVENT
DTSTART;TZID=America/Chicago:20170619T180000
DTEND;TZID=America/Chicago:20170619T190000
DTSTAMP:20260422T185741
CREATED:20170522T154119Z
LAST-MODIFIED:20170522T154119Z
UID:3890-1497895200-1497898800@seniorjuniorforum.com
SUMMARY:Executive Board Meeting
DESCRIPTION:contact Mary Brasher for more information
URL:https://seniorjuniorforum.com/event/executive-board-meeting-13/
LOCATION:Senior Junior Forum Room\, 2120 Speedway\, Wichita Falls\, TX\, 76308\, United States
CATEGORIES:Meetings
END:VEVENT
BEGIN:VEVENT
DTSTART;TZID=America/Chicago:20170614T090000
DTEND;TZID=America/Chicago:20170614T100000
DTSTAMP:20260422T185741
CREATED:20170522T155947Z
LAST-MODIFIED:20170522T155947Z
UID:3895-1497430800-1497434400@seniorjuniorforum.com
SUMMARY:Beacon Lighthouse birthday treats
DESCRIPTION:Take homemade baked goods to Beacon Lighthouse \nContact Susan Phillips for more information
URL:https://seniorjuniorforum.com/event/beacon-lighthouse-birthday-treats-3/
LOCATION:Beacon Lighthouse\, 300 7th St\, Wichita Falls\, TX\, 76301\, United States
CATEGORIES:Volunteer Opportunities
END:VEVENT
BEGIN:VEVENT
DTSTART;TZID=America/Chicago:20170613T180000
DTEND;TZID=America/Chicago:20170613T190000
DTSTAMP:20260422T185741
CREATED:20170522T154032Z
LAST-MODIFIED:20170522T154032Z
UID:3888-1497376800-1497380400@seniorjuniorforum.com
SUMMARY:Program Committee Meeting
DESCRIPTION:contact Chris Estes for more information
URL:https://seniorjuniorforum.com/event/program-committee-meeting/
LOCATION:Senior Junior Forum Room\, 2120 Speedway\, Wichita Falls\, TX\, 76308\, United States
CATEGORIES:Meetings
END:VEVENT
BEGIN:VEVENT
DTSTART;TZID=America/Chicago:20170608T180000
DTEND;TZID=America/Chicago:20170608T190000
DTSTAMP:20260422T185741
CREATED:20170522T153935Z
LAST-MODIFIED:20170522T153935Z
UID:3886-1496944800-1496948400@seniorjuniorforum.com
SUMMARY:Social Committee Meeting
DESCRIPTION:contact Connie Barnhart for more information
URL:https://seniorjuniorforum.com/event/social-committee-meeting-2/
LOCATION:Senior Junior Forum Room\, 2120 Speedway\, Wichita Falls\, TX\, 76308\, United States
CATEGORIES:Meetings
END:VEVENT
END:VCALENDAR