BEGIN:VCALENDAR
VERSION:2.0
PRODID:-//Senior Junior Forum - ECPv6.14.0//NONSGML v1.0//EN
CALSCALE:GREGORIAN
METHOD:PUBLISH
X-WR-CALNAME:Senior Junior Forum
X-ORIGINAL-URL:https://seniorjuniorforum.com
X-WR-CALDESC:Events for Senior Junior Forum
REFRESH-INTERVAL;VALUE=DURATION:PT1H
X-Robots-Tag:noindex
X-PUBLISHED-TTL:PT1H
BEGIN:VTIMEZONE
TZID:America/Chicago
BEGIN:DAYLIGHT
TZOFFSETFROM:-0600
TZOFFSETTO:-0500
TZNAME:CDT
DTSTART:20170312T080000
END:DAYLIGHT
BEGIN:STANDARD
TZOFFSETFROM:-0500
TZOFFSETTO:-0600
TZNAME:CST
DTSTART:20171105T070000
END:STANDARD
BEGIN:DAYLIGHT
TZOFFSETFROM:-0600
TZOFFSETTO:-0500
TZNAME:CDT
DTSTART:20180311T080000
END:DAYLIGHT
BEGIN:STANDARD
TZOFFSETFROM:-0500
TZOFFSETTO:-0600
TZNAME:CST
DTSTART:20181104T070000
END:STANDARD
END:VTIMEZONE
BEGIN:VEVENT
DTSTART;TZID=America/Chicago:20180117T080000
DTEND;TZID=America/Chicago:20180117T100000
DTSTAMP:20260422T153359
CREATED:20171221T210020Z
LAST-MODIFIED:20171221T210020Z
UID:4194-1516176000-1516183200@seniorjuniorforum.com
SUMMARY:Beacon Lighthouse birthday  treats
DESCRIPTION:Deliver homemade treats to Beacon Lighthouse \ncontact Susan Phillips for more information
URL:https://seniorjuniorforum.com/event/beacon-lighthouse-birthday-treats-5/
LOCATION:Beacon Lighthouse\, 300 7th St\, Wichita Falls\, TX\, 76301\, United States
CATEGORIES:Volunteer Opportunities
END:VEVENT
BEGIN:VEVENT
DTSTART;TZID=America/Chicago:20180115T180000
DTEND;TZID=America/Chicago:20180115T190000
DTSTAMP:20260422T153359
CREATED:20170802T203356Z
LAST-MODIFIED:20170802T203356Z
UID:4002-1516039200-1516042800@seniorjuniorforum.com
SUMMARY:Executive Board Meeting
DESCRIPTION:contact Mary Brasher for more information
URL:https://seniorjuniorforum.com/event/executive-board-meeting-18/
LOCATION:Senior Junior Forum Room\, 2120 Speedway\, Wichita Falls\, TX\, 76308\, United States
CATEGORIES:Meetings
END:VEVENT
BEGIN:VEVENT
DTSTART;TZID=America/Chicago:20180113T183000
DTEND;TZID=America/Chicago:20180113T200000
DTSTAMP:20260422T153359
CREATED:20170809T215158Z
LAST-MODIFIED:20170809T215158Z
UID:4054-1515868200-1515873600@seniorjuniorforum.com
SUMMARY:SJF Yoga Class
DESCRIPTION:more details at a later date \nHostesses: Amber Gee\, Amelia McGowan & Kim Price \nAdvisors: Jackie Jones & Stephanie Kramer
URL:https://seniorjuniorforum.com/event/sjf-yoga-class/
LOCATION:Balance Yoga Studio\, 2907 Bob Ave (Parker Square)\, Wichita Falls\, TX\, 76308\, United States
CATEGORIES:Socials
END:VEVENT
BEGIN:VEVENT
DTSTART;TZID=America/Chicago:20180113T180000
DTEND;TZID=America/Chicago:20180113T220000
DTSTAMP:20260422T153359
CREATED:20171221T205820Z
LAST-MODIFIED:20171221T205820Z
UID:4192-1515866400-1515880800@seniorjuniorforum.com
SUMMARY:Kemp Karnevale
DESCRIPTION:contact Susan Phillips fore more information
URL:https://seniorjuniorforum.com/event/kemp-karnevale/
LOCATION:The Kemp Center\, 1300 Lamar Street\, Wichita Falls\, TX\, 76301\, United States
CATEGORIES:Volunteer Opportunities
END:VEVENT
BEGIN:VEVENT
DTSTART;TZID=America/Chicago:20180108T180000
DTEND;TZID=America/Chicago:20180108T190000
DTSTAMP:20260422T153359
CREATED:20170928T215913Z
LAST-MODIFIED:20170928T215913Z
UID:4110-1515434400-1515438000@seniorjuniorforum.com
SUMMARY:Red River Wine & Beer Festival Committee Meeting
DESCRIPTION:Contact Liz Wathen or Lesa Reimers for more information
URL:https://seniorjuniorforum.com/event/red-river-wine-beer-festival-committee-meeting-4/
LOCATION:Senior Junior Forum Room\, 2120 Speedway\, Wichita Falls\, TX\, 76308\, United States
CATEGORIES:Meetings
END:VEVENT
BEGIN:VEVENT
DTSTART;TZID=America/Chicago:20180102T183000
DTEND;TZID=America/Chicago:20180102T203000
DTSTAMP:20260422T153359
CREATED:20170625T221847Z
LAST-MODIFIED:20171221T210115Z
UID:3936-1514917800-1514925000@seniorjuniorforum.com
SUMMARY:General Meeting
DESCRIPTION:Chit Chat & Chew Pot Luck Dinner \nProgram: “Speaker from Phased-In” \nSpecial Guests: Shannon Inman & Shelly Hutchins \nHostesses: Connie Joyce; Christi Kelton; Lisa Kipp; Gaby Lockhart; Amelia McGowan \nItems for Hours for First Step: travel size shampoos\, deodorants\, toothpastes\, toothbrushes\, body wash\, diapers & wipes
URL:https://seniorjuniorforum.com/event/general-meeting-15/
LOCATION:The Forum Garden Room\, 2120 Speedway\, Wichita Falls\, TX\, 76308\, United States
CATEGORIES:Meetings
END:VEVENT
BEGIN:VEVENT
DTSTART;TZID=America/Chicago:20171215T103000
DTEND;TZID=America/Chicago:20171215T133000
DTSTAMP:20260422T153359
CREATED:20171030T150531Z
LAST-MODIFIED:20171030T150531Z
UID:4162-1513333800-1513344600@seniorjuniorforum.com
SUMMARY:The Kitchen - Christmas party
DESCRIPTION:contact Susan Phillips for more information
URL:https://seniorjuniorforum.com/event/the-kitchen-christmas-party/
LOCATION:The Kitchen (Senior Citizens Service)\, 1000 Burnett\, Wichita Falls\, TX\, 76301\, United States
CATEGORIES:Volunteer Opportunities
END:VEVENT
BEGIN:VEVENT
DTSTART;TZID=America/Chicago:20171213T173000
DTEND;TZID=America/Chicago:20171213T190000
DTSTAMP:20260422T153359
CREATED:20171130T204222Z
LAST-MODIFIED:20171130T204222Z
UID:4183-1513186200-1513191600@seniorjuniorforum.com
SUMMARY:THE Kitchen - Christmas Party bags
DESCRIPTION:stuff bags for The Kitchen Christmas party.  Contact Susan Phillips for more information.
URL:https://seniorjuniorforum.com/event/the-kitchen-christmas-party-bags/
LOCATION:TX
CATEGORIES:Volunteer Opportunities
END:VEVENT
BEGIN:VEVENT
DTSTART;TZID=America/Chicago:20171212T183000
DTEND;TZID=America/Chicago:20171212T203000
DTSTAMP:20260422T153359
CREATED:20170625T221639Z
LAST-MODIFIED:20171121T155903Z
UID:3934-1513103400-1513110600@seniorjuniorforum.com
SUMMARY:President's Christmas Dinner & General Meeting
DESCRIPTION:Program: “Special Guests – Wichita Falls Youth Symphony Orchestra” \nClick here to find out more details: President’s Christmas Dinner Invitation \nSpecial Guests: Tracy Barrells & Cal Edgemon \nHostesses: Samantha Beard; Sharron Davis; Connie Joyce; Gaby Lockhart; Ameila McGowan;  Lydia McWhorter; Ladell Schmalzried \nItems for Hours for First Step gifts & The Kitchen fresh fruit: $5 donation
URL:https://seniorjuniorforum.com/event/general-meeting-14/
LOCATION:The Forum Auditorium\, 2120 Speedway\, Wichita Falls\, TX\, 76308\, United States
CATEGORIES:Meetings
END:VEVENT
BEGIN:VEVENT
DTSTART;TZID=America/Chicago:20171209T083000
DTEND;TZID=America/Chicago:20171209T140000
DTSTAMP:20260422T153359
CREATED:20171030T150410Z
LAST-MODIFIED:20171030T150410Z
UID:4159-1512808200-1512828000@seniorjuniorforum.com
SUMMARY:Special Olympics - bowling
DESCRIPTION:contact Susan Phillips for more information
URL:https://seniorjuniorforum.com/event/special-olympics-bowling-2/
LOCATION:SAFB
CATEGORIES:Volunteer Opportunities
END:VEVENT
BEGIN:VEVENT
DTSTART;TZID=America/Chicago:20171205T110000
DTEND;TZID=America/Chicago:20171205T200000
DTSTAMP:20260422T153359
CREATED:20171107T160114Z
LAST-MODIFIED:20171107T160114Z
UID:4168-1512471600-1512504000@seniorjuniorforum.com
SUMMARY:Christmas Tour of Homes
DESCRIPTION:Christmas Tour of Homes
URL:https://seniorjuniorforum.com/event/christmas-tour-of-homes/
LOCATION:TX
CATEGORIES:Fundraiser
END:VEVENT
BEGIN:VEVENT
DTSTART;TZID=America/Chicago:20171130T180000
DTEND;TZID=America/Chicago:20171130T190000
DTSTAMP:20260422T153359
CREATED:20171121T160124Z
LAST-MODIFIED:20171121T160124Z
UID:4177-1512064800-1512068400@seniorjuniorforum.com
SUMMARY:Parliamentarian Committee Meeting
DESCRIPTION:Meeting will be held at the home of Debbie Berend
URL:https://seniorjuniorforum.com/event/parliamentarian-committee-meeting/
LOCATION:TX
CATEGORIES:Meetings
END:VEVENT
BEGIN:VEVENT
DTSTART;TZID=America/Chicago:20171129T180000
DTEND;TZID=America/Chicago:20171129T190000
DTSTAMP:20260422T153359
CREATED:20171121T160249Z
LAST-MODIFIED:20171121T160249Z
UID:4179-1511978400-1511982000@seniorjuniorforum.com
SUMMARY:Goals & Long Range Committee Meeting
DESCRIPTION:contact Kathy Tegtmeyer or Tamara Barfield for more information
URL:https://seniorjuniorforum.com/event/goals-long-range-committee-meeting-4/
LOCATION:Senior Junior Forum Room\, 2120 Speedway\, Wichita Falls\, TX\, 76308\, United States
CATEGORIES:Meetings
END:VEVENT
BEGIN:VEVENT
DTSTART;TZID=America/Chicago:20171120T180000
DTEND;TZID=America/Chicago:20171120T190000
DTSTAMP:20260422T153359
CREATED:20170802T203311Z
LAST-MODIFIED:20170802T203311Z
UID:4000-1511200800-1511204400@seniorjuniorforum.com
SUMMARY:Executive Board Meeting
DESCRIPTION:contact Mary Brasher for more information
URL:https://seniorjuniorforum.com/event/executive-board-meeting-17/
LOCATION:Senior Junior Forum Room\, 2120 Speedway\, Wichita Falls\, TX\, 76308\, United States
CATEGORIES:Meetings
END:VEVENT
BEGIN:VEVENT
DTSTART;TZID=America/Chicago:20171116T100000
DTEND;TZID=America/Chicago:20171116T130000
DTSTAMP:20260422T153359
CREATED:20171030T150238Z
LAST-MODIFIED:20171030T150855Z
UID:4157-1510826400-1510837200@seniorjuniorforum.com
SUMMARY:The Kitchen - Thanksgiving luncheon
DESCRIPTION:contact Susan Phillips for more information
URL:https://seniorjuniorforum.com/event/the-kitchen-thanksgiving-luncheon/
LOCATION:The Kitchen (Senior Citizens Service)\, 1000 Burnett\, Wichita Falls\, TX\, 76301\, United States
CATEGORIES:Volunteer Opportunities
END:VEVENT
BEGIN:VEVENT
DTSTART;TZID=America/Chicago:20171115T080000
DTEND;TZID=America/Chicago:20171115T103000
DTSTAMP:20260422T153359
CREATED:20171030T150123Z
LAST-MODIFIED:20171030T150134Z
UID:4155-1510732800-1510741800@seniorjuniorforum.com
SUMMARY:Beacon Lighthouse - Birthday treats
DESCRIPTION:contact Susan Phillips for more information
URL:https://seniorjuniorforum.com/event/beacon-lighthouse-birthday-treats-4/
LOCATION:Beacon Lighthouse\, 300 7th St\, Wichita Falls\, TX\, 76301\, United States
CATEGORIES:Volunteer Opportunities
END:VEVENT
BEGIN:VEVENT
DTSTART;TZID=America/Chicago:20171113T180000
DTEND;TZID=America/Chicago:20171113T190000
DTSTAMP:20260422T153359
CREATED:20170928T215756Z
LAST-MODIFIED:20170928T215756Z
UID:4108-1510596000-1510599600@seniorjuniorforum.com
SUMMARY:Red River Wine Beer Festival Committee Meeting
DESCRIPTION:Contact Liz Wathen or Lesa Reimers for more information
URL:https://seniorjuniorforum.com/event/red-river-wine-beer-festival-committee-meeting-3/
LOCATION:Senior Junior Forum Room\, 2120 Speedway\, Wichita Falls\, TX\, 76308\, United States
CATEGORIES:Meetings
END:VEVENT
BEGIN:VEVENT
DTSTART;TZID=America/Chicago:20171111T173000
DTEND;TZID=America/Chicago:20171111T210000
DTSTAMP:20260422T153359
CREATED:20171030T150009Z
LAST-MODIFIED:20171030T150754Z
UID:4152-1510421400-1510434000@seniorjuniorforum.com
SUMMARY:Special Olympics-Sports Banquet
DESCRIPTION:contact Susan Phillips for more information
URL:https://seniorjuniorforum.com/event/special-olympics-sports-banquet/
LOCATION:The Stone Palace
CATEGORIES:Volunteer Opportunities
END:VEVENT
BEGIN:VEVENT
DTSTART;TZID=America/Chicago:20171109T170000
DTEND;TZID=America/Chicago:20171109T183000
DTSTAMP:20260422T153359
CREATED:20170809T214859Z
LAST-MODIFIED:20171109T194227Z
UID:4052-1510246800-1510252200@seniorjuniorforum.com
SUMMARY:Holiday Make-up & Beauty
DESCRIPTION:Please RSVP to Connie Barnhart \n \nHostesses: Ladell Schmalzried\, Megan Coats & Charlotte Dameron \nAdvisors: Debbie Mitchell & Sue Tabor
URL:https://seniorjuniorforum.com/event/holiday-make-up-beauty/
LOCATION:Cosmetic Laser Center\, 2611 Harrison\, Suite 700\, Wichita Falls\, TX\, 76308\, United States
CATEGORIES:Socials
END:VEVENT
BEGIN:VEVENT
DTSTART;TZID=America/Chicago:20171107T190000
DTEND;TZID=America/Chicago:20171107T203000
DTSTAMP:20260422T153359
CREATED:20170625T221255Z
LAST-MODIFIED:20171030T141714Z
UID:3932-1510081200-1510086600@seniorjuniorforum.com
SUMMARY:General Meeting
DESCRIPTION:Program: “Officer Jeff Hughes Self-Defense tips” \nSpecial Guests: Susann Halverson & Mary Sue Hogan \nHostesses: Pam Hughes; Colleen James; Nichole Jefferson \nItems for Hours for The Kitchen Christmas bags: individual packs of dried fruit\, hard candy\, crackers\, etc.
URL:https://seniorjuniorforum.com/event/general-meeting-13/
LOCATION:The Forum Garden Room\, 2120 Speedway\, Wichita Falls\, TX\, 76308\, United States
CATEGORIES:Meetings
END:VEVENT
BEGIN:VEVENT
DTSTART;TZID=America/Chicago:20171027T110000
DTEND;TZID=America/Chicago:20171027T123000
DTSTAMP:20260422T153359
CREATED:20170925T215318Z
LAST-MODIFIED:20170925T215318Z
UID:4101-1509102000-1509107400@seniorjuniorforum.com
SUMMARY:THE Kitchen - Fall Festival
DESCRIPTION:Contact Susan Phillips for more information
URL:https://seniorjuniorforum.com/event/the-kitchen-fall-festival/
LOCATION:The Kitchen (Senior Citizens Service)\, 1000 Burnett\, Wichita Falls\, TX\, 76301\, United States
CATEGORIES:Volunteer Opportunities
END:VEVENT
BEGIN:VEVENT
DTSTART;TZID=America/Chicago:20171027T080000
DTEND;TZID=America/Chicago:20171027T170000
DTSTAMP:20260422T153359
CREATED:20170925T215141Z
LAST-MODIFIED:20170925T215141Z
UID:4099-1509091200-1509123600@seniorjuniorforum.com
SUMMARY:Kemp Center - Mystery Art
DESCRIPTION:Contact Susan Phillips for more information
URL:https://seniorjuniorforum.com/event/kemp-center-mystery-art/
LOCATION:The Kemp Center\, 1300 Lamar Street\, Wichita Falls\, TX\, 76301\, United States
CATEGORIES:Volunteer Opportunities
END:VEVENT
BEGIN:VEVENT
DTSTART;TZID=America/Chicago:20171026T180000
DTEND;TZID=America/Chicago:20171026T200000
DTSTAMP:20260422T153359
CREATED:20170925T215040Z
LAST-MODIFIED:20171009T154207Z
UID:4097-1509040800-1509048000@seniorjuniorforum.com
SUMMARY:First Step - Candlelight Vigil
DESCRIPTION:Contact Susan Phillips for more information
URL:https://seniorjuniorforum.com/event/first-step-candlelight-vigil-2/
LOCATION:Wellington Event Center\, 5200 Kell W Blvd\, Wichita Falls\, TX\, 76310\, United States
CATEGORIES:Volunteer Opportunities
END:VEVENT
BEGIN:VEVENT
DTSTART;TZID=America/Chicago:20171025T160000
DTEND;TZID=America/Chicago:20171025T170000
DTSTAMP:20260422T153359
CREATED:20170925T214939Z
LAST-MODIFIED:20170925T215552Z
UID:4095-1508947200-1508950800@seniorjuniorforum.com
SUMMARY:First Step - Halloween Party
DESCRIPTION:contact Susan Phillips for more information
URL:https://seniorjuniorforum.com/event/first-step-halloween-party-3/
LOCATION:Cosmetic Laser Center\, 2611 Harrison\, Suite 700\, Wichita Falls\, TX\, 76308\, United States
CATEGORIES:Volunteer Opportunities
END:VEVENT
BEGIN:VEVENT
DTSTART;TZID=America/Chicago:20171025T080000
DTEND;TZID=America/Chicago:20171025T130000
DTSTAMP:20260422T153359
CREATED:20171020T145530Z
LAST-MODIFIED:20171020T145530Z
UID:4136-1508918400-1508936400@seniorjuniorforum.com
SUMMARY:Special Olympics - Battle of the Dayhabs
DESCRIPTION:contact Susan Phillips for more information or to volunteer
URL:https://seniorjuniorforum.com/event/special-olympics-battle-of-the-dayhabs/
LOCATION:Kiwanis Park\, 4300 Southwest Parkway\, Wichita Falls\, TX\, 76310\, United States
CATEGORIES:Volunteer Opportunities
END:VEVENT
BEGIN:VEVENT
DTSTART;TZID=America/Chicago:20171025T080000
DTEND;TZID=America/Chicago:20171025T100000
DTSTAMP:20260422T153359
CREATED:20170925T214609Z
LAST-MODIFIED:20170925T214609Z
UID:4093-1508918400-1508925600@seniorjuniorforum.com
SUMMARY:Beacon Lighthouse - Halloween Treats
DESCRIPTION:contact Susan Phillips for more information
URL:https://seniorjuniorforum.com/event/beacon-lighthouse-halloween-treats-2/
LOCATION:TX
CATEGORIES:Volunteer Opportunities
END:VEVENT
BEGIN:VEVENT
DTSTART;TZID=America/Chicago:20171024T180000
DTEND;TZID=America/Chicago:20171024T203000
DTSTAMP:20260422T153359
CREATED:20170925T215432Z
LAST-MODIFIED:20170925T215432Z
UID:4103-1508868000-1508877000@seniorjuniorforum.com
SUMMARY:Bunco Mixer
DESCRIPTION:Contact Debbie Berend for more details
URL:https://seniorjuniorforum.com/event/bunco-mixer-2/
LOCATION:The Forum Club Room (East Entrance)\, 2120 Speedway\, Wichita Falls\, TX\, 76308\, United States
CATEGORIES:Socials
END:VEVENT
BEGIN:VEVENT
DTSTART;TZID=America/Chicago:20171021T100000
DTEND;TZID=America/Chicago:20171021T140000
DTSTAMP:20260422T153359
CREATED:20171009T152155Z
LAST-MODIFIED:20171009T154411Z
UID:4130-1508580000-1508594400@seniorjuniorforum.com
SUMMARY:Special Olympics - Flag Football
DESCRIPTION:Flag football will be held on MSU Soccer practice field next to the Wellness Center \ncontact Susan Phillips for more information
URL:https://seniorjuniorforum.com/event/special-olympics-flag-football-2/
LOCATION:MSU\, 3410 Taft Blvd\, Wichita Falls\, 76308\, United States
CATEGORIES:Volunteer Opportunities
END:VEVENT
BEGIN:VEVENT
DTSTART;TZID=America/Chicago:20171019T170000
DTEND;TZID=America/Chicago:20171019T210000
DTSTAMP:20260422T153359
CREATED:20171009T151852Z
LAST-MODIFIED:20171009T151852Z
UID:4128-1508432400-1508446800@seniorjuniorforum.com
SUMMARY:Kemp Center - Mystery Spirits
DESCRIPTION:contact Susan Phillips for more information
URL:https://seniorjuniorforum.com/event/kemp-center-mystery-spirits/
LOCATION:The Kemp Center\, 1300 Lamar Street\, Wichita Falls\, TX\, 76301\, United States
CATEGORIES:Volunteer Opportunities
END:VEVENT
BEGIN:VEVENT
DTSTART;TZID=America/Chicago:20171018T180000
DTEND;TZID=America/Chicago:20171018T190000
DTSTAMP:20260422T153359
CREATED:20171006T181208Z
LAST-MODIFIED:20171006T181208Z
UID:4121-1508349600-1508353200@seniorjuniorforum.com
SUMMARY:Goals & Long Range Committee Meeting
DESCRIPTION:contact Kathy Tegtmeyer or Tamara Barfield for more information
URL:https://seniorjuniorforum.com/event/goals-long-range-committee-meeting-3/
LOCATION:Senior Junior Forum Room\, 2120 Speedway\, Wichita Falls\, TX\, 76308\, United States
CATEGORIES:Meetings
END:VEVENT
END:VCALENDAR