BEGIN:VCALENDAR
VERSION:2.0
PRODID:-//Senior Junior Forum - ECPv6.14.0//NONSGML v1.0//EN
CALSCALE:GREGORIAN
METHOD:PUBLISH
X-WR-CALNAME:Senior Junior Forum
X-ORIGINAL-URL:https://seniorjuniorforum.com
X-WR-CALDESC:Events for Senior Junior Forum
REFRESH-INTERVAL;VALUE=DURATION:PT1H
X-Robots-Tag:noindex
X-PUBLISHED-TTL:PT1H
BEGIN:VTIMEZONE
TZID:America/Chicago
BEGIN:DAYLIGHT
TZOFFSETFROM:-0600
TZOFFSETTO:-0500
TZNAME:CDT
DTSTART:20180311T080000
END:DAYLIGHT
BEGIN:STANDARD
TZOFFSETFROM:-0500
TZOFFSETTO:-0600
TZNAME:CST
DTSTART:20181104T070000
END:STANDARD
END:VTIMEZONE
BEGIN:VEVENT
DTSTART;TZID=America/Chicago:20180421T160000
DTEND;TZID=America/Chicago:20180421T190000
DTSTAMP:20260422T113117
CREATED:20170809T215800Z
LAST-MODIFIED:20180419T210821Z
UID:4059-1524326400-1524337200@seniorjuniorforum.com
SUMMARY:SJF Barrel Uncorking at Rocking M Ranch  "POSTPONED"
DESCRIPTION:Event postponed due to weather predictions for Saturday \nContact Sue Tabor to RSVP.  Click here for invitationRocking M Distillery Social \nHostesses:  Stacy Bailey\, Pam Hughes\, Colleen James\, Nichole Jefferson & Cathy Norton \nAdvisors: Diane Dockery\, Melanie Lindsay & Carly McGhee \n 
URL:https://seniorjuniorforum.com/event/sjf-barrel-uncorking-at-rocking-m-ranch/
LOCATION:Rocking M Ranch Distillery\, 614 Brixey Rd\, Henrietta\, TX\, 76365\, United States
CATEGORIES:Socials
END:VEVENT
BEGIN:VEVENT
DTSTART;TZID=America/Chicago:20180416T180000
DTEND;TZID=America/Chicago:20180416T190000
DTSTAMP:20260422T113117
CREATED:20170802T203638Z
LAST-MODIFIED:20170802T203638Z
UID:4008-1523901600-1523905200@seniorjuniorforum.com
SUMMARY:Executive Board Meeting
DESCRIPTION:contact Mary Brasher for more information
URL:https://seniorjuniorforum.com/event/executive-board-meeting-21/
LOCATION:Senior Junior Forum Room\, 2120 Speedway\, Wichita Falls\, TX\, 76308\, United States
CATEGORIES:Meetings
END:VEVENT
BEGIN:VEVENT
DTSTART;TZID=America/Chicago:20180414T100000
DTEND;TZID=America/Chicago:20180414T203000
DTSTAMP:20260422T113117
CREATED:20180129T233201Z
LAST-MODIFIED:20180330T214015Z
UID:4236-1523700000-1523737800@seniorjuniorforum.com
SUMMARY:Kemp Center Cowboy True
DESCRIPTION:contact Susan Phillips for more information
URL:https://seniorjuniorforum.com/event/kemp-center-cowboy-true-2/
LOCATION:J S Bridwell Ag Center\, 111 N. Burnett\, Wichita Falls\, TX\, United States
CATEGORIES:Volunteer Opportunities
END:VEVENT
BEGIN:VEVENT
DTSTART;TZID=America/Chicago:20180410T180000
DTEND;TZID=America/Chicago:20180410T190000
DTSTAMP:20260422T113117
CREATED:20180409T150041Z
LAST-MODIFIED:20180409T150041Z
UID:4304-1523383200-1523386800@seniorjuniorforum.com
SUMMARY:2018-19 Novice Tea
DESCRIPTION:Click here to view invitation:2018 Novice Tea Invite \nContact Amber Meadows for more information
URL:https://seniorjuniorforum.com/event/2018-19-novice-tea/
LOCATION:Senior Junior Forum Room\, 2120 Speedway\, Wichita Falls\, TX\, 76308\, United States
CATEGORIES:Meetings
END:VEVENT
BEGIN:VEVENT
DTSTART;TZID=America/Chicago:20180409T180000
DTEND;TZID=America/Chicago:20180409T190000
DTSTAMP:20260422T113117
CREATED:20180409T145847Z
LAST-MODIFIED:20180409T145847Z
UID:4302-1523296800-1523300400@seniorjuniorforum.com
SUMMARY:Red River Wine & Beer Festival Wrap-up Meeting
DESCRIPTION:Contact Liz Wathen or Lesa Reimers for more information
URL:https://seniorjuniorforum.com/event/red-river-wine-beer-festival-wrap-up-meeting/
LOCATION:Senior Junior Forum Room\, 2120 Speedway\, Wichita Falls\, TX\, 76308\, United States
CATEGORIES:Meetings
END:VEVENT
BEGIN:VEVENT
DTSTART;TZID=America/Chicago:20180407T083000
DTEND;TZID=America/Chicago:20180407T160000
DTSTAMP:20260422T113117
CREATED:20180304T220723Z
LAST-MODIFIED:20180306T145813Z
UID:4249-1523089800-1523116800@seniorjuniorforum.com
SUMMARY:Special Olympics - Equestrian Competition
DESCRIPTION:contact Susan Phillips for more information
URL:https://seniorjuniorforum.com/event/special-olympics-equestrian-competition/
LOCATION:TBD
CATEGORIES:Volunteer Opportunities
END:VEVENT
BEGIN:VEVENT
DTSTART;TZID=America/Chicago:20180406T183000
DTEND;TZID=America/Chicago:20180406T213000
DTSTAMP:20260422T113117
CREATED:20180306T150004Z
LAST-MODIFIED:20180306T150427Z
UID:4267-1523039400-1523050200@seniorjuniorforum.com
SUMMARY:Special Olympics - Superstar Bowl Football game
DESCRIPTION:contact Susan Phillips for more information
URL:https://seniorjuniorforum.com/event/special-olympics-superstar-bowl-football-game/
CATEGORIES:Volunteer Opportunities
END:VEVENT
BEGIN:VEVENT
DTSTART;TZID=America/Chicago:20180404T103000
DTEND;TZID=America/Chicago:20180404T130000
DTSTAMP:20260422T113117
CREATED:20180319T152630Z
LAST-MODIFIED:20180319T152630Z
UID:4272-1522837800-1522846800@seniorjuniorforum.com
SUMMARY:Beacon Lighthouse Luncheon
DESCRIPTION:contact Susan Phillips for more information
URL:https://seniorjuniorforum.com/event/beacon-lighthouse-luncheon/
LOCATION:Luby’s Cafeteria\, 1801 9th St.\, Wichiat Falls\, TX\, 76301\, United States
CATEGORIES:Volunteer Opportunities
END:VEVENT
BEGIN:VEVENT
DTSTART;TZID=America/Chicago:20180403T190000
DTEND;TZID=America/Chicago:20180403T203000
DTSTAMP:20260422T113117
CREATED:20170625T222334Z
LAST-MODIFIED:20180330T214332Z
UID:3942-1522782000-1522787400@seniorjuniorforum.com
SUMMARY:General Meeting
DESCRIPTION:Program: “Benny L. Barnhart MD – Dementia & Alzheimer’s Disease” \nSpecial Guests: Sue Tabor & Tamara Barfield \nHostesses: Dandi Turnbow; Lucy Zamastil \nItems for Hours for The Kemp & The Forum summer camps: Please no peanut butter products or anything that needs to be refrigerated or frozen.  Please bring individual packages of cheezits\, goldfish\, cookies\, crackers\, etc.
URL:https://seniorjuniorforum.com/event/general-meeting-18/
LOCATION:The Forum Garden Room\, 2120 Speedway\, Wichita Falls\, TX\, 76308\, United States
CATEGORIES:Meetings
END:VEVENT
BEGIN:VEVENT
DTSTART;VALUE=DATE:20180403
DTEND;VALUE=DATE:20180408
DTSTAMP:20260422T113117
CREATED:20180330T213903Z
LAST-MODIFIED:20180330T213903Z
UID:4291-1522713600-1523145599@seniorjuniorforum.com
SUMMARY:Faith Refuge - Fashion Boutique
DESCRIPTION:sign up at http://www.signupgenius.com/go/60b084cabad28a2fd0-faith
URL:https://seniorjuniorforum.com/event/faith-refuge-fashion-boutique/
CATEGORIES:Volunteer Opportunities
END:VEVENT
BEGIN:VEVENT
DTSTART;VALUE=DATE:20180402
DTEND;VALUE=DATE:20180403
DTSTAMP:20260422T113117
CREATED:20180320T144312Z
LAST-MODIFIED:20180320T144953Z
UID:4278-1522627200-1522713599@seniorjuniorforum.com
SUMMARY:MSU Scholarship Application Deadline
DESCRIPTION:Senior-Junior Forum awards 4 scholarships of $2\,000 each for one academic year.  More information can be found in the Community Support tab – Midwestern State University Scholarships. \nPlease click on the link to download: scholarship application-2018
URL:https://seniorjuniorforum.com/event/msu-scholarship-application-deadline/
CATEGORIES:Application
END:VEVENT
BEGIN:VEVENT
DTSTART;TZID=America/Chicago:20180328T080000
DTEND;TZID=America/Chicago:20180328T100000
DTSTAMP:20260422T113117
CREATED:20180304T220514Z
LAST-MODIFIED:20180304T220514Z
UID:4247-1522224000-1522231200@seniorjuniorforum.com
SUMMARY:Beacon Easter and Birthday Baked Treats
DESCRIPTION:Deliver homemade baked goodies to Beacon Lighthouse by 10:00am or contact Susan Phillips for more information
URL:https://seniorjuniorforum.com/event/beacon-easter-and-birthday-baked-treats/
LOCATION:Beacon Lighthouse\, 300 7th St\, Wichita Falls\, TX\, 76301\, United States
CATEGORIES:Volunteer Opportunities
END:VEVENT
BEGIN:VEVENT
DTSTART;TZID=America/Chicago:20180326T163000
DTEND;TZID=America/Chicago:20180326T190000
DTSTAMP:20260422T113117
CREATED:20180304T220333Z
LAST-MODIFIED:20180304T220333Z
UID:4245-1522081800-1522090800@seniorjuniorforum.com
SUMMARY:Faith Refuge - Novice Dinner
DESCRIPTION:17-18 Novices can contact Amber Meadows for more information
URL:https://seniorjuniorforum.com/event/faith-refuge-novice-dinner/
LOCATION:Faith Refuge\, 710 E. Hatton Rd\, Wichita Falls\, TX\, 76302\, United States
CATEGORIES:Volunteer Opportunities
END:VEVENT
BEGIN:VEVENT
DTSTART;TZID=America/Chicago:20180324T180000
DTEND;TZID=America/Chicago:20180324T220000
DTSTAMP:20260422T113117
CREATED:20170809T220351Z
LAST-MODIFIED:20180109T214050Z
UID:4064-1521914400-1521928800@seniorjuniorforum.com
SUMMARY:14th Annual Red River Wine & Beer Festival
DESCRIPTION:The 2018 “Festival” is bigger and better. We’ve added more space so you have more room to dance to the band\, visit with your friends and enjoy samples of wine and beer.  Enjoy shopping\, bidding at the silent auction and get something to eat too. Tickets are $25 in advance and $30 at the door. On sale February 1st. All proceeds benefit our service organizations and MSU scholarships. Visit www.redriverwineandbeerfestival.com for more information.
URL:https://seniorjuniorforum.com/event/14th-annual-red-river-wine-beer-festival/
LOCATION:J S Bridwell Ag Center\, 111 N. Burnett\, Wichita Falls\, TX\, United States
CATEGORIES:Fundraiser
END:VEVENT
BEGIN:VEVENT
DTSTART;TZID=America/Chicago:20180319T180000
DTEND;TZID=America/Chicago:20180319T190000
DTSTAMP:20260422T113117
CREATED:20170802T203542Z
LAST-MODIFIED:20170802T203542Z
UID:4006-1521482400-1521486000@seniorjuniorforum.com
SUMMARY:Executive Board Meeting
DESCRIPTION:contact Mary Brasher for more information
URL:https://seniorjuniorforum.com/event/executive-board-meeting-20/
LOCATION:Senior Junior Forum Room\, 2120 Speedway\, Wichita Falls\, TX\, 76308\, United States
CATEGORIES:Meetings
END:VEVENT
BEGIN:VEVENT
DTSTART;TZID=America/Chicago:20180317T080000
DTEND;TZID=America/Chicago:20180317T233000
DTSTAMP:20260422T113117
CREATED:20180304T221621Z
LAST-MODIFIED:20180307T152837Z
UID:4261-1521273600-1521329400@seniorjuniorforum.com
SUMMARY:2018-19 Novice Admission Application deadline extended
DESCRIPTION:contact Amber Meadows for more information \nclick here to download Novice Admission Application
URL:https://seniorjuniorforum.com/event/2018-19-novice-admission-application-deadline/
END:VEVENT
BEGIN:VEVENT
DTSTART;TZID=America/Chicago:20180317T080000
DTEND;TZID=America/Chicago:20180317T233000
DTSTAMP:20260422T113117
CREATED:20180304T221443Z
LAST-MODIFIED:20180307T152917Z
UID:4258-1521273600-1521329400@seniorjuniorforum.com
SUMMARY:Woman of the Year nomination deadline extended
DESCRIPTION:contact Becky Hart for more information \nclick here to download Woman of the Year nomination form
URL:https://seniorjuniorforum.com/event/woman-of-the-year-nomination-forms-deadline/
END:VEVENT
BEGIN:VEVENT
DTSTART;TZID=America/Chicago:20180312T180000
DTEND;TZID=America/Chicago:20180312T190000
DTSTAMP:20260422T113117
CREATED:20170928T220123Z
LAST-MODIFIED:20170928T220123Z
UID:4114-1520877600-1520881200@seniorjuniorforum.com
SUMMARY:Red River Wine & Beer Festival Committee Meeting
DESCRIPTION:Contact Liz Wathen or Lesa Reimers for more information
URL:https://seniorjuniorforum.com/event/red-river-wine-beer-festival-committee-meeting-6/
LOCATION:Senior Junior Forum Room\, 2120 Speedway\, Wichita Falls\, TX\, 76308\, United States
CATEGORIES:Meetings
END:VEVENT
BEGIN:VEVENT
DTSTART;TZID=America/Chicago:20180306T190000
DTEND;TZID=America/Chicago:20180306T203000
DTSTAMP:20260422T113117
CREATED:20170625T222141Z
LAST-MODIFIED:20170802T204633Z
UID:3940-1520362800-1520368200@seniorjuniorforum.com
SUMMARY:General Meeting
DESCRIPTION:Program: “14th Annual Red River Wine & Beer Festival” \nSpecial Guests: Janice Swarts & Regan Nabors \nHostesses: Kimberly Price; Hilary Schaff; Ladell Schmalzried \nItems for Hours for Beacon Lighthouse\, Faith Refuge & First Step Easter parties: 2 bags candy
URL:https://seniorjuniorforum.com/event/general-meeting-17/
LOCATION:The Forum Auditorium\, 2120 Speedway\, Wichita Falls\, TX\, 76308\, United States
CATEGORIES:Meetings
END:VEVENT
BEGIN:VEVENT
DTSTART;TZID=America/Chicago:20180228T173000
DTEND;TZID=America/Chicago:20180228T190000
DTSTAMP:20260422T113117
CREATED:20180221T153117Z
LAST-MODIFIED:20180221T153117Z
UID:4243-1519839000-1519844400@seniorjuniorforum.com
SUMMARY:Parliamentarian Committee Meeting
DESCRIPTION:contact Tracy Barrells for more information
URL:https://seniorjuniorforum.com/event/parliamentarian-committee-meeting-2/
CATEGORIES:Meetings
END:VEVENT
BEGIN:VEVENT
DTSTART;TZID=America/Chicago:20180225T080000
DTEND;TZID=America/Chicago:20180225T180000
DTSTAMP:20260422T113117
CREATED:20180129T233548Z
LAST-MODIFIED:20180129T233548Z
UID:4238-1519545600-1519581600@seniorjuniorforum.com
SUMMARY:Kemp Center Home & Garden Show
DESCRIPTION:Volunteers needed for the Kemp Center and for the SJF information table. Contact Susan Phillips for more information.
URL:https://seniorjuniorforum.com/event/kemp-center-home-garden-show-3/
LOCATION:MPEC\, 900 5th St.\, Wichita Falls\, TX\, United States
CATEGORIES:Volunteer Opportunities
END:VEVENT
BEGIN:VEVENT
DTSTART;TZID=America/Chicago:20180224T080000
DTEND;TZID=America/Chicago:20180224T180000
DTSTAMP:20260422T113117
CREATED:20180129T232354Z
LAST-MODIFIED:20180129T233239Z
UID:4231-1519459200-1519495200@seniorjuniorforum.com
SUMMARY:Kemp Center Home & Garden Show
DESCRIPTION:Volunteer for The Kemp Center on Saturday or Sunday. Volunteers also needed at the SJF information table.
URL:https://seniorjuniorforum.com/event/kemp-center-home-garden-show-2/
LOCATION:MPEC\, 900 5th St.\, Wichita Falls\, TX\, United States
CATEGORIES:Volunteer Opportunities
END:VEVENT
BEGIN:VEVENT
DTSTART;TZID=America/Chicago:20180219T180000
DTEND;TZID=America/Chicago:20180219T190000
DTSTAMP:20260422T113117
CREATED:20170802T203449Z
LAST-MODIFIED:20170802T203449Z
UID:4004-1519063200-1519066800@seniorjuniorforum.com
SUMMARY:Executive Board Meeting
DESCRIPTION:contact Mary Brasher for more information
URL:https://seniorjuniorforum.com/event/executive-board-meeting-19/
LOCATION:Senior Junior Forum Room\, 2120 Speedway\, Wichita Falls\, TX\, 76308\, United States
CATEGORIES:Meetings
END:VEVENT
BEGIN:VEVENT
DTSTART;TZID=America/Chicago:20180217T080000
DTEND;TZID=America/Chicago:20180217T160000
DTSTAMP:20260422T113117
CREATED:20180129T232113Z
LAST-MODIFIED:20180129T232113Z
UID:4229-1518854400-1518883200@seniorjuniorforum.com
SUMMARY:Special Olympics Basketball
DESCRIPTION:The competition is at the Graham High School. You will receive hours for traveling and volunteering at the event.  Contact Susan Phillips for more information.
URL:https://seniorjuniorforum.com/event/special-olympics-basketball-3/
LOCATION:Graham High School\, 1000 Brazos St.\, Graham\, TX\, United States
CATEGORIES:Volunteer Opportunities
END:VEVENT
BEGIN:VEVENT
DTSTART;TZID=America/Chicago:20180214T110000
DTEND;TZID=America/Chicago:20180214T130000
DTSTAMP:20260422T113117
CREATED:20180129T231929Z
LAST-MODIFIED:20180129T231929Z
UID:4227-1518606000-1518613200@seniorjuniorforum.com
SUMMARY:THE Kitchen Valentine Party
DESCRIPTION:contact Susan Phillips for more information
URL:https://seniorjuniorforum.com/event/the-kitchen-valentine-party/
LOCATION:The Kitchen (Senior Citizens Service)\, 1000 Burnett\, Wichita Falls\, TX\, 76301\, United States
CATEGORIES:Volunteer Opportunities
END:VEVENT
BEGIN:VEVENT
DTSTART;TZID=America/Chicago:20180212T180000
DTEND;TZID=America/Chicago:20180212T190000
DTSTAMP:20260422T113117
CREATED:20170928T220008Z
LAST-MODIFIED:20170928T220008Z
UID:4112-1518458400-1518462000@seniorjuniorforum.com
SUMMARY:Red River Wine & Beer Festival Committee Meeting
DESCRIPTION:Contact Liz Wathen or Lesa Reimers for  more information
URL:https://seniorjuniorforum.com/event/red-river-wine-beer-festival-committee-meeting-5/
LOCATION:Senior Junior Forum Room\, 2120 Speedway\, Wichita Falls\, TX\, 76308\, United States
CATEGORIES:Meetings
END:VEVENT
BEGIN:VEVENT
DTSTART;TZID=America/Chicago:20180206T190000
DTEND;TZID=America/Chicago:20180206T203000
DTSTAMP:20260422T113117
CREATED:20170625T222009Z
LAST-MODIFIED:20180129T231407Z
UID:3938-1517943600-1517949000@seniorjuniorforum.com
SUMMARY:General Meeting
DESCRIPTION:Program: “Appreciation Evening for Senior-Junior Forum Service Members” \nSpecial Guests: Maureen Laukhuf & Cal Edgemon \nHostesses: Lydia McWhorter; Cathy Norwood; Jennifer Pollan \nItems for Hours for Faith Refuge\, Beacon Lighthouse & First Step Valentine parties: 2 bags candy
URL:https://seniorjuniorforum.com/event/general-meeting-16/
LOCATION:The Forum Garden Room\, 2120 Speedway\, Wichita Falls\, TX\, 76308\, United States
CATEGORIES:Meetings
END:VEVENT
BEGIN:VEVENT
DTSTART;TZID=America/Chicago:20180203T143000
DTEND;TZID=America/Chicago:20180203T160000
DTSTAMP:20260422T113117
CREATED:20170809T215352Z
LAST-MODIFIED:20180129T231806Z
UID:4057-1517668200-1517673600@seniorjuniorforum.com
SUMMARY:B Cocoa Artisan Chocolate Truffle Making Class
DESCRIPTION:Saturday\, February\, 3rd Social where we will be tasting and making our own hand crafted Belgian Truffles just in time to savor and share for Valentines Day.  All supplies are included so Brooke would like our payments in advance. You can make your reservation with your payment at the following website: http://www.bcocoachocolate.com/shop-1.  Please contact Connie Barnhart with questions or concerns \nHostesses:  Samantha Beard\, Sharron Davis & Kimberly Hair \nAdvisors:  Sharon Norton & Anna Phillips
URL:https://seniorjuniorforum.com/event/cocoa-b-artisan-chocolate-truffle-making-class/
LOCATION:The Loft Marketplace\, 3709 Gregory (behind Courtyard Marriott)\, Wichita Falls\, TX\, 76308\, United States
CATEGORIES:Socials
END:VEVENT
BEGIN:VEVENT
DTSTART;TZID=America/Chicago:20180203T080000
DTEND;TZID=America/Chicago:20180203T120000
DTSTAMP:20260422T113117
CREATED:20180129T231723Z
LAST-MODIFIED:20180129T231723Z
UID:4224-1517644800-1517659200@seniorjuniorforum.com
SUMMARY:Special Olympics Polar Plunge
DESCRIPTION:Come out and cheer on Team SJF as they “take the plunge” \nVolunteers also needed for the event.  Contact Susan Phillips for more information
URL:https://seniorjuniorforum.com/event/special-olympics-polar-plunge-3/
LOCATION:Boomtown Bay Family Aquatic Center\, 104 Tommy Thornton Way\, Burkburnett\, TX\, 76354\, United States
CATEGORIES:Volunteer Opportunities
END:VEVENT
BEGIN:VEVENT
DTSTART;TZID=America/Chicago:20180123T180000
DTEND;TZID=America/Chicago:20180123T203000
DTSTAMP:20260422T113117
CREATED:20171221T215606Z
LAST-MODIFIED:20171221T215606Z
UID:4198-1516730400-1516739400@seniorjuniorforum.com
SUMMARY:BUNKO MIXER
DESCRIPTION:Doors open at 6\, Bunco starts at 6:30 \nClub Room of the Forum (East entrance of the building) \n$5.00 per person (for Fabulous Cash Prizes) \nSnacks provided \nBYOB \nMembers are encouraged to bring potential new novices for 2018-2019 \nTo reserve your spot(s) contact Debbie Berend \n 
URL:https://seniorjuniorforum.com/event/bunko-mixer/
LOCATION:The Forum Club Room (East Entrance)\, 2120 Speedway\, Wichita Falls\, TX\, 76308\, United States
CATEGORIES:Socials
END:VEVENT
END:VCALENDAR