BEGIN:VCALENDAR
VERSION:2.0
PRODID:-//Senior Junior Forum - ECPv6.14.0//NONSGML v1.0//EN
CALSCALE:GREGORIAN
METHOD:PUBLISH
X-WR-CALNAME:Senior Junior Forum
X-ORIGINAL-URL:https://seniorjuniorforum.com
X-WR-CALDESC:Events for Senior Junior Forum
REFRESH-INTERVAL;VALUE=DURATION:PT1H
X-Robots-Tag:noindex
X-PUBLISHED-TTL:PT1H
BEGIN:VTIMEZONE
TZID:America/Chicago
BEGIN:DAYLIGHT
TZOFFSETFROM:-0600
TZOFFSETTO:-0500
TZNAME:CDT
DTSTART:20180311T080000
END:DAYLIGHT
BEGIN:STANDARD
TZOFFSETFROM:-0500
TZOFFSETTO:-0600
TZNAME:CST
DTSTART:20181104T070000
END:STANDARD
END:VTIMEZONE
BEGIN:VEVENT
DTSTART;TZID=America/Chicago:20180818T073000
DTEND;TZID=America/Chicago:20180818T120000
DTSTAMP:20260422T040516
CREATED:20180810T213910Z
LAST-MODIFIED:20180810T213910Z
UID:4520-1534577400-1534593600@seniorjuniorforum.com
SUMMARY:Blue Ostrich Vineyard & Winery Social
DESCRIPTION:The Date is Set to go to the beautiful Blue Ostrich Vineyard & Winery \nWe will help harvest grapes and then enjoy a lunch & glass of wine \nRSVP Deadline is August 15th  \nFor more information contact Roma Martin or click here Blue Ostrich Winery social
URL:https://seniorjuniorforum.com/event/blue-ostrich-vineyard-winery-social/
LOCATION:Blue Ostrich Winery\, 5611 FM2382\, Saint Jo\, TX\, United States
CATEGORIES:Socials
END:VEVENT
BEGIN:VEVENT
DTSTART;TZID=America/Chicago:20180816T180000
DTEND;TZID=America/Chicago:20180816T190000
DTSTAMP:20260422T040516
CREATED:20180805T185428Z
LAST-MODIFIED:20180805T191055Z
UID:4505-1534442400-1534446000@seniorjuniorforum.com
SUMMARY:Christmas Tour Of Homes Committee Meeting
DESCRIPTION:contact Vicki Tigert or Sharon McCluskey for more information
URL:https://seniorjuniorforum.com/event/christmas-tour-of-homes-committee-meeting-7/
LOCATION:Senior Junior Forum Room\, 2120 Speedway\, Wichita Falls\, TX\, 76308\, United States
CATEGORIES:Meetings
END:VEVENT
BEGIN:VEVENT
DTSTART;TZID=America/Chicago:20180815T180000
DTEND;TZID=America/Chicago:20180815T190000
DTSTAMP:20260422T040516
CREATED:20180805T185334Z
LAST-MODIFIED:20180805T190912Z
UID:4503-1534356000-1534359600@seniorjuniorforum.com
SUMMARY:Parliamentary Committee Meeting
DESCRIPTION:contact Mary Brasher for more information
URL:https://seniorjuniorforum.com/event/parliamentary-committee-meeting-3/
LOCATION:TX
CATEGORIES:Meetings
END:VEVENT
BEGIN:VEVENT
DTSTART;TZID=America/Chicago:20180814T180000
DTEND;TZID=America/Chicago:20180814T190000
DTSTAMP:20260422T040516
CREATED:20180805T185219Z
LAST-MODIFIED:20180805T185219Z
UID:4501-1534269600-1534273200@seniorjuniorforum.com
SUMMARY:Social Committee Meeting
DESCRIPTION:contact Roma Martin for more information
URL:https://seniorjuniorforum.com/event/social-committee-meeting-4/
LOCATION:Senior Junior Forum Room\, 2120 Speedway\, Wichita Falls\, TX\, 76308\, United States
CATEGORIES:Meetings
END:VEVENT
BEGIN:VEVENT
DTSTART;TZID=America/Chicago:20180809T180000
DTEND;TZID=America/Chicago:20180809T190000
DTSTAMP:20260422T040516
CREATED:20180610T192610Z
LAST-MODIFIED:20180610T192610Z
UID:4406-1533837600-1533841200@seniorjuniorforum.com
SUMMARY:Red River Wine & Beer Festival Committee Meeting
DESCRIPTION:Contact Lesa Reimers or Annette Barfield for more information
URL:https://seniorjuniorforum.com/event/red-river-wine-beer-festival-committee-meeting-7/
LOCATION:Senior Junior Forum Room\, 2120 Speedway\, Wichita Falls\, TX\, 76308\, United States
CATEGORIES:Meetings
END:VEVENT
BEGIN:VEVENT
DTSTART;TZID=America/Chicago:20180807T140000
DTEND;TZID=America/Chicago:20180807T150000
DTSTAMP:20260422T040516
CREATED:20180805T185049Z
LAST-MODIFIED:20180805T185633Z
UID:4497-1533650400-1533654000@seniorjuniorforum.com
SUMMARY:Patsy's House - Blanket delivery
DESCRIPTION:Contact Shelly Hutchins if you would like to attend
URL:https://seniorjuniorforum.com/event/patsys-house-blanket-delivery/
LOCATION:Patsy’s House\, 1411 10th St.\, Wichita Falls\, TX\, 76301\, United States
CATEGORIES:Volunteer Opportunities
END:VEVENT
BEGIN:VEVENT
DTSTART;TZID=America/Chicago:20180806T080000
DTEND;TZID=America/Chicago:20180810T120000
DTSTAMP:20260422T040516
CREATED:20180706T184239Z
LAST-MODIFIED:20180706T184239Z
UID:4459-1533542400-1533902400@seniorjuniorforum.com
SUMMARY:The Kell House - Novel Adventure Camp
DESCRIPTION:Volunteers needed for kids camp 8/6-8/10 \nContact Shelly Hutchins for more information
URL:https://seniorjuniorforum.com/event/the-kell-house-novel-adventure-camp/
LOCATION:The Kell House\, 900 Bluff Street\, Wichita Falls\, TX\, 76301\, United States
CATEGORIES:Volunteer Opportunities
END:VEVENT
BEGIN:VEVENT
DTSTART;TZID=America/Chicago:20180804T100000
DTEND;TZID=America/Chicago:20180804T120000
DTSTAMP:20260422T040516
CREATED:20180706T165309Z
LAST-MODIFIED:20180706T165309Z
UID:4451-1533376800-1533384000@seniorjuniorforum.com
SUMMARY:Blanket making Party for Patsy's House
DESCRIPTION:Saturday\, August 4th at 10:00am \nSenior Junior Room upstairs at The Forum \nSee Monday Notes or contact Shelly Hutchins for more details
URL:https://seniorjuniorforum.com/event/blanket-making-party-for-patsys-house/
LOCATION:Senior Junior Forum Room\, 2120 Speedway\, Wichita Falls\, TX\, 76308\, United States
CATEGORIES:Volunteer Opportunities
END:VEVENT
BEGIN:VEVENT
DTSTART;TZID=America/Chicago:20180731T080000
DTEND;TZID=America/Chicago:20180802T120000
DTSTAMP:20260422T040516
CREATED:20180706T184130Z
LAST-MODIFIED:20180706T184130Z
UID:4457-1533024000-1533211200@seniorjuniorforum.com
SUMMARY:The Kell House - Art Mess Camp
DESCRIPTION:Volunteers needed for kids camp from 7/31-8/2 \nContact Shelly Hutchins for more details
URL:https://seniorjuniorforum.com/event/the-kell-house-art-mess-camp/
LOCATION:The Kell House\, 900 Bluff Street\, Wichita Falls\, TX\, 76301\, United States
CATEGORIES:Volunteer Opportunities
END:VEVENT
BEGIN:VEVENT
DTSTART;TZID=America/Chicago:20180726T183000
DTEND;TZID=America/Chicago:20180726T203000
DTSTAMP:20260422T040516
CREATED:20180706T164958Z
LAST-MODIFIED:20180706T164958Z
UID:4447-1532629800-1532637000@seniorjuniorforum.com
SUMMARY:Social - Live at the Lake
DESCRIPTION:Thursday\, July 26th at the Priddy Pavilion and the WFMA – 6:30-8:30 \nFree for SJF members\, families & friends – RSVP to Roma to reserve a spot \nBring lawn chairs or blanket and your own picnic \nClick here for more information:social live at the lake 2018
URL:https://seniorjuniorforum.com/event/social-live-at-the-lake/
LOCATION:Wichita Falls Musuem of Art at MSU\, #2 Eureka Circle\, Wichita Falls\, TX\, 76308\, United States
CATEGORIES:Socials
END:VEVENT
BEGIN:VEVENT
DTSTART;TZID=America/Chicago:20180726T170000
DTEND;TZID=America/Chicago:20180726T190000
DTSTAMP:20260422T040516
CREATED:20180709T154817Z
LAST-MODIFIED:20180709T154831Z
UID:4480-1532624400-1532631600@seniorjuniorforum.com
SUMMARY:"My Guru Calls Me Momma" book signing event
DESCRIPTION:
URL:https://seniorjuniorforum.com/event/my-guru-calls-me-momma-book-signing-event/
LOCATION:The Forum Club Room (East Entrance)\, 2120 Speedway\, Wichita Falls\, TX\, 76308\, United States
END:VEVENT
BEGIN:VEVENT
DTSTART;TZID=America/Chicago:20180723T080000
DTEND;TZID=America/Chicago:20180727T120000
DTSTAMP:20260422T040516
CREATED:20180706T184014Z
LAST-MODIFIED:20180709T175934Z
UID:4455-1532332800-1532692800@seniorjuniorforum.com
SUMMARY:The Kell House - Camp Sherlock
DESCRIPTION:Volunteers needed for kid’s camp 7/23-7/27 \nContact Shelly Hutchins for more details
URL:https://seniorjuniorforum.com/event/the-kell-house-camp-sherlock/
LOCATION:The Kell House\, 900 Bluff Street\, Wichita Falls\, TX\, 76301\, United States
CATEGORIES:Volunteer Opportunities
END:VEVENT
BEGIN:VEVENT
DTSTART;TZID=America/Chicago:20180721T073000
DTEND;TZID=America/Chicago:20180721T123000
DTSTAMP:20260422T040516
CREATED:20180610T190503Z
LAST-MODIFIED:20180718T215426Z
UID:4373-1532158200-1532176200@seniorjuniorforum.com
SUMMARY:Special Olympics Aquatics
DESCRIPTION:Contact Shelly Hutchins for more information
URL:https://seniorjuniorforum.com/event/special-olympics-aquatics-2/
LOCATION:Vernon College Aquatics Center\, 4400 College Drive\, Vernon\, TX\, 76384\, United States
CATEGORIES:Volunteer Opportunities
END:VEVENT
BEGIN:VEVENT
DTSTART;TZID=America/Chicago:20180716T180000
DTEND;TZID=America/Chicago:20180716T190000
DTSTAMP:20260422T040516
CREATED:20180610T190752Z
LAST-MODIFIED:20180610T190752Z
UID:4377-1531764000-1531767600@seniorjuniorforum.com
SUMMARY:Board Meeting
DESCRIPTION:Contact Debbie Berend for more information
URL:https://seniorjuniorforum.com/event/board-meeting/
LOCATION:Senior Junior Forum Room\, 2120 Speedway\, Wichita Falls\, TX\, 76308\, United States
CATEGORIES:Meetings
END:VEVENT
BEGIN:VEVENT
DTSTART;TZID=America/Chicago:20180713T110000
DTEND;TZID=America/Chicago:20180713T123000
DTSTAMP:20260422T040516
CREATED:20180706T165533Z
LAST-MODIFIED:20180706T165533Z
UID:4453-1531479600-1531485000@seniorjuniorforum.com
SUMMARY:The Kitchen- Senior Idol at the Red Door
DESCRIPTION:contact Shelly Hutchins for more details
URL:https://seniorjuniorforum.com/event/the-kitchen-senior-idol-at-the-red-door/
LOCATION:The Kitchen (Senior Citizens Service)\, 1000 Burnett\, Wichita Falls\, TX\, 76301\, United States
CATEGORIES:Volunteer Opportunities
END:VEVENT
BEGIN:VEVENT
DTSTART;TZID=America/Chicago:20180712T180000
DTEND;TZID=America/Chicago:20180712T203000
DTSTAMP:20260422T040516
CREATED:20180610T190952Z
LAST-MODIFIED:20180610T191022Z
UID:4379-1531418400-1531427400@seniorjuniorforum.com
SUMMARY:Bunco Mixer
DESCRIPTION:Click here for more information: Bunco Mixer July 12\, 2018
URL:https://seniorjuniorforum.com/event/bunco-mixer-3/
LOCATION:The Forum Club Room (East Entrance)\, 2120 Speedway\, Wichita Falls\, TX\, 76308\, United States
CATEGORIES:Socials
END:VEVENT
BEGIN:VEVENT
DTSTART;TZID=America/Chicago:20180704T080000
DTEND;TZID=America/Chicago:20180704T120000
DTSTAMP:20260422T040516
CREATED:20180610T190339Z
LAST-MODIFIED:20180610T190339Z
UID:4371-1530691200-1530705600@seniorjuniorforum.com
SUMMARY:July 4th parade at the Kell House
DESCRIPTION:Contact Shelly Hutchins for more information
URL:https://seniorjuniorforum.com/event/july-4th-parade-at-the-kell-house/
LOCATION:The Kell House\, 900 Bluff Street\, Wichita Falls\, TX\, 76301\, United States
CATEGORIES:Volunteer Opportunities
END:VEVENT
BEGIN:VEVENT
DTSTART;TZID=America/Chicago:20180626T180000
DTEND;TZID=America/Chicago:20180626T190000
DTSTAMP:20260422T040516
CREATED:20180606T220443Z
LAST-MODIFIED:20180606T220443Z
UID:4367-1530036000-1530039600@seniorjuniorforum.com
SUMMARY:Social Committee Meeting
DESCRIPTION:Contact Roma Martin for more information
URL:https://seniorjuniorforum.com/event/social-committee-meeting-3/
LOCATION:Senior Junior Forum Room\, 2120 Speedway\, Wichita Falls\, TX\, 76308\, United States
CATEGORIES:Meetings
END:VEVENT
BEGIN:VEVENT
DTSTART;TZID=America/Chicago:20180619T180000
DTEND;TZID=America/Chicago:20180619T190000
DTSTAMP:20260422T040516
CREATED:20180605T211441Z
LAST-MODIFIED:20180605T211441Z
UID:4363-1529431200-1529434800@seniorjuniorforum.com
SUMMARY:2018-19 Community Service Committee meeting
DESCRIPTION:contact Shelly Hutchins\, (18-19 chair)\, for more information
URL:https://seniorjuniorforum.com/event/2018-19-community-service-committee-meeting/
LOCATION:Senior Junior Forum Room\, 2120 Speedway\, Wichita Falls\, TX\, 76308\, United States
CATEGORIES:Meetings
END:VEVENT
BEGIN:VEVENT
DTSTART;TZID=America/Chicago:20180618T180000
DTEND;TZID=America/Chicago:20180618T190000
DTSTAMP:20260422T040516
CREATED:20180604T144234Z
LAST-MODIFIED:20180604T144234Z
UID:4356-1529344800-1529348400@seniorjuniorforum.com
SUMMARY:Executive Board Meeting
DESCRIPTION:contact Debbie Berend for more information
URL:https://seniorjuniorforum.com/event/executive-board-meeting-22/
LOCATION:Senior Junior Forum Room\, 2120 Speedway\, Wichita Falls\, TX\, 76308\, United States
CATEGORIES:Meetings
END:VEVENT
BEGIN:VEVENT
DTSTART;TZID=America/Chicago:20180613T180000
DTEND;TZID=America/Chicago:20180613T190000
DTSTAMP:20260422T040516
CREATED:20180605T211317Z
LAST-MODIFIED:20180605T211317Z
UID:4361-1528912800-1528916400@seniorjuniorforum.com
SUMMARY:2017-18 Final Community Service Committee meeting
DESCRIPTION:contact Susan Phillips\, (17-18 chair) for more information
URL:https://seniorjuniorforum.com/event/2017-18-final-community-service-committee-meeting/
LOCATION:Senior Junior Forum Room\, 2120 Speedway\, Wichita Falls\, TX\, 76308\, United States
CATEGORIES:Meetings
END:VEVENT
BEGIN:VEVENT
DTSTART;TZID=America/Chicago:20180613T080000
DTEND;TZID=America/Chicago:20180613T100000
DTSTAMP:20260422T040516
CREATED:20180605T211140Z
LAST-MODIFIED:20180605T211611Z
UID:4359-1528876800-1528884000@seniorjuniorforum.com
SUMMARY:Beacon Lighthouse Birthday Treats
DESCRIPTION:Take fruit or baked goods to Beacon Lighthouse for June birthday celebrations \nContact Shelly Hutchins for more information
URL:https://seniorjuniorforum.com/event/beacon-lighthouse-birthday-treats-6/
LOCATION:Beacon Lighthouse\, 300 7th St\, Wichita Falls\, TX\, 76301\, United States
CATEGORIES:Volunteer Opportunities
END:VEVENT
BEGIN:VEVENT
DTSTART;TZID=America/Chicago:20180611T180000
DTEND;TZID=America/Chicago:20180611T190000
DTSTAMP:20260422T040516
CREATED:20180524T215831Z
LAST-MODIFIED:20180524T215913Z
UID:4352-1528740000-1528743600@seniorjuniorforum.com
SUMMARY:2018-19 Program Committee Meeting
DESCRIPTION:contact Susan Phillips for more information
URL:https://seniorjuniorforum.com/event/2018-19-program-committee-meeting/
LOCATION:TX
CATEGORIES:Meetings
END:VEVENT
BEGIN:VEVENT
DTSTART;TZID=America/Chicago:20180610T080000
DTEND;TZID=America/Chicago:20180729T170000
DTSTAMP:20260422T040516
CREATED:20180610T190215Z
LAST-MODIFIED:20180610T190215Z
UID:4369-1528617600-1532883600@seniorjuniorforum.com
SUMMARY:ArtZeum at the Kemp Center
DESCRIPTION:Volunteers are need throughout the summer.  Contact Shelly Hutchins for more information
URL:https://seniorjuniorforum.com/event/artzeum-at-the-kemp-center/
LOCATION:The Kemp Center\, 1300 Lamar Street\, Wichita Falls\, TX\, 76301\, United States
CATEGORIES:Volunteer Opportunities
END:VEVENT
BEGIN:VEVENT
DTSTART;TZID=America/Chicago:20180607T173000
DTEND;TZID=America/Chicago:20180607T183000
DTSTAMP:20260422T040516
CREATED:20180604T144130Z
LAST-MODIFIED:20180604T144130Z
UID:4354-1528392600-1528396200@seniorjuniorforum.com
SUMMARY:Christmas Tour of Homes Committee Meeting
DESCRIPTION:Meeting will be held in the Texas Room \ncontact Vicki Tigert for more information
URL:https://seniorjuniorforum.com/event/christmas-tour-of-homes-committee-meeting-6/
LOCATION:The Kemp Center\, 1300 Lamar Street\, Wichita Falls\, TX\, 76301\, United States
CATEGORIES:Meetings
END:VEVENT
BEGIN:VEVENT
DTSTART;TZID=America/Chicago:20180604T173000
DTEND;TZID=America/Chicago:20180604T203000
DTSTAMP:20260422T040516
CREATED:20180517T175127Z
LAST-MODIFIED:20180517T175342Z
UID:4345-1528133400-1528144200@seniorjuniorforum.com
SUMMARY:2018-19 Novice Orientation & Training
DESCRIPTION:Orientation and training for the 2018-19 Novice Class.  The 2018-19 Novice Committee should also attend.  We will meet in the private room at Fuzzy’s Taco Shop \nPlease plan on being there no later than 5:30 if you would like to order food. \nContact Amber Meadows for more information.
URL:https://seniorjuniorforum.com/event/2018-19-novice-training/
LOCATION:Fuzzy’s Taco Shop\, 2611 Plaza Parkway\, Wichita Falls\, TX\, 76308\, United States
CATEGORIES:Meetings
END:VEVENT
BEGIN:VEVENT
DTSTART;TZID=America/Chicago:20180522T180000
DTEND;TZID=America/Chicago:20180522T200000
DTSTAMP:20260422T040516
CREATED:20180328T180805Z
LAST-MODIFIED:20180328T180805Z
UID:4286-1527012000-1527019200@seniorjuniorforum.com
SUMMARY:Audit Committee Meeting
DESCRIPTION:contact Vicki Tigert for more information
URL:https://seniorjuniorforum.com/event/audit-committee-meeting-3/
LOCATION:Senior Junior Forum Room\, 2120 Speedway\, Wichita Falls\, TX\, 76308\, United States
CATEGORIES:Meetings
END:VEVENT
BEGIN:VEVENT
DTSTART;TZID=America/Chicago:20180521T173000
DTEND;TZID=America/Chicago:20180521T193000
DTSTAMP:20260422T040516
CREATED:20170802T203740Z
LAST-MODIFIED:20180515T141428Z
UID:4010-1526923800-1526931000@seniorjuniorforum.com
SUMMARY:Transitional Executive Board Meeting
DESCRIPTION:contact Mary Brasher  or Debbie Berend for more information \n2017-18 board will meet at 5:30 \n2018-19 board will join them at 6:00 \n 
URL:https://seniorjuniorforum.com/event/transitional-executive-board-meeting-2/
LOCATION:Barn\, 4713 Stansbury Lane\, Wichita Falls\, TX\, 76310\, United States
CATEGORIES:Meetings
END:VEVENT
BEGIN:VEVENT
DTSTART;TZID=America/Chicago:20180519T073000
DTEND;TZID=America/Chicago:20180519T160000
DTSTAMP:20260422T040516
CREATED:20180304T220946Z
LAST-MODIFIED:20180419T210916Z
UID:4254-1526715000-1526745600@seniorjuniorforum.com
SUMMARY:Special Olympics - Track & Field Day
DESCRIPTION:contact Susan Phillips for more information
URL:https://seniorjuniorforum.com/event/special-olympics-track-field-day-2/
LOCATION:Iowa Park High School Track\, 1513 Bob Dawson Dr.\, Iowa Park \, TX\, United States
CATEGORIES:Volunteer Opportunities
END:VEVENT
BEGIN:VEVENT
DTSTART;TZID=America/Chicago:20180501T183000
DTEND;TZID=America/Chicago:20180501T203000
DTSTAMP:20260422T040516
CREATED:20170625T222550Z
LAST-MODIFIED:20180430T154027Z
UID:3944-1525199400-1525206600@seniorjuniorforum.com
SUMMARY:Installation & Awards Banquet
DESCRIPTION:Program:  Entertainment – “Backdoor Theatre Troupe”   Speaker – Carol Sales \nHostesses: Stacey Bailey; Amber Gee; Nichole Jefferson; Christi Kelton; Kimberly Price; Lucy Zamastil \nAdvisors: Carley McGhee; Jill Montz \n  \n 
URL:https://seniorjuniorforum.com/event/general-meeting-19/
LOCATION:The Forum Auditorium\, 2120 Speedway\, Wichita Falls\, TX\, 76308\, United States
CATEGORIES:Meetings
END:VEVENT
END:VCALENDAR