BEGIN:VCALENDAR
VERSION:2.0
PRODID:-//Senior Junior Forum - ECPv6.14.0//NONSGML v1.0//EN
CALSCALE:GREGORIAN
METHOD:PUBLISH
X-WR-CALNAME:Senior Junior Forum
X-ORIGINAL-URL:https://seniorjuniorforum.com
X-WR-CALDESC:Events for Senior Junior Forum
REFRESH-INTERVAL;VALUE=DURATION:PT1H
X-Robots-Tag:noindex
X-PUBLISHED-TTL:PT1H
BEGIN:VTIMEZONE
TZID:America/Chicago
BEGIN:DAYLIGHT
TZOFFSETFROM:-0600
TZOFFSETTO:-0500
TZNAME:CDT
DTSTART:20180311T080000
END:DAYLIGHT
BEGIN:STANDARD
TZOFFSETFROM:-0500
TZOFFSETTO:-0600
TZNAME:CST
DTSTART:20181104T070000
END:STANDARD
END:VTIMEZONE
BEGIN:VEVENT
DTSTART;TZID=America/Chicago:20181107T080000
DTEND;TZID=America/Chicago:20181107T100000
DTSTAMP:20260422T014729
CREATED:20181029T191249Z
LAST-MODIFIED:20181029T191249Z
UID:4600-1541577600-1541584800@seniorjuniorforum.com
SUMMARY:Beacon Lighthouse - November birthday treats
DESCRIPTION:Drop off homemade goodies or fruit by 10:00am.  Contact Shelly Hutchins for more information.
URL:https://seniorjuniorforum.com/event/beacon-lighthouse-november-birthday-treats/
LOCATION:Beacon Lighthouse\, 300 7th St\, Wichita Falls\, TX\, 76301\, United States
CATEGORIES:Volunteer Opportunities
END:VEVENT
BEGIN:VEVENT
DTSTART;TZID=America/Chicago:20181106T190000
DTEND;TZID=America/Chicago:20181106T203000
DTSTAMP:20260422T014729
CREATED:20180706T162955Z
LAST-MODIFIED:20180824T142716Z
UID:4433-1541530800-1541536200@seniorjuniorforum.com
SUMMARY:General Meeting
DESCRIPTION:Program: “Lifelong Learning Center” – MWSU \nSpecial Guests: Maria Maloney & Stephanie Kramer \nItems for Hours benefitting Patsy’s House: Kleenex\, post-it notes\, 8 oz bottled waters
URL:https://seniorjuniorforum.com/event/general-meeting-22/
LOCATION:The Forum Garden Room\, 2120 Speedway\, Wichita Falls\, TX\, 76308\, United States
CATEGORIES:Meetings
END:VEVENT
BEGIN:VEVENT
DTSTART;TZID=America/Chicago:20181101T180000
DTEND;TZID=America/Chicago:20181101T190000
DTSTAMP:20260422T014729
CREATED:20180709T152639Z
LAST-MODIFIED:20180709T152639Z
UID:4463-1541095200-1541098800@seniorjuniorforum.com
SUMMARY:Goals & Long Range Committee Meeting
DESCRIPTION:Contact Tamara Barfield or Sue Tabor for more information
URL:https://seniorjuniorforum.com/event/goals-long-range-committee-meeting-6/
LOCATION:Senior Junior Forum Room\, 2120 Speedway\, Wichita Falls\, TX\, 76308\, United States
CATEGORIES:Meetings
END:VEVENT
BEGIN:VEVENT
DTSTART;TZID=America/Chicago:20181031T100000
DTEND;TZID=America/Chicago:20181031T130000
DTSTAMP:20260422T014729
CREATED:20181022T193116Z
LAST-MODIFIED:20181022T193116Z
UID:4597-1540980000-1540990800@seniorjuniorforum.com
SUMMARY:The Kitchen - Red Door Annual Fall Festival
DESCRIPTION:contact Shelly Hutchins for more information
URL:https://seniorjuniorforum.com/event/the-kitchen-red-door-annual-fall-festival/
LOCATION:The Kitchen (Senior Citizens Service)\, 1000 Burnett\, Wichita Falls\, TX\, 76301\, United States
CATEGORIES:Volunteer Opportunities
END:VEVENT
BEGIN:VEVENT
DTSTART;TZID=America/Chicago:20181029T180000
DTEND;TZID=America/Chicago:20181029T190000
DTSTAMP:20260422T014729
CREATED:20181011T194541Z
LAST-MODIFIED:20181011T194541Z
UID:4593-1540836000-1540839600@seniorjuniorforum.com
SUMMARY:Communications Committee Meeting
DESCRIPTION:Contact Lori Wood for more information
URL:https://seniorjuniorforum.com/event/communications-committee-meeting-2/
LOCATION:TBD
CATEGORIES:Meetings
END:VEVENT
BEGIN:VEVENT
DTSTART;TZID=America/Chicago:20181029T080000
DTEND;TZID=America/Chicago:20181029T100000
DTSTAMP:20260422T014729
CREATED:20180909T193828Z
LAST-MODIFIED:20181022T192627Z
UID:4561-1540800000-1540807200@seniorjuniorforum.com
SUMMARY:Beacon Lighthouse - Halloween Treats
DESCRIPTION:take Halloween candy to Beacon Lighthouse by 10:00am
URL:https://seniorjuniorforum.com/event/beacon-lighthouse-halloween-treats-3/
LOCATION:Beacon Lighthouse\, 300 7th St\, Wichita Falls\, TX\, 76301\, United States
CATEGORIES:Volunteer Opportunities
END:VEVENT
BEGIN:VEVENT
DTSTART;TZID=America/Chicago:20181027T180000
DTEND;TZID=America/Chicago:20181027T220000
DTSTAMP:20260422T014729
CREATED:20180927T162155Z
LAST-MODIFIED:20180927T162155Z
UID:4571-1540663200-1540677600@seniorjuniorforum.com
SUMMARY:Kell House - Haunted Tours
DESCRIPTION:Guides needed for this event.  Contact Shelly Hutchins for more details.
URL:https://seniorjuniorforum.com/event/kell-house-haunted-tours/
LOCATION:The Kell House\, 900 Bluff Street\, Wichita Falls\, TX\, 76301\, United States
CATEGORIES:Volunteer Opportunities
END:VEVENT
BEGIN:VEVENT
DTSTART;TZID=America/Chicago:20181027T143000
DTEND;TZID=America/Chicago:20181027T210000
DTSTAMP:20260422T014729
CREATED:20180909T193717Z
LAST-MODIFIED:20181022T192751Z
UID:4559-1540650600-1540674000@seniorjuniorforum.com
SUMMARY:Special Olympics - Sports Banquet
DESCRIPTION:contact Shelly Hutchins for more information
URL:https://seniorjuniorforum.com/event/special-olympics-sports-banquet-2/
LOCATION:TBD
CATEGORIES:Volunteer Opportunities
END:VEVENT
BEGIN:VEVENT
DTSTART;TZID=America/Chicago:20181026T173000
DTEND;TZID=America/Chicago:20181026T220000
DTSTAMP:20260422T014729
CREATED:20180909T193538Z
LAST-MODIFIED:20181022T192838Z
UID:4557-1540575000-1540591200@seniorjuniorforum.com
SUMMARY:Kemp Center - Mystery Art
DESCRIPTION:Contact Nancy Scott at The Kemp Center if you are interested in volunteering for this fun event. \n  \n 
URL:https://seniorjuniorforum.com/event/kemp-center-mystery-art-2/
LOCATION:The Kemp Center\, 1300 Lamar Street\, Wichita Falls\, TX\, 76301\, United States
CATEGORIES:Volunteer Opportunities
END:VEVENT
BEGIN:VEVENT
DTSTART;TZID=America/Chicago:20181025T180000
DTEND;TZID=America/Chicago:20181025T190000
DTSTAMP:20260422T014729
CREATED:20181007T183855Z
LAST-MODIFIED:20181007T183855Z
UID:4587-1540490400-1540494000@seniorjuniorforum.com
SUMMARY:Christmas Tour of Homes Committee Meeting
DESCRIPTION:Contact Vicki Tigert or Sharon McCluskey for more information
URL:https://seniorjuniorforum.com/event/christmas-tour-of-homes-committee-meeting-8/
LOCATION:Senior Junior Forum Room\, 2120 Speedway\, Wichita Falls\, TX\, 76308\, United States
CATEGORIES:Meetings
END:VEVENT
BEGIN:VEVENT
DTSTART;TZID=America/Chicago:20181023T180000
DTEND;TZID=America/Chicago:20181023T203000
DTSTAMP:20260422T014729
CREATED:20180927T163031Z
LAST-MODIFIED:20180927T163031Z
UID:4577-1540317600-1540326600@seniorjuniorforum.com
SUMMARY:Bunco Mixer
DESCRIPTION:Click here for more information Oct 23rd Bunco
URL:https://seniorjuniorforum.com/event/bunco-mixer-4/
LOCATION:The Forum Auditorium\, 2120 Speedway\, Wichita Falls\, TX\, 76308\, United States
CATEGORIES:Socials
END:VEVENT
BEGIN:VEVENT
DTSTART;TZID=America/Chicago:20181018T160000
DTEND;TZID=America/Chicago:20181018T203000
DTSTAMP:20260422T014729
CREATED:20180909T193411Z
LAST-MODIFIED:20180909T193411Z
UID:4555-1539878400-1539894600@seniorjuniorforum.com
SUMMARY:First Step - Candlelight Vigil
DESCRIPTION:contact Shelly Hutchins for more information
URL:https://seniorjuniorforum.com/event/first-step-candlelight-vigil-3/
LOCATION:Wellington Event Center\, 5200 Kell W Blvd\, Wichita Falls\, TX\, 76310\, United States
CATEGORIES:Volunteer Opportunities
END:VEVENT
BEGIN:VEVENT
DTSTART;TZID=America/Chicago:20181017T103000
DTEND;TZID=America/Chicago:20181017T150000
DTSTAMP:20260422T014729
CREATED:20180827T143202Z
LAST-MODIFIED:20180827T143202Z
UID:4547-1539772200-1539788400@seniorjuniorforum.com
SUMMARY:Beacon Lighthouse - White Cane Day
DESCRIPTION:Contact Shelly Hutchins for more information \nTshirts for this event are available for purchase– http://www.whitecaneday.org/ \n 
URL:https://seniorjuniorforum.com/event/beacon-lighthouse-white-cane-day-2/
LOCATION:Beacon Lighthouse\, 300 7th St\, Wichita Falls\, TX\, 76301\, United States
CATEGORIES:Volunteer Opportunities
END:VEVENT
BEGIN:VEVENT
DTSTART;TZID=America/Chicago:20181016T180000
DTEND;TZID=America/Chicago:20181016T190000
DTSTAMP:20260422T014729
CREATED:20181007T183716Z
LAST-MODIFIED:20181007T184131Z
UID:4585-1539712800-1539716400@seniorjuniorforum.com
SUMMARY:Social Committee Meeting
DESCRIPTION:contact Roma Martin for more information
URL:https://seniorjuniorforum.com/event/social-committee-meeting-5/
LOCATION:Senior Junior Forum Room\, 2120 Speedway\, Wichita Falls\, TX\, 76308\, United States
CATEGORIES:Meetings
END:VEVENT
BEGIN:VEVENT
DTSTART;TZID=America/Chicago:20181015T180000
DTEND;TZID=America/Chicago:20181015T193000
DTSTAMP:20260422T014729
CREATED:20180610T191357Z
LAST-MODIFIED:20180610T191357Z
UID:4386-1539626400-1539631800@seniorjuniorforum.com
SUMMARY:Board Meeting
DESCRIPTION:Contact Debbie Berend for more information
URL:https://seniorjuniorforum.com/event/board-meeting-4/
LOCATION:Senior Junior Forum Room\, 2120 Speedway\, Wichita Falls\, TX\, 76308\, United States
CATEGORIES:Meetings
END:VEVENT
BEGIN:VEVENT
DTSTART;TZID=America/Chicago:20181013T180000
DTEND;TZID=America/Chicago:20181013T210000
DTSTAMP:20260422T014729
CREATED:20180909T193141Z
LAST-MODIFIED:20180909T193141Z
UID:4553-1539453600-1539464400@seniorjuniorforum.com
SUMMARY:Patsy's House - Bingo\, Bags & Badges
DESCRIPTION:contact Shelly Hutchins for more information
URL:https://seniorjuniorforum.com/event/patsys-house-bingo-bags-badges/
LOCATION:The Forum Auditorium\, 2120 Speedway\, Wichita Falls\, TX\, 76308\, United States
CATEGORIES:Volunteer Opportunities
END:VEVENT
BEGIN:VEVENT
DTSTART;TZID=America/Chicago:20181011T180000
DTEND;TZID=America/Chicago:20181011T190000
DTSTAMP:20260422T014729
CREATED:20180610T192854Z
LAST-MODIFIED:20180822T204334Z
UID:4410-1539280800-1539284400@seniorjuniorforum.com
SUMMARY:Red River Wine & Beer Festival Committee Meeting
DESCRIPTION:Contact Lesa Reimers or Annette Barfield for more information
URL:https://seniorjuniorforum.com/event/red-river-wine-beer-festival-committee-meeting-8-2018-10-11/
LOCATION:Senior Junior Forum Room\, 2120 Speedway\, Wichita Falls\, TX\, 76308\, United States
CATEGORIES:Meetings
END:VEVENT
BEGIN:VEVENT
DTSTART;TZID=America/Chicago:20181009T180000
DTEND;TZID=America/Chicago:20181009T180000
DTSTAMP:20260422T014729
CREATED:20180709T152509Z
LAST-MODIFIED:20180709T152509Z
UID:4461-1539108000-1539108000@seniorjuniorforum.com
SUMMARY:Goals & Long Range Committee Meeting
DESCRIPTION:Contact Tamara Barfield or Sue Tabor for more information
URL:https://seniorjuniorforum.com/event/goals-long-range-committee-meeting-5/
LOCATION:Senior Junior Forum Room\, 2120 Speedway\, Wichita Falls\, TX\, 76308\, United States
CATEGORIES:Meetings
END:VEVENT
BEGIN:VEVENT
DTSTART;TZID=America/Chicago:20181005T193000
DTEND;TZID=America/Chicago:20181005T213000
DTSTAMP:20260422T014729
CREATED:20180927T162758Z
LAST-MODIFIED:20180927T162758Z
UID:4573-1538767800-1538775000@seniorjuniorforum.com
SUMMARY:Wichita Theatre Social - North Texas Rising
DESCRIPTION:contact Roma Martin for more information or \nclick here North Texas Rising Social
URL:https://seniorjuniorforum.com/event/wichita-theatre-social-north-texas-rising/
LOCATION:Wichita Theatre\, 919 Indiana\, Wichita Falls\, TX\, 76301\, United States
END:VEVENT
BEGIN:VEVENT
DTSTART;TZID=America/Chicago:20181005T100000
DTEND;TZID=America/Chicago:20181005T183000
DTSTAMP:20260422T014729
CREATED:20180718T220214Z
LAST-MODIFIED:20180909T192937Z
UID:4491-1538733600-1538764200@seniorjuniorforum.com
SUMMARY:Beacon Lighthouse - Golf Tournament
DESCRIPTION:contact Shelly Hutchins for more information
URL:https://seniorjuniorforum.com/event/beacon-lighthouse-golf-tournament-3/
LOCATION:Champions Golf Course\, 4401 Lake Park Dr.\, Wichita Falls\, TX\, 76302\, United States
CATEGORIES:Volunteer Opportunities
END:VEVENT
BEGIN:VEVENT
DTSTART;TZID=America/Chicago:20181002T190000
DTEND;TZID=America/Chicago:20181002T203000
DTSTAMP:20260422T014729
CREATED:20180610T192437Z
LAST-MODIFIED:20180709T153837Z
UID:4404-1538506800-1538512200@seniorjuniorforum.com
SUMMARY:General Meeting
DESCRIPTION:Program: “Check Presentation to our Service Organizations” \nSamantha Beard from Harvest Drug will also be giving flu shots before and after the meeting to members who are interested.  More details to follow. \nSpecial Guests: Jill Montz & Vicki McCarty \nItems for Hours benefitting Faith Refuge: Cleaning Supplies: bleach\, dish soap\, laundry detergent\, disinfectant wipes\, pump hand soap\, etc.
URL:https://seniorjuniorforum.com/event/general-meeting-21/
LOCATION:The Forum Garden Room\, 2120 Speedway\, Wichita Falls\, TX\, 76308\, United States
CATEGORIES:Meetings
END:VEVENT
BEGIN:VEVENT
DTSTART;TZID=America/Chicago:20180929T090000
DTEND;TZID=America/Chicago:20180929T120000
DTSTAMP:20260422T014729
CREATED:20180909T192833Z
LAST-MODIFIED:20180909T192833Z
UID:4551-1538211600-1538222400@seniorjuniorforum.com
SUMMARY:MSU Burns - Fantasy of Lights Display workday
DESCRIPTION:Signed release form required \nContact Shelly Hutchins for more information
URL:https://seniorjuniorforum.com/event/msu-burns-fantasy-of-lights-display-workday/
LOCATION:The Warehouse Workshop\, 5228 Professional Dr.\, Wichita Falls\, TX\, 76302\, United States
CATEGORIES:Volunteer Opportunities
END:VEVENT
BEGIN:VEVENT
DTSTART;TZID=America/Chicago:20180929T073000
DTEND;TZID=America/Chicago:20180929T150000
DTSTAMP:20260422T014729
CREATED:20180718T215733Z
LAST-MODIFIED:20180909T192341Z
UID:4487-1538206200-1538233200@seniorjuniorforum.com
SUMMARY:Special Olympics - Bocce Ball
DESCRIPTION:contact Shelly Hutchins for more information
URL:https://seniorjuniorforum.com/event/special-olympics-bocce-ball-3/
LOCATION:Wichita Falls High School Track\, 2149 Ave H\, Wichita Falls\, TX\, 76309\, United States
CATEGORIES:Volunteer Opportunities
END:VEVENT
BEGIN:VEVENT
DTSTART;TZID=America/Chicago:20180921T110000
DTEND;TZID=America/Chicago:20180921T120000
DTSTAMP:20260422T014729
CREATED:20180810T214919Z
LAST-MODIFIED:20180810T214935Z
UID:4524-1537527600-1537531200@seniorjuniorforum.com
SUMMARY:The Kitchen - Senior Citizens Day at Red Door
DESCRIPTION:contact Shelly Hutchins for more information
URL:https://seniorjuniorforum.com/event/the-kitchen-senior-citizens-day/
LOCATION:The Kitchen (Senior Citizens Service)\, 1000 Burnett\, Wichita Falls\, TX\, 76301\, United States
CATEGORIES:Volunteer Opportunities
END:VEVENT
BEGIN:VEVENT
DTSTART;TZID=America/Chicago:20180920T180000
DTEND;TZID=America/Chicago:20180920T190000
DTSTAMP:20260422T014729
CREATED:20180610T192854Z
LAST-MODIFIED:20180822T204350Z
UID:4408-1537466400-1537470000@seniorjuniorforum.com
SUMMARY:Red River Wine & Beer Festival Committee Meeting
DESCRIPTION:Contact Lesa Reimers or Annette Barfield for more information
URL:https://seniorjuniorforum.com/event/red-river-wine-beer-festival-committee-meeting-8/
LOCATION:Senior Junior Forum Room\, 2120 Speedway\, Wichita Falls\, TX\, 76308\, United States
CATEGORIES:Meetings
END:VEVENT
BEGIN:VEVENT
DTSTART;TZID=America/Chicago:20180917T180000
DTEND;TZID=America/Chicago:20180917T190000
DTSTAMP:20260422T014729
CREATED:20180610T191304Z
LAST-MODIFIED:20180610T191304Z
UID:4384-1537207200-1537210800@seniorjuniorforum.com
SUMMARY:Board Meeting
DESCRIPTION:Contact Debbie Berend for more information
URL:https://seniorjuniorforum.com/event/board-meeting-3/
LOCATION:TX
CATEGORIES:Meetings
END:VEVENT
BEGIN:VEVENT
DTSTART;TZID=America/Chicago:20180913T100000
DTEND;TZID=America/Chicago:20180913T120000
DTSTAMP:20260422T014729
CREATED:20180813T155735Z
LAST-MODIFIED:20180813T155735Z
UID:4532-1536832800-1536840000@seniorjuniorforum.com
SUMMARY:The Kitchen - Texoma Gives volunteer opportunity
DESCRIPTION:contact Shelly Hutchins for more information
URL:https://seniorjuniorforum.com/event/the-kitchen-texoma-gives-volunteer-opportunity/
LOCATION:The Kitchen (Senior Citizens Service)\, 1000 Burnett\, Wichita Falls\, TX\, 76301\, United States
CATEGORIES:Volunteer Opportunities
END:VEVENT
BEGIN:VEVENT
DTSTART;TZID=America/Chicago:20180908T100000
DTEND;TZID=America/Chicago:20180908T160000
DTSTAMP:20260422T014729
CREATED:20180718T220338Z
LAST-MODIFIED:20180810T214728Z
UID:4493-1536400800-1536422400@seniorjuniorforum.com
SUMMARY:Kemp Center - Stroll & Roll
DESCRIPTION:contact Shelly Hutchins for more information
URL:https://seniorjuniorforum.com/event/kemp-center-stroll-roll/
LOCATION:The Kemp Center\, 1300 Lamar Street\, Wichita Falls\, TX\, 76301\, United States
CATEGORIES:Volunteer Opportunities
END:VEVENT
BEGIN:VEVENT
DTSTART;TZID=America/Chicago:20180904T183000
DTEND;TZID=America/Chicago:20180904T203000
DTSTAMP:20260422T014729
CREATED:20180610T192258Z
LAST-MODIFIED:20180709T154007Z
UID:4402-1536085800-1536093000@seniorjuniorforum.com
SUMMARY:General Meeting
DESCRIPTION:“Mix Munch Mingle” – Potluck Dinner at 6:30  Meeting at 7:00 \nProgram: “Meet the Novices” \nSpecial Guests: Elaine Beck & Lydia McWhorter \nItems for Hours benefitting First Step: School Supplies: backpacks\, crayons\, markers\, glue sticks\, flashcards\, etc.
URL:https://seniorjuniorforum.com/event/general-meeting-20/
LOCATION:The Forum Garden Room\, 2120 Speedway\, Wichita Falls\, TX\, 76308\, United States
CATEGORIES:Meetings
END:VEVENT
BEGIN:VEVENT
DTSTART;TZID=America/Chicago:20180828T181500
DTEND;TZID=America/Chicago:20180828T190000
DTSTAMP:20260422T014729
CREATED:20180813T155214Z
LAST-MODIFIED:20180813T155214Z
UID:4528-1535480100-1535482800@seniorjuniorforum.com
SUMMARY:Communications Committee Meeting
DESCRIPTION:contact Lori Wood for more information
URL:https://seniorjuniorforum.com/event/communications-committee-meeting/
LOCATION:TX
CATEGORIES:Meetings
END:VEVENT
END:VCALENDAR