BEGIN:VCALENDAR
VERSION:2.0
PRODID:-//Senior Junior Forum - ECPv6.14.0//NONSGML v1.0//EN
CALSCALE:GREGORIAN
METHOD:PUBLISH
X-WR-CALNAME:Senior Junior Forum
X-ORIGINAL-URL:https://seniorjuniorforum.com
X-WR-CALDESC:Events for Senior Junior Forum
REFRESH-INTERVAL;VALUE=DURATION:PT1H
X-Robots-Tag:noindex
X-PUBLISHED-TTL:PT1H
BEGIN:VTIMEZONE
TZID:America/Chicago
BEGIN:DAYLIGHT
TZOFFSETFROM:-0600
TZOFFSETTO:-0500
TZNAME:CDT
DTSTART:20180311T080000
END:DAYLIGHT
BEGIN:STANDARD
TZOFFSETFROM:-0500
TZOFFSETTO:-0600
TZNAME:CST
DTSTART:20181104T070000
END:STANDARD
BEGIN:DAYLIGHT
TZOFFSETFROM:-0600
TZOFFSETTO:-0500
TZNAME:CDT
DTSTART:20190310T080000
END:DAYLIGHT
BEGIN:STANDARD
TZOFFSETFROM:-0500
TZOFFSETTO:-0600
TZNAME:CST
DTSTART:20191103T070000
END:STANDARD
END:VTIMEZONE
BEGIN:VEVENT
DTSTART;TZID=America/Chicago:20190218T180000
DTEND;TZID=America/Chicago:20190218T193000
DTSTAMP:20260421T205905
CREATED:20180610T191733Z
LAST-MODIFIED:20180610T191733Z
UID:4394-1550512800-1550518200@seniorjuniorforum.com
SUMMARY:Board Meeting
DESCRIPTION:Contact Debbie Berend for more information
URL:https://seniorjuniorforum.com/event/board-meeting-8/
LOCATION:Senior Junior Forum Room\, 2120 Speedway\, Wichita Falls\, TX\, 76308\, United States
CATEGORIES:Meetings
END:VEVENT
BEGIN:VEVENT
DTSTART;TZID=America/Chicago:20190216T080000
DTEND;TZID=America/Chicago:20190216T160000
DTSTAMP:20260421T205905
CREATED:20190107T162817Z
LAST-MODIFIED:20190107T162817Z
UID:4660-1550304000-1550332800@seniorjuniorforum.com
SUMMARY:Special Olympics Basketball
DESCRIPTION:contact Shelly Hutchins for more information
URL:https://seniorjuniorforum.com/event/special-olympics-basketball-4/
LOCATION:Graham High School\, 1000 Brazos St.\, Graham\, TX\, United States
CATEGORIES:Volunteer Opportunities
END:VEVENT
BEGIN:VEVENT
DTSTART;TZID=America/Chicago:20190214T103000
DTEND;TZID=America/Chicago:20190214T130000
DTSTAMP:20260421T205905
CREATED:20190114T204443Z
LAST-MODIFIED:20190114T204443Z
UID:4666-1550140200-1550149200@seniorjuniorforum.com
SUMMARY:The Kitchen Red Door Valentine's Day Lunch
DESCRIPTION:contact Shelly Hutchins for more information
URL:https://seniorjuniorforum.com/event/the-kitchen-red-door-valentines-day-lunch/
LOCATION:The Kitchen (Senior Citizens Service)\, 1000 Burnett\, Wichita Falls\, TX\, 76301\, United States
CATEGORIES:Volunteer Opportunities
END:VEVENT
BEGIN:VEVENT
DTSTART;TZID=America/Chicago:20190213T080000
DTEND;TZID=America/Chicago:20190213T100000
DTSTAMP:20260421T205905
CREATED:20181217T160455Z
LAST-MODIFIED:20181217T160455Z
UID:4648-1550044800-1550052000@seniorjuniorforum.com
SUMMARY:Beacon Lighthouse Valentine Treats
DESCRIPTION:contact Shelly Hutchins for more information
URL:https://seniorjuniorforum.com/event/beacon-lighthouse-valentine-treats/
LOCATION:Beacon Lighthouse\, 300 7th St\, Wichita Falls\, TX\, 76301\, United States
CATEGORIES:Volunteer Opportunities
END:VEVENT
BEGIN:VEVENT
DTSTART;TZID=America/Chicago:20190212T180000
DTEND;TZID=America/Chicago:20190212T203000
DTSTAMP:20260421T205905
CREATED:20190106T173702Z
LAST-MODIFIED:20190106T173702Z
UID:4656-1549994400-1550003400@seniorjuniorforum.com
SUMMARY:BUNCO MIXER
DESCRIPTION:Contact Cathy Norwood for more information or Click Here: BUNCO Mixer 2-12-19
URL:https://seniorjuniorforum.com/event/bunco-mixer-5/
LOCATION:The Forum Club Room (East Entrance)\, 2120 Speedway\, Wichita Falls\, TX\, 76308\, United States
CATEGORIES:Socials
END:VEVENT
BEGIN:VEVENT
DTSTART;TZID=America/Chicago:20190207T180000
DTEND;TZID=America/Chicago:20190207T203000
DTSTAMP:20260421T205905
CREATED:20190114T204638Z
LAST-MODIFIED:20190114T204638Z
UID:4668-1549562400-1549571400@seniorjuniorforum.com
SUMMARY:February Painting Social
DESCRIPTION:contact Roma Martin for more information or click here:February Social
URL:https://seniorjuniorforum.com/event/february-painting-social/
LOCATION:How Great Thou Art Studio\, 3002 Kemp Blvd.\, Wichita Falls\, TX\, 76308\, United States
CATEGORIES:Socials
END:VEVENT
BEGIN:VEVENT
DTSTART;TZID=America/Chicago:20190205T190000
DTEND;TZID=America/Chicago:20190205T203000
DTSTAMP:20260421T205905
CREATED:20180706T163859Z
LAST-MODIFIED:20180709T153051Z
UID:4439-1549393200-1549398600@seniorjuniorforum.com
SUMMARY:General Meeting
DESCRIPTION:Program: Laura Pressler\, URHSC  – “Stop the Bleed” \nSpecial Guests: Michele Prouty & Teressa Stephenson \nItems for Hours benefitting Beacon Lighthouse:  Valentine Candy \n 
URL:https://seniorjuniorforum.com/event/general-meeting-24/
LOCATION:The Forum Garden Room\, 2120 Speedway\, Wichita Falls\, TX\, 76308\, United States
CATEGORIES:Meetings
END:VEVENT
BEGIN:VEVENT
DTSTART;TZID=America/Chicago:20190202T080000
DTEND;TZID=America/Chicago:20190202T120000
DTSTAMP:20260421T205905
CREATED:20181217T160350Z
LAST-MODIFIED:20190117T154708Z
UID:4646-1549094400-1549108800@seniorjuniorforum.com
SUMMARY:Special Olympics Polar Plunge
DESCRIPTION:Contact Shelly Hutchins for more information \nTo Donate or Sign up for TEAM SJF\, please copy and paste the link below to your web browser: \nhttp://sotx.convio.net/site/TR/PolarPlunge/General?team_id=10082&pg=team&fr_id=2594 \n  \n 
URL:https://seniorjuniorforum.com/event/special-olympics-polar-plunge-4/
LOCATION:Boomtown Bay Family Aquatic Center\, 104 Tommy Thornton Way\, Burkburnett\, TX\, 76354\, United States
CATEGORIES:Volunteer Opportunities
END:VEVENT
BEGIN:VEVENT
DTSTART;TZID=America/Chicago:20190121T180000
DTEND;TZID=America/Chicago:20190121T193000
DTSTAMP:20260421T205905
CREATED:20180610T191646Z
LAST-MODIFIED:20180610T191646Z
UID:4392-1548093600-1548099000@seniorjuniorforum.com
SUMMARY:Board Meeting
DESCRIPTION:Contact Debbie Berend for more information
URL:https://seniorjuniorforum.com/event/board-meeting-7/
LOCATION:Senior Junior Forum Room\, 2120 Speedway\, Wichita Falls\, TX\, 76308\, United States
CATEGORIES:Meetings
END:VEVENT
BEGIN:VEVENT
DTSTART;TZID=America/Chicago:20190119T140000
DTEND;TZID=America/Chicago:20190119T210000
DTSTAMP:20260421T205905
CREATED:20181217T160136Z
LAST-MODIFIED:20181217T160136Z
UID:4644-1547906400-1547931600@seniorjuniorforum.com
SUMMARY:Kemp Karnevale
DESCRIPTION:more  details coming soon
URL:https://seniorjuniorforum.com/event/kemp-karnevale-2/
LOCATION:The Kemp Center\, 1300 Lamar Street\, Wichita Falls\, TX\, 76301\, United States
CATEGORIES:Volunteer Opportunities
END:VEVENT
BEGIN:VEVENT
DTSTART;TZID=America/Chicago:20190117T180000
DTEND;TZID=America/Chicago:20190117T203000
DTSTAMP:20260421T205905
CREATED:20190106T173353Z
LAST-MODIFIED:20190106T173421Z
UID:4651-1547748000-1547757000@seniorjuniorforum.com
SUMMARY:Game Night Social
DESCRIPTION:Contact Roma Martin for more information or Click Here: GAME NIGHT SOCIAL
URL:https://seniorjuniorforum.com/event/game-night-social/
LOCATION:The Elks Lodge\, 4205 Seymour Highway\, Wichita Falls\, TX\, 76309\, United States
CATEGORIES:Socials
END:VEVENT
BEGIN:VEVENT
DTSTART;TZID=America/Chicago:20190116T080000
DTEND;TZID=America/Chicago:20190116T100000
DTSTAMP:20260421T205905
CREATED:20181217T160007Z
LAST-MODIFIED:20181217T160007Z
UID:4642-1547625600-1547632800@seniorjuniorforum.com
SUMMARY:Beacon Lighthouse January birthday treats
DESCRIPTION:contact Shelly Hutchins for more information
URL:https://seniorjuniorforum.com/event/beacon-lighthouse-january-birthday-treats-2/
LOCATION:Beacon Lighthouse\, 300 7th St\, Wichita Falls\, TX\, 76301\, United States
CATEGORIES:Volunteer Opportunities
END:VEVENT
BEGIN:VEVENT
DTSTART;TZID=America/Chicago:20190110T180000
DTEND;TZID=America/Chicago:20190110T190000
DTSTAMP:20260421T205905
CREATED:20180610T192854Z
LAST-MODIFIED:20180822T204334Z
UID:4413-1547143200-1547146800@seniorjuniorforum.com
SUMMARY:Red River Wine & Beer Festival Committee Meeting
DESCRIPTION:Contact Lesa Reimers or Annette Barfield for more information
URL:https://seniorjuniorforum.com/event/red-river-wine-beer-festival-committee-meeting-8-2019-01-10/
LOCATION:Senior Junior Forum Room\, 2120 Speedway\, Wichita Falls\, TX\, 76308\, United States
CATEGORIES:Meetings
END:VEVENT
BEGIN:VEVENT
DTSTART;TZID=America/Chicago:20190108T183000
DTEND;TZID=America/Chicago:20190108T203000
DTSTAMP:20260421T205905
CREATED:20180706T163624Z
LAST-MODIFIED:20180709T153409Z
UID:4437-1546972200-1546979400@seniorjuniorforum.com
SUMMARY:General Meeting
DESCRIPTION:“Chit Chat & Chew Potluck Dinner at 6:30 \nProgram: Keri Orsak\, Accountant – “Taxes” \nSpecial Guests: Sharon Norton & Sharon McCluskey \nItems for Hours benefitting First Step (3B’s): Children’s books\, bandaids\, bodywash \n 
URL:https://seniorjuniorforum.com/event/general-meeting-23/
LOCATION:The Forum Garden Room\, 2120 Speedway\, Wichita Falls\, TX\, 76308\, United States
CATEGORIES:Meetings
END:VEVENT
BEGIN:VEVENT
DTSTART;TZID=America/Chicago:20181222T180000
DTEND;TZID=America/Chicago:20181222T200000
DTSTAMP:20260421T205905
CREATED:20181114T230631Z
LAST-MODIFIED:20181114T230653Z
UID:4628-1545501600-1545508800@seniorjuniorforum.com
SUMMARY:Kell House Museum - Candlelight Tours
DESCRIPTION:contact Shelly Hutchins for more information
URL:https://seniorjuniorforum.com/event/kell-house-museum-candlelight-tours/
LOCATION:The Kell House\, 900 Bluff Street\, Wichita Falls\, TX\, 76301\, United States
CATEGORIES:Volunteer Opportunities
END:VEVENT
BEGIN:VEVENT
DTSTART;TZID=America/Chicago:20181220T163000
DTEND;TZID=America/Chicago:20181220T170000
DTSTAMP:20260421T205905
CREATED:20181128T194404Z
LAST-MODIFIED:20181128T194404Z
UID:4635-1545323400-1545325200@seniorjuniorforum.com
SUMMARY:Patsy's House - blanket delivery
DESCRIPTION:contact Shelly Hutchins for more information
URL:https://seniorjuniorforum.com/event/patsys-house-blanket-delivery-2/
LOCATION:Patsy’s House\, 1411 10th St.\, Wichita Falls\, TX\, 76301\, United States
CATEGORIES:Volunteer Opportunities
END:VEVENT
BEGIN:VEVENT
DTSTART;TZID=America/Chicago:20181218T183000
DTEND;TZID=America/Chicago:20181218T200000
DTSTAMP:20260421T205905
CREATED:20181217T155754Z
LAST-MODIFIED:20181217T155754Z
UID:4639-1545157800-1545163200@seniorjuniorforum.com
SUMMARY:First Step Christmas Party
DESCRIPTION:contact Pam Glendening or Shelly Hutchins for more information
URL:https://seniorjuniorforum.com/event/first-step-christmas-party-2/
LOCATION:TX
CATEGORIES:Volunteer Opportunities
END:VEVENT
BEGIN:VEVENT
DTSTART;TZID=America/Chicago:20181217T180000
DTEND;TZID=America/Chicago:20181217T193000
DTSTAMP:20260421T205905
CREATED:20180610T191557Z
LAST-MODIFIED:20181217T155847Z
UID:4390-1545069600-1545075000@seniorjuniorforum.com
SUMMARY:Board Meeting
DESCRIPTION:Contact Debbie Berend for more information
URL:https://seniorjuniorforum.com/event/board-meeting-6/
LOCATION:TX\, United States
CATEGORIES:Meetings
END:VEVENT
BEGIN:VEVENT
DTSTART;TZID=America/Chicago:20181215T100000
DTEND;TZID=America/Chicago:20181215T120000
DTSTAMP:20260421T205905
CREATED:20181128T194127Z
LAST-MODIFIED:20181128T194127Z
UID:4633-1544868000-1544875200@seniorjuniorforum.com
SUMMARY:Patsy's House - Blanket Making Party #2
DESCRIPTION:contact Shelly Hutchins for more information
URL:https://seniorjuniorforum.com/event/patsys-house-blanket-making-party-2/
LOCATION:Senior Junior Forum Room\, 2120 Speedway\, Wichita Falls\, TX\, 76308\, United States
CATEGORIES:Volunteer Opportunities
END:VEVENT
BEGIN:VEVENT
DTSTART;TZID=America/Chicago:20181214T103000
DTEND;TZID=America/Chicago:20181214T130000
DTSTAMP:20260421T205905
CREATED:20181114T230538Z
LAST-MODIFIED:20181114T230538Z
UID:4626-1544783400-1544792400@seniorjuniorforum.com
SUMMARY:Christmas Meal at The Red Door (the Kitchen)
DESCRIPTION:contact Shelly Hutchins for more information
URL:https://seniorjuniorforum.com/event/christmas-meal-at-the-red-door-the-kitchen/
LOCATION:The Kitchen (Senior Citizens Service)\, 1000 Burnett\, Wichita Falls\, TX\, 76301\, United States
CATEGORIES:Volunteer Opportunities
END:VEVENT
BEGIN:VEVENT
DTSTART;TZID=America/Chicago:20181211T110000
DTEND;TZID=America/Chicago:20181211T200000
DTSTAMP:20260421T205905
CREATED:20180610T193245Z
LAST-MODIFIED:20181108T224523Z
UID:4418-1544526000-1544558400@seniorjuniorforum.com
SUMMARY:Woman's Forum Christmas Tour of Homes
DESCRIPTION:Tickets available for $20 beginning November 19th at United Market Street – United Jacksboro Hwy – Harvest Drug & Gift – The Forum \nClick here for more details: 2018 Press Release \nContact Co-Chairs\, Vicki Tigert or Sharon McCluskey\, for more information
URL:https://seniorjuniorforum.com/event/womans-forum-christmas-tour-of-homes/
LOCATION:TBD
CATEGORIES:Fundraiser
END:VEVENT
BEGIN:VEVENT
DTSTART;TZID=America/Chicago:20181208T083000
DTEND;TZID=America/Chicago:20181208T150000
DTSTAMP:20260421T205905
CREATED:20181128T193936Z
LAST-MODIFIED:20181128T193936Z
UID:4631-1544257800-1544281200@seniorjuniorforum.com
SUMMARY:Special Olympics Bowling
DESCRIPTION:contact Shelly Hutchins for more information
URL:https://seniorjuniorforum.com/event/special-olympics-bowling-3/
LOCATION:SAFB
CATEGORIES:Volunteer Opportunities
END:VEVENT
BEGIN:VEVENT
DTSTART;TZID=America/Chicago:20181204T183000
DTEND;TZID=America/Chicago:20181204T203000
DTSTAMP:20260421T205905
CREATED:20180706T163257Z
LAST-MODIFIED:20181128T194608Z
UID:4435-1543948200-1543955400@seniorjuniorforum.com
SUMMARY:President's Christmas Dinner & General Meeting
DESCRIPTION:Social Hour at 6:30 \nDinner at 7:00 \nEntertainment: Ben Franklin Elementary School Choir \nSpecial Guests: Mary Brasher & Kathy Tegtmeyer
URL:https://seniorjuniorforum.com/event/presidents-christmas-dinner-general-meeting/
LOCATION:The Forum Auditorium\, 2120 Speedway\, Wichita Falls\, TX\, 76308\, United States
CATEGORIES:Meetings
END:VEVENT
BEGIN:VEVENT
DTSTART;TZID=America/Chicago:20181129T180000
DTEND;TZID=America/Chicago:20181129T210000
DTSTAMP:20260421T205905
CREATED:20181007T184047Z
LAST-MODIFIED:20181007T184047Z
UID:4589-1543514400-1543525200@seniorjuniorforum.com
SUMMARY:"Sip Shop & See the Lights" Social
DESCRIPTION:contact Roma Martin for more information
URL:https://seniorjuniorforum.com/event/sip-shop-see-the-lights-social/
LOCATION:TX
CATEGORIES:Socials
END:VEVENT
BEGIN:VEVENT
DTSTART;VALUE=DATE:20181128
DTEND;VALUE=DATE:20181208
DTSTAMP:20260421T205905
CREATED:20181029T191631Z
LAST-MODIFIED:20181029T191631Z
UID:4604-1543363200-1544227199@seniorjuniorforum.com
SUMMARY:The Kell House Museum - Santa House
DESCRIPTION:contact Shelly Hutchins for more information
URL:https://seniorjuniorforum.com/event/the-kell-house-museum-santa-house/
LOCATION:The Kell House\, 900 Bluff Street\, Wichita Falls\, TX\, 76301\, United States
CATEGORIES:Volunteer Opportunities
END:VEVENT
BEGIN:VEVENT
DTSTART;TZID=America/Chicago:20181119T180000
DTEND;TZID=America/Chicago:20181119T193000
DTSTAMP:20260421T205905
CREATED:20180610T191456Z
LAST-MODIFIED:20180610T191456Z
UID:4388-1542650400-1542655800@seniorjuniorforum.com
SUMMARY:Board Meeting
DESCRIPTION:Contact Debbie Berend for more information
URL:https://seniorjuniorforum.com/event/board-meeting-5/
LOCATION:Senior Junior Forum Room\, 2120 Speedway\, Wichita Falls\, TX\, 76308\, United States
CATEGORIES:Meetings
END:VEVENT
BEGIN:VEVENT
DTSTART;TZID=America/Chicago:20181117T130000
DTEND;TZID=America/Chicago:20181117T150000
DTSTAMP:20260421T205905
CREATED:20181114T230414Z
LAST-MODIFIED:20181114T230414Z
UID:4624-1542459600-1542466800@seniorjuniorforum.com
SUMMARY:Christmas at The Kemp Center
DESCRIPTION:contact Shelly Hutchins for more information
URL:https://seniorjuniorforum.com/event/christmas-at-the-kemp-center/
LOCATION:The Kemp Center\, 1300 Lamar Street\, Wichita Falls\, TX\, 76301\, United States
CATEGORIES:Volunteer Opportunities
END:VEVENT
BEGIN:VEVENT
DTSTART;TZID=America/Chicago:20181115T103000
DTEND;TZID=America/Chicago:20181115T130000
DTSTAMP:20260421T205905
CREATED:20181029T191438Z
LAST-MODIFIED:20181029T191438Z
UID:4602-1542277800-1542286800@seniorjuniorforum.com
SUMMARY:The Kitchen - Thanksgiving Lunch at Red Door
DESCRIPTION:contact Shelly Hutchins for more information
URL:https://seniorjuniorforum.com/event/the-kitchen-thanksgiving-lunch-at-red-door/
LOCATION:The Kitchen (Senior Citizens Service)\, 1000 Burnett\, Wichita Falls\, TX\, 76301\, United States
CATEGORIES:Volunteer Opportunities
END:VEVENT
BEGIN:VEVENT
DTSTART;TZID=America/Chicago:20181115T100000
DTEND;TZID=America/Chicago:20181115T130000
DTSTAMP:20260421T205905
CREATED:20181114T230245Z
LAST-MODIFIED:20181114T230245Z
UID:4622-1542276000-1542286800@seniorjuniorforum.com
SUMMARY:Kell House Museum "Santa House" - decorating for Christmas
DESCRIPTION:contact Shelly Hutchins for more details
URL:https://seniorjuniorforum.com/event/kell-house-museum-santa-house-decorating-for-christmas/
LOCATION:The Kell House\, 900 Bluff Street\, Wichita Falls\, TX\, 76301\, United States
CATEGORIES:Volunteer Opportunities
END:VEVENT
BEGIN:VEVENT
DTSTART;TZID=America/Chicago:20181108T180000
DTEND;TZID=America/Chicago:20181108T190000
DTSTAMP:20260421T205905
CREATED:20180610T192854Z
LAST-MODIFIED:20180822T204334Z
UID:4411-1541700000-1541703600@seniorjuniorforum.com
SUMMARY:Red River Wine & Beer Festival Committee Meeting
DESCRIPTION:Contact Lesa Reimers or Annette Barfield for more information
URL:https://seniorjuniorforum.com/event/red-river-wine-beer-festival-committee-meeting-8-2018-11-08/
LOCATION:Senior Junior Forum Room\, 2120 Speedway\, Wichita Falls\, TX\, 76308\, United States
CATEGORIES:Meetings
END:VEVENT
END:VCALENDAR