BEGIN:VCALENDAR
VERSION:2.0
PRODID:-//Senior Junior Forum - ECPv6.14.0//NONSGML v1.0//EN
CALSCALE:GREGORIAN
METHOD:PUBLISH
X-WR-CALNAME:Senior Junior Forum
X-ORIGINAL-URL:https://seniorjuniorforum.com
X-WR-CALDESC:Events for Senior Junior Forum
REFRESH-INTERVAL;VALUE=DURATION:PT1H
X-Robots-Tag:noindex
X-PUBLISHED-TTL:PT1H
BEGIN:VTIMEZONE
TZID:America/Chicago
BEGIN:DAYLIGHT
TZOFFSETFROM:-0600
TZOFFSETTO:-0500
TZNAME:CDT
DTSTART:20190310T080000
END:DAYLIGHT
BEGIN:STANDARD
TZOFFSETFROM:-0500
TZOFFSETTO:-0600
TZNAME:CST
DTSTART:20191103T070000
END:STANDARD
END:VTIMEZONE
BEGIN:VEVENT
DTSTART;TZID=America/Chicago:20190516T180000
DTEND;TZID=America/Chicago:20190516T193000
DTSTAMP:20260421T162829
CREATED:20190423T142628Z
LAST-MODIFIED:20190423T142628Z
UID:4732-1558029600-1558035000@seniorjuniorforum.com
SUMMARY:Audit Committee Meeting
DESCRIPTION:contact Jadine Buckley for more information
URL:https://seniorjuniorforum.com/event/audit-committee-meeting-4/
LOCATION:Senior Junior Forum Room\, 2120 Speedway\, Wichita Falls\, TX\, 76308\, United States
CATEGORIES:Meetings
END:VEVENT
BEGIN:VEVENT
DTSTART;TZID=America/Chicago:20190514T100000
DTEND;TZID=America/Chicago:20190514T143000
DTSTAMP:20260421T162829
CREATED:20190423T143308Z
LAST-MODIFIED:20190423T143308Z
UID:4744-1557828000-1557844200@seniorjuniorforum.com
SUMMARY:Kell House Museum - Living History Days
DESCRIPTION:contact Shelly Hutchins for more information
URL:https://seniorjuniorforum.com/event/kell-house-museum-living-history-days-6/
LOCATION:The Kell House\, 900 Bluff Street\, Wichita Falls\, TX\, 76301\, United States
CATEGORIES:Volunteer Opportunities
END:VEVENT
BEGIN:VEVENT
DTSTART;TZID=America/Chicago:20190513T080000
DTEND;TZID=America/Chicago:20190513T103000
DTSTAMP:20260421T162829
CREATED:20190423T143209Z
LAST-MODIFIED:20190423T143209Z
UID:4742-1557734400-1557743400@seniorjuniorforum.com
SUMMARY:Kell House Museum - Living History Days
DESCRIPTION:contact Shelly Hutchins for more information
URL:https://seniorjuniorforum.com/event/kell-house-museum-living-history-days-5/
LOCATION:The Kell House\, 900 Bluff Street\, Wichita Falls\, TX\, 76301\, United States
CATEGORIES:Volunteer Opportunities
END:VEVENT
BEGIN:VEVENT
DTSTART;TZID=America/Chicago:20190510T080000
DTEND;TZID=America/Chicago:20190510T143000
DTSTAMP:20260421T162829
CREATED:20190423T143102Z
LAST-MODIFIED:20190423T143102Z
UID:4740-1557475200-1557498600@seniorjuniorforum.com
SUMMARY:Kell House Museum - Living History Days
DESCRIPTION:contact Shelly Hutchins for more information
URL:https://seniorjuniorforum.com/event/kell-house-museum-living-history-days-4/
LOCATION:The Kell House\, 900 Bluff Street\, Wichita Falls\, TX\, 76301\, United States
CATEGORIES:Volunteer Opportunities
END:VEVENT
BEGIN:VEVENT
DTSTART;TZID=America/Chicago:20190509T080000
DTEND;TZID=America/Chicago:20190509T143000
DTSTAMP:20260421T162829
CREATED:20190423T143004Z
LAST-MODIFIED:20190423T143004Z
UID:4738-1557388800-1557412200@seniorjuniorforum.com
SUMMARY:Kell House Museum - Living History Days
DESCRIPTION:contact Shelly Hutchins for more information
URL:https://seniorjuniorforum.com/event/kell-house-museum-living-history-days-3/
LOCATION:The Kell House\, 900 Bluff Street\, Wichita Falls\, TX\, 76301\, United States
CATEGORIES:Volunteer Opportunities
END:VEVENT
BEGIN:VEVENT
DTSTART;TZID=America/Chicago:20190508T120000
DTEND;TZID=America/Chicago:20190508T143000
DTSTAMP:20260421T162829
CREATED:20190423T142846Z
LAST-MODIFIED:20190423T142846Z
UID:4736-1557316800-1557325800@seniorjuniorforum.com
SUMMARY:Kell House Museum - Living History Days
DESCRIPTION:contact Shelly Hutchins for more information
URL:https://seniorjuniorforum.com/event/kell-house-museum-living-history-days-2/
LOCATION:The Kell House\, 900 Bluff Street\, Wichita Falls\, TX\, 76301\, United States
CATEGORIES:Volunteer Opportunities
END:VEVENT
BEGIN:VEVENT
DTSTART;TZID=America/Chicago:20190507T183000
DTEND;TZID=America/Chicago:20190507T203000
DTSTAMP:20260421T162829
CREATED:20180706T164436Z
LAST-MODIFIED:20190319T145230Z
UID:4445-1557253800-1557261000@seniorjuniorforum.com
SUMMARY:Installation Banquet & General Meeting
DESCRIPTION:Social Hour at 6:30  Dinner at 7:00 \nProgram: Install new members & board\, introduce new novice class\, awards for “Woman of the Year” and “Novice of the Year” \nEntertainment: Backdoor Theatre Youth Troupe
URL:https://seniorjuniorforum.com/event/installation-banquet-general-meeting/
LOCATION:The Forum Auditorium\, 2120 Speedway\, Wichita Falls\, TX\, 76308\, United States
CATEGORIES:Meetings
END:VEVENT
BEGIN:VEVENT
DTSTART;TZID=America/Chicago:20190507T120000
DTEND;TZID=America/Chicago:20190507T143000
DTSTAMP:20260421T162829
CREATED:20190423T142739Z
LAST-MODIFIED:20190423T142739Z
UID:4734-1557230400-1557239400@seniorjuniorforum.com
SUMMARY:Kell House Museum - Living History Days
DESCRIPTION:contact Shelly Hutchins for more information
URL:https://seniorjuniorforum.com/event/kell-house-museum-living-history-days/
LOCATION:The Kell House\, 900 Bluff Street\, Wichita Falls\, TX\, 76301\, United States
CATEGORIES:Volunteer Opportunities
END:VEVENT
BEGIN:VEVENT
DTSTART;TZID=America/Chicago:20190502T180000
DTEND;TZID=America/Chicago:20190502T190000
DTSTAMP:20260421T162829
CREATED:20190319T140207Z
LAST-MODIFIED:20190423T143438Z
UID:4715-1556820000-1556823600@seniorjuniorforum.com
SUMMARY:2019 Red River Wine & Beer Festival Wrap-up Meeting
DESCRIPTION:contact Lesa Reimers or Annette Barfield for more information
URL:https://seniorjuniorforum.com/event/2019-red-river-wine-beer-festival-wrap-up-meeting/
LOCATION:TX
CATEGORIES:Meetings
END:VEVENT
BEGIN:VEVENT
DTSTART;TZID=America/Chicago:20190501T100000
DTEND;TZID=America/Chicago:20190501T170000
DTSTAMP:20260421T162829
CREATED:20190418T141305Z
LAST-MODIFIED:20190418T141305Z
UID:4730-1556704800-1556730000@seniorjuniorforum.com
SUMMARY:Patsy's House - Blanket Delivery
DESCRIPTION:contact Shelly Hutchins for more information
URL:https://seniorjuniorforum.com/event/patsys-house-blanket-delivery-3/
LOCATION:TX
CATEGORIES:Volunteer Opportunities
END:VEVENT
BEGIN:VEVENT
DTSTART;TZID=America/Chicago:20190428T123000
DTEND;TZID=America/Chicago:20190428T160000
DTSTAMP:20260421T162829
CREATED:20190418T141210Z
LAST-MODIFIED:20190418T141210Z
UID:4728-1556454600-1556467200@seniorjuniorforum.com
SUMMARY:Faith Refuge - Decorator Show House
DESCRIPTION:contact Shelly Hutchins for more information
URL:https://seniorjuniorforum.com/event/faith-refuge-decorator-show-house-4/
LOCATION:Decorator Show House\, 2014 Clarinda\, Wichita Falls\, TX\, 76308\, United States
CATEGORIES:Volunteer Opportunities
END:VEVENT
BEGIN:VEVENT
DTSTART;TZID=America/Chicago:20190427T100000
DTEND;TZID=America/Chicago:20190427T160000
DTSTAMP:20260421T162829
CREATED:20190418T141124Z
LAST-MODIFIED:20190418T141124Z
UID:4726-1556359200-1556380800@seniorjuniorforum.com
SUMMARY:Faith Refuge - Decorator Show House
DESCRIPTION:contact Shelly Hutchins for more information
URL:https://seniorjuniorforum.com/event/faith-refuge-decorator-show-house-3/
LOCATION:Decorator Show House\, 2014 Clarinda\, Wichita Falls\, TX\, 76308\, United States
CATEGORIES:Volunteer Opportunities
END:VEVENT
BEGIN:VEVENT
DTSTART;TZID=America/Chicago:20190426T100000
DTEND;TZID=America/Chicago:20190426T180000
DTSTAMP:20260421T162829
CREATED:20190418T141008Z
LAST-MODIFIED:20190418T141008Z
UID:4723-1556272800-1556301600@seniorjuniorforum.com
SUMMARY:Faith Refuge - Decorator Show House
DESCRIPTION:Please contact Shelly Hutchins for more information
URL:https://seniorjuniorforum.com/event/faith-refuge-decorator-show-house-2/
LOCATION:Decorator Show House\, 2014 Clarinda\, Wichita Falls\, TX\, 76308\, United States
CATEGORIES:Volunteer Opportunities
END:VEVENT
BEGIN:VEVENT
DTSTART;TZID=America/Chicago:20190422T180000
DTEND;TZID=America/Chicago:20190422T193000
DTSTAMP:20260421T162829
CREATED:20180610T191920Z
LAST-MODIFIED:20190409T150535Z
UID:4398-1555956000-1555961400@seniorjuniorforum.com
SUMMARY:Board Meeting
DESCRIPTION:Contact Debbie Berend for more information
URL:https://seniorjuniorforum.com/event/board-meeting-10/
LOCATION:Senior Junior Forum Room\, 2120 Speedway\, Wichita Falls\, TX\, 76308\, United States
CATEGORIES:Meetings
END:VEVENT
BEGIN:VEVENT
DTSTART;TZID=America/Chicago:20190420T080000
DTEND;TZID=America/Chicago:20190420T160000
DTSTAMP:20260421T162829
CREATED:20190312T142858Z
LAST-MODIFIED:20190312T142858Z
UID:4711-1555747200-1555776000@seniorjuniorforum.com
SUMMARY:Special Olympics - Track & Field
DESCRIPTION:Volunteers needed for souvenirs\, awards\, etc. \nContact Shelly Hutchins for more information
URL:https://seniorjuniorforum.com/event/special-olympics-track-field/
LOCATION:Iowa Park High School Track\, 1513 Bob Dawson Dr.\, Iowa Park \, TX\, United States
CATEGORIES:Volunteer Opportunities
END:VEVENT
BEGIN:VEVENT
DTSTART;TZID=America/Chicago:20190411T180000
DTEND;TZID=America/Chicago:20190411T210000
DTSTAMP:20260421T162829
CREATED:20190222T222729Z
LAST-MODIFIED:20190222T222729Z
UID:4700-1555005600-1555016400@seniorjuniorforum.com
SUMMARY:The Kitchen - High Heels for Hot Meals
DESCRIPTION:contact Shelly Hutchins for more information
URL:https://seniorjuniorforum.com/event/the-kitchen-high-heels-for-hot-meals/
LOCATION:The Forum Auditorium\, 2120 Speedway\, Wichita Falls\, TX\, 76308\, United States
CATEGORIES:Volunteer Opportunities
END:VEVENT
BEGIN:VEVENT
DTSTART;TZID=America/Chicago:20190406T180000
DTEND;TZID=America/Chicago:20190406T220000
DTSTAMP:20260421T162829
CREATED:20180610T193350Z
LAST-MODIFIED:20190117T204728Z
UID:4420-1554573600-1554588000@seniorjuniorforum.com
SUMMARY:15th Annual Red River Wine & Beer Festival
DESCRIPTION:
URL:https://seniorjuniorforum.com/event/15th-annual-red-river-wine-beer-festival/
LOCATION:J S Bridwell Ag Center\, 111 N. Burnett\, Wichita Falls\, TX\, United States
CATEGORIES:Fundraiser
END:VEVENT
BEGIN:VEVENT
DTSTART;TZID=America/Chicago:20190402T190000
DTEND;TZID=America/Chicago:20190402T203000
DTSTAMP:20260421T162829
CREATED:20180706T164159Z
LAST-MODIFIED:20190319T200726Z
UID:4443-1554231600-1554237000@seniorjuniorforum.com
SUMMARY:General Meeting
DESCRIPTION:Program: 15th Annual Red River Wine & Beer Festival \nSpecial Guests: Teresa Austin & Emily Coffey \nItems for Hours benefitting The Kemp Center: “Camp Snacks” Unfrozen freezer pops\, individually wrapped cookies\, chips\, crackers\, etc.
URL:https://seniorjuniorforum.com/event/general-meeting-26/
LOCATION:The Forum Auditorium\, 2120 Speedway\, Wichita Falls\, TX\, 76308\, United States
CATEGORIES:Meetings
END:VEVENT
BEGIN:VEVENT
DTSTART;TZID=America/Chicago:20190330T163000
DTEND;TZID=America/Chicago:20190330T170000
DTSTAMP:20260421T162829
CREATED:20190222T222859Z
LAST-MODIFIED:20190312T142736Z
UID:4702-1553963400-1553965200@seniorjuniorforum.com
SUMMARY:Cowboy  True
DESCRIPTION:Baked desserts (cookies\, muffins\, cupcakes) – Contact Shelly Hutchins if participating \nDrop off baked items at The Forum on Thursday\, March 28th – 9:00am-5:oopm \n 
URL:https://seniorjuniorforum.com/event/cowboy-true-3/
LOCATION:The Forum Auditorium\, 2120 Speedway\, Wichita Falls\, TX\, 76308\, United States
CATEGORIES:Volunteer Opportunities
END:VEVENT
BEGIN:VEVENT
DTSTART;TZID=America/Chicago:20190328T180000
DTEND;TZID=America/Chicago:20190328T180000
DTSTAMP:20260421T162829
CREATED:20190319T140023Z
LAST-MODIFIED:20190319T140023Z
UID:4713-1553796000-1553796000@seniorjuniorforum.com
SUMMARY:2019-2020 Incoming Novice Tea
DESCRIPTION:contact Amber Meadows or Joyce Capron for more information
URL:https://seniorjuniorforum.com/event/2019-2020-incoming-novice-tea/
LOCATION:Senior Junior Forum Room\, 2120 Speedway\, Wichita Falls\, TX\, 76308\, United States
CATEGORIES:Meetings
END:VEVENT
BEGIN:VEVENT
DTSTART;TZID=America/Chicago:20190321T170000
DTEND;TZID=America/Chicago:20190321T200000
DTSTAMP:20260421T162829
CREATED:20190312T142606Z
LAST-MODIFIED:20190312T142606Z
UID:4707-1553187600-1553198400@seniorjuniorforum.com
SUMMARY:Patsy's House - Blanket Making Party
DESCRIPTION:contact Shelly Hutchins if you plan to attend
URL:https://seniorjuniorforum.com/event/patsys-house-blanket-making-party/
LOCATION:Senior Junior Forum Room\, 2120 Speedway\, Wichita Falls\, TX\, 76308\, United States
CATEGORIES:Volunteer Opportunities
END:VEVENT
BEGIN:VEVENT
DTSTART;TZID=America/Chicago:20190320T080000
DTEND;TZID=America/Chicago:20190320T120000
DTSTAMP:20260421T162829
CREATED:20190312T142455Z
LAST-MODIFIED:20190312T142455Z
UID:4705-1553068800-1553083200@seniorjuniorforum.com
SUMMARY:Special Olympics - "Battle of the Dayhabs"
DESCRIPTION:contact Shelly Hutchins for more information
URL:https://seniorjuniorforum.com/event/special-olympics-battle-of-the-dayhabs-2/
LOCATION:MSU\, 3410 Taft Blvd\, Wichita Falls\, 76308\, United States
CATEGORIES:Volunteer Opportunities
END:VEVENT
BEGIN:VEVENT
DTSTART;TZID=America/Chicago:20190318T180000
DTEND;TZID=America/Chicago:20190318T193000
DTSTAMP:20260421T162829
CREATED:20180610T191824Z
LAST-MODIFIED:20180610T191824Z
UID:4396-1552932000-1552937400@seniorjuniorforum.com
SUMMARY:Board Meeting
DESCRIPTION:Contact Debbie Berend for more information
URL:https://seniorjuniorforum.com/event/board-meeting-9/
LOCATION:Senior Junior Forum Room\, 2120 Speedway\, Wichita Falls\, TX\, 76308\, United States
CATEGORIES:Meetings
END:VEVENT
BEGIN:VEVENT
DTSTART;TZID=America/Chicago:20190314T180000
DTEND;TZID=America/Chicago:20190314T190000
DTSTAMP:20260421T162829
CREATED:20180610T192854Z
LAST-MODIFIED:20180822T204334Z
UID:4415-1552586400-1552590000@seniorjuniorforum.com
SUMMARY:Red River Wine & Beer Festival Committee Meeting
DESCRIPTION:Contact Lesa Reimers or Annette Barfield for more information
URL:https://seniorjuniorforum.com/event/red-river-wine-beer-festival-committee-meeting-8-2019-03-14/
LOCATION:Senior Junior Forum Room\, 2120 Speedway\, Wichita Falls\, TX\, 76308\, United States
CATEGORIES:Meetings
END:VEVENT
BEGIN:VEVENT
DTSTART;TZID=America/Chicago:20190305T190000
DTEND;TZID=America/Chicago:20190305T203000
DTSTAMP:20260421T162829
CREATED:20180706T164018Z
LAST-MODIFIED:20180709T152953Z
UID:4441-1551812400-1551817800@seniorjuniorforum.com
SUMMARY:General Meeting
DESCRIPTION:Program: Dan Campbell\, Attorney – “Trust Funds/Estate Planning \nSpecial Guests: Vicky Payne & Delores Culley \nItems for Hours benefitting Faith Refuge: Diapers\, wipes\, feminine care products (no tampons)
URL:https://seniorjuniorforum.com/event/general-meeting-25/
LOCATION:The Forum Garden Room\, 2120 Speedway\, Wichita Falls\, TX\, 76308\, United States
CATEGORIES:Meetings
END:VEVENT
BEGIN:VEVENT
DTSTART;TZID=America/Chicago:20190302T140000
DTEND;TZID=America/Chicago:20190302T180000
DTSTAMP:20260421T162829
CREATED:20190201T164825Z
LAST-MODIFIED:20190201T164825Z
UID:4687-1551535200-1551549600@seniorjuniorforum.com
SUMMARY:Mardi Gras Pub Crawl Social
DESCRIPTION:Downtown beginning at Wichita Falls Brewery \nMust be 21 to participate \nClick here for more information: pub crawl flyer
URL:https://seniorjuniorforum.com/event/mardi-gras-pub-crawl-social/
LOCATION:Wichita Falls Brewing Co.\, 701 Indiana\, Wichita Falls\, TX\, 76301\, United States
CATEGORIES:Socials
END:VEVENT
BEGIN:VEVENT
DTSTART;TZID=America/Chicago:20190228T173000
DTEND;TZID=America/Chicago:20190228T190000
DTSTAMP:20260421T162829
CREATED:20190125T152419Z
LAST-MODIFIED:20190204T164528Z
UID:4685-1551375000-1551380400@seniorjuniorforum.com
SUMMARY:Woman's Forum "Bubbles Bits & Bites"
DESCRIPTION:The Woman’s Forum is hosting Bubbles Bits & Bites event for all member clubs.  Join other members and find out all about the different organizations that make up the Woman’s Forum.  Complimentary refreshments will be served. \nClick here for more information: Woman’s Forum Bubbles Bits & Bites
URL:https://seniorjuniorforum.com/event/womans-forum-bubbles-bits-bites/
LOCATION:The Forum Auditorium\, 2120 Speedway\, Wichita Falls\, TX\, 76308\, United States
CATEGORIES:Socials
END:VEVENT
BEGIN:VEVENT
DTSTART;TZID=America/Chicago:20190221T180000
DTEND;TZID=America/Chicago:20190221T190000
DTSTAMP:20260421T162829
CREATED:20180610T192854Z
LAST-MODIFIED:20190207T193919Z
UID:4414-1550772000-1550775600@seniorjuniorforum.com
SUMMARY:Red River Wine & Beer Festival Committee Meeting - New Date
DESCRIPTION:Contact Lesa Reimers or Annette Barfield for more information
URL:https://seniorjuniorforum.com/event/red-river-wine-beer-festival-committee-meeting-8-2019-02-14/
LOCATION:Senior Junior Forum Room\, 2120 Speedway\, Wichita Falls\, TX\, 76308\, United States
CATEGORIES:Meetings
END:VEVENT
BEGIN:VEVENT
DTSTART;TZID=America/Chicago:20190221T173000
DTEND;TZID=America/Chicago:20190221T183000
DTSTAMP:20260421T162829
CREATED:20190204T184502Z
LAST-MODIFIED:20190204T184502Z
UID:4696-1550770200-1550773800@seniorjuniorforum.com
SUMMARY:The Kell  House Museum - Docent Training
DESCRIPTION:2nd day of training to become a Docent.  Contact The Kell House at 723-2712 for more info or to register.
URL:https://seniorjuniorforum.com/event/the-kell-house-museum-docent-training/
LOCATION:The Kell House\, 900 Bluff Street\, Wichita Falls\, TX\, 76301\, United States
CATEGORIES:Volunteer Opportunities
END:VEVENT
BEGIN:VEVENT
DTSTART;TZID=America/Chicago:20190219T173000
DTEND;TZID=America/Chicago:20190219T190000
DTSTAMP:20260421T162829
CREATED:20190204T184316Z
LAST-MODIFIED:20190204T184316Z
UID:4694-1550597400-1550602800@seniorjuniorforum.com
SUMMARY:Kell House Museum Docent Training
DESCRIPTION:2 day training at the Kell House. Call them at 723-2712 for more info or to register.
URL:https://seniorjuniorforum.com/event/kell-house-museum-docent-training/
LOCATION:The Kell House\, 900 Bluff Street\, Wichita Falls\, TX\, 76301\, United States
CATEGORIES:Volunteer Opportunities
END:VEVENT
END:VCALENDAR