BEGIN:VCALENDAR
VERSION:2.0
PRODID:-//Senior Junior Forum - ECPv6.14.0//NONSGML v1.0//EN
CALSCALE:GREGORIAN
METHOD:PUBLISH
X-WR-CALNAME:Senior Junior Forum
X-ORIGINAL-URL:https://seniorjuniorforum.com
X-WR-CALDESC:Events for Senior Junior Forum
REFRESH-INTERVAL;VALUE=DURATION:PT1H
X-Robots-Tag:noindex
X-PUBLISHED-TTL:PT1H
BEGIN:VTIMEZONE
TZID:America/Chicago
BEGIN:DAYLIGHT
TZOFFSETFROM:-0600
TZOFFSETTO:-0500
TZNAME:CDT
DTSTART:20190310T080000
END:DAYLIGHT
BEGIN:STANDARD
TZOFFSETFROM:-0500
TZOFFSETTO:-0600
TZNAME:CST
DTSTART:20191103T070000
END:STANDARD
END:VTIMEZONE
BEGIN:VEVENT
DTSTART;TZID=America/Chicago:20191025T173000
DTEND;TZID=America/Chicago:20191025T220000
DTSTAMP:20260421T104531
CREATED:20191015T151912Z
LAST-MODIFIED:20191015T151912Z
UID:4954-1572024600-1572040800@seniorjuniorforum.com
SUMMARY:The Kemp Center (Arts Council) - Mystery Art
DESCRIPTION:contact Shelly Hutchins for more informatoin
URL:https://seniorjuniorforum.com/event/the-kemp-center-arts-council-mystery-art/
LOCATION:The Kemp Center\, 1300 Lamar Street\, Wichita Falls\, TX\, 76301\, United States
CATEGORIES:Volunteer Opportunities
END:VEVENT
BEGIN:VEVENT
DTSTART;TZID=America/Chicago:20191024T180000
DTEND;TZID=America/Chicago:20191024T203000
DTSTAMP:20260421T104531
CREATED:20190909T221519Z
LAST-MODIFIED:20190909T221903Z
UID:4882-1571940000-1571949000@seniorjuniorforum.com
SUMMARY:October Halloween Fun Social
DESCRIPTION:contact Roma Martin or click here for more information: October Coyote Creek Social 2019
URL:https://seniorjuniorforum.com/event/october-halloween-fun-social/
LOCATION:Coyote Ranch Resort\, 14145 US 287\, WIchita Falls\, TX\, 76301\, United States
CATEGORIES:Socials
END:VEVENT
BEGIN:VEVENT
DTSTART;TZID=America/Chicago:20191023T100000
DTEND;TZID=America/Chicago:20191023T130000
DTSTAMP:20260421T104531
CREATED:20190909T221323Z
LAST-MODIFIED:20190923T205649Z
UID:4880-1571824800-1571835600@seniorjuniorforum.com
SUMMARY:Beacon Lighthouse "White Cane Day"
DESCRIPTION:Drop-off cookies by 10:00am \ncontact Shelly Hutchins for more information
URL:https://seniorjuniorforum.com/event/beacon-lighthouse-white-cane-day-3/
LOCATION:Beacon Lighthouse\, 300 7th St\, Wichita Falls\, TX\, 76301\, United States
CATEGORIES:Volunteer Opportunities
END:VEVENT
BEGIN:VEVENT
DTSTART;TZID=America/Chicago:20191021T180000
DTEND;TZID=America/Chicago:20191021T190000
DTSTAMP:20260421T104531
CREATED:20190926T214234Z
LAST-MODIFIED:20190926T214234Z
UID:4911-1571680800-1571684400@seniorjuniorforum.com
SUMMARY:SJF Board Meeting
DESCRIPTION:contact Lisa Riley for more information
URL:https://seniorjuniorforum.com/event/sjf-board-meeting-2/
LOCATION:Senior Junior Forum Room\, 2120 Speedway\, Wichita Falls\, TX\, 76308\, United States
CATEGORIES:Meetings
END:VEVENT
BEGIN:VEVENT
DTSTART;TZID=America/Chicago:20191019T084500
DTEND;TZID=America/Chicago:20191019T120000
DTSTAMP:20260421T104531
CREATED:20191015T151551Z
LAST-MODIFIED:20191015T151552Z
UID:4950-1571474700-1571486400@seniorjuniorforum.com
SUMMARY:SPECIAL OLYMPICS - SuperStars Series - Softball
DESCRIPTION:contact Shelly Hutchins for more information
URL:https://seniorjuniorforum.com/event/special-olympics-superstars-series-softball/
LOCATION:MSU\, 3410 Taft Blvd\, Wichita Falls\, 76308\, United States
CATEGORIES:Volunteer Opportunities
END:VEVENT
BEGIN:VEVENT
DTSTART;TZID=America/Chicago:20191016T173000
DTEND;TZID=America/Chicago:20191016T193000
DTSTAMP:20260421T104531
CREATED:20190909T221215Z
LAST-MODIFIED:20190923T205426Z
UID:4878-1571247000-1571254200@seniorjuniorforum.com
SUMMARY:First Step's 17th Annual Candlelight Vigil
DESCRIPTION:contact Shelly Hutchins for more information
URL:https://seniorjuniorforum.com/event/first-steps-17th-annual-candlelight-vigil/
LOCATION:Wellington Event Center\, 5200 Kell W Blvd\, Wichita Falls\, TX\, 76310\, United States
CATEGORIES:Volunteer Opportunities
END:VEVENT
BEGIN:VEVENT
DTSTART;TZID=America/Chicago:20191015T180000
DTEND;TZID=America/Chicago:20191015T203000
DTSTAMP:20260421T104531
CREATED:20190909T222336Z
LAST-MODIFIED:20191015T151129Z
UID:4889-1571162400-1571171400@seniorjuniorforum.com
SUMMARY:BUNCO Mixer
DESCRIPTION:Click here for more information:BuncoOct19
URL:https://seniorjuniorforum.com/event/bunco-mixer-7/
LOCATION:Senior Junior Forum Room\, 2120 Speedway\, Wichita Falls\, TX\, 76308\, United States
CATEGORIES:Socials
END:VEVENT
BEGIN:VEVENT
DTSTART;TZID=America/Chicago:20191012T171500
DTEND;TZID=America/Chicago:20191012T223000
DTSTAMP:20260421T104531
CREATED:20190708T213313Z
LAST-MODIFIED:20190923T205347Z
UID:4829-1570900500-1570919400@seniorjuniorforum.com
SUMMARY:Patsy's House - Bingo\, Bags & Bling Event
DESCRIPTION:see Monday Notes for more information or contact Shelly Hutchins
URL:https://seniorjuniorforum.com/event/patsys-house-bingo-bags-bling-event/
LOCATION:The Forum Auditorium\, 2120 Speedway\, Wichita Falls\, TX\, 76308\, United States
CATEGORIES:Volunteer Opportunities
END:VEVENT
BEGIN:VEVENT
DTSTART;TZID=America/Chicago:20191010T180000
DTEND;TZID=America/Chicago:20191010T190000
DTSTAMP:20260421T104531
CREATED:20190909T223307Z
LAST-MODIFIED:20190909T223307Z
UID:4895-1570730400-1570734000@seniorjuniorforum.com
SUMMARY:Red River Wine & Beer Festival Committee
DESCRIPTION:contact Annette Barfield or Susan Phillips for more information
URL:https://seniorjuniorforum.com/event/red-river-wine-beer-festival-committee/
LOCATION:Senior Junior Forum Room\, 2120 Speedway\, Wichita Falls\, TX\, 76308\, United States
CATEGORIES:Meetings
END:VEVENT
BEGIN:VEVENT
DTSTART;TZID=America/Chicago:20191008T180000
DTEND;TZID=America/Chicago:20191008T190000
DTSTAMP:20260421T104531
CREATED:20190823T211842Z
LAST-MODIFIED:20190823T212121Z
UID:4839-1570557600-1570561200@seniorjuniorforum.com
SUMMARY:Goals & Long Range Committee Meeting
DESCRIPTION:Contact Co-Chairs: Sue Tabor or Jill Montz for more information
URL:https://seniorjuniorforum.com/event/goals-long-range-committee-meeting-7/
LOCATION:Senior Junior Forum Room\, 2120 Speedway\, Wichita Falls\, TX\, 76308\, United States
END:VEVENT
BEGIN:VEVENT
DTSTART;TZID=America/Chicago:20191001T181500
DTEND;TZID=America/Chicago:20191001T193000
DTSTAMP:20260421T104531
CREATED:20190826T135052Z
LAST-MODIFIED:20190923T204918Z
UID:4862-1569953700-1569958200@seniorjuniorforum.com
SUMMARY:General Meeting
DESCRIPTION:Program: “Check Presentations” \nSpecial Guests: Jeri Kaspar & Gaby Lockhart \nItems for Hours: Benefiting Patsy’s House – 8 oz bottled waters & individually wrapped snacks \nHostesses: Jodi Linton\, Brittany Pugliesi\, Tagan Couch & Pam Reese \nFlu Shots also available – see Monday notes for more info
URL:https://seniorjuniorforum.com/event/general-meeting-28/
LOCATION:Senior Junior Forum Room\, 2120 Speedway\, Wichita Falls\, TX\, 76308\, United States
CATEGORIES:Meetings
END:VEVENT
BEGIN:VEVENT
DTSTART;TZID=America/Chicago:20190926T180000
DTEND;TZID=America/Chicago:20190926T190000
DTSTAMP:20260421T104531
CREATED:20190923T205107Z
LAST-MODIFIED:20190923T205107Z
UID:4903-1569520800-1569524400@seniorjuniorforum.com
SUMMARY:Christmas Tour of Homes Committee Meeting
DESCRIPTION:contact Vicki Tigert or Sharon McCluskey for more information
URL:https://seniorjuniorforum.com/event/christmas-tour-of-homes-committee-meeting-10/
LOCATION:Senior Junior Forum Room\, 2120 Speedway\, Wichita Falls\, TX\, 76308\, United States
CATEGORIES:Meetings
END:VEVENT
BEGIN:VEVENT
DTSTART;TZID=America/Chicago:20190919T173000
DTEND;TZID=America/Chicago:20190919T190000
DTSTAMP:20260421T104531
CREATED:20190823T212638Z
LAST-MODIFIED:20190909T220752Z
UID:4846-1568914200-1568919600@seniorjuniorforum.com
SUMMARY:Social Committee Meeting
DESCRIPTION:contact Roma Martin for more information
URL:https://seniorjuniorforum.com/event/social-committee-meeting-8/
LOCATION:TX
CATEGORIES:Meetings
END:VEVENT
BEGIN:VEVENT
DTSTART;TZID=America/Chicago:20190916T180000
DTEND;TZID=America/Chicago:20190916T193000
DTSTAMP:20260421T104531
CREATED:20190909T222044Z
LAST-MODIFIED:20190909T222044Z
UID:4886-1568656800-1568662200@seniorjuniorforum.com
SUMMARY:SJF Board Meeting
DESCRIPTION:contact Lisa Riley for more information
URL:https://seniorjuniorforum.com/event/sjf-board-meeting/
LOCATION:Senior Junior Forum Room\, 2120 Speedway\, Wichita Falls\, TX\, 76308\, United States
CATEGORIES:Meetings
END:VEVENT
BEGIN:VEVENT
DTSTART;TZID=America/Chicago:20190914T130000
DTEND;TZID=America/Chicago:20190914T160000
DTSTAMP:20260421T104531
CREATED:20190826T140508Z
LAST-MODIFIED:20190826T140508Z
UID:4873-1568466000-1568476800@seniorjuniorforum.com
SUMMARY:Kemp Center - Stroll 'N Roll
DESCRIPTION:contact Shelly Hutchins for more information
URL:https://seniorjuniorforum.com/event/kemp-center-stroll-n-roll/
LOCATION:The Kemp Center\, 1300 Lamar Street\, Wichita Falls\, TX\, 76301\, United States
CATEGORIES:Volunteer Opportunities
END:VEVENT
BEGIN:VEVENT
DTSTART;TZID=America/Chicago:20190914T080000
DTEND;TZID=America/Chicago:20190914T120000
DTSTAMP:20260421T104531
CREATED:20190826T135223Z
LAST-MODIFIED:20190910T143233Z
UID:4864-1568448000-1568462400@seniorjuniorforum.com
SUMMARY:Grape Harvest Social at Blue Ostrich Winery (tentative date)
DESCRIPTION:contact Roma Martin for more information or click here: September Social-Grape Harvest Blue Ostrich
URL:https://seniorjuniorforum.com/event/grape-harvest-social-at-blue-ostrich-winery-tentative-date/
LOCATION:Blue Ostrich Winery\, 5611 FM2382\, Saint Jo\, TX\, United States
CATEGORIES:Socials
END:VEVENT
BEGIN:VEVENT
DTSTART;TZID=America/Chicago:20190912T180000
DTEND;TZID=America/Chicago:20190912T190000
DTSTAMP:20260421T104531
CREATED:20190909T220858Z
LAST-MODIFIED:20190909T220858Z
UID:4876-1568311200-1568314800@seniorjuniorforum.com
SUMMARY:Red River Wine & Beer Festival Committee Meeting
DESCRIPTION:contact Annette Barfield or Susan Phillips for more information
URL:https://seniorjuniorforum.com/event/red-river-wine-beer-festival-committee-meeting-9/
LOCATION:Senior Junior Forum Room\, 2120 Speedway\, Wichita Falls\, TX\, 76308\, United States
CATEGORIES:Meetings
END:VEVENT
BEGIN:VEVENT
DTSTART;TZID=America/Chicago:20190912T110000
DTEND;TZID=America/Chicago:20190912T170000
DTSTAMP:20260421T104531
CREATED:20190826T135653Z
LAST-MODIFIED:20190826T135653Z
UID:4869-1568286000-1568307600@seniorjuniorforum.com
SUMMARY:The Kitchen - Texoma Gives Day
DESCRIPTION:contact Shelly Hutchins for more information
URL:https://seniorjuniorforum.com/event/the-kitchen-texoma-gives-day/
LOCATION:The Kitchen (Senior Citizens Service)\, 1000 Burnett\, Wichita Falls\, TX\, 76301\, United States
CATEGORIES:Volunteer Opportunities
END:VEVENT
BEGIN:VEVENT
DTSTART;TZID=America/Chicago:20190906T100000
DTEND;TZID=America/Chicago:20190906T183000
DTSTAMP:20260421T104531
CREATED:20190826T135856Z
LAST-MODIFIED:20190826T135856Z
UID:4871-1567764000-1567794600@seniorjuniorforum.com
SUMMARY:Beacon Lighthouse - Golf Tournament
DESCRIPTION:contact Shelly Hutchins for more information
URL:https://seniorjuniorforum.com/event/beacon-lighthouse-golf-tournament-4/
LOCATION:Champions Golf Course\, 4401 Lake Park Dr.\, Wichita Falls\, TX\, 76302\, United States
CATEGORIES:Volunteer Opportunities
END:VEVENT
BEGIN:VEVENT
DTSTART;TZID=America/Chicago:20190903T181500
DTEND;TZID=America/Chicago:20190903T193000
DTSTAMP:20260421T104531
CREATED:20190613T150030Z
LAST-MODIFIED:20190826T134624Z
UID:4788-1567534500-1567539000@seniorjuniorforum.com
SUMMARY:General Meeting
DESCRIPTION:Chit Chat Chew – Potluck Dinner \nProgram: Meet the Novices \nSpecial Guests: Pam Hughes & Christy Whiteley \nItems for Hours:  “School Supplies” benefitting First Step – backpacks\, crayons\, markers\, glue sticks\, flashcards\, crafts\, etc. \nHostesses: Jean Snow\, Allison Veigl\, Mary McCollum\, Lauren Martin\, Patty Morrison\, Sharon Lewis & Devin Williams
URL:https://seniorjuniorforum.com/event/general-meeting-27/
LOCATION:The Forum Garden Room\, 2120 Speedway\, Wichita Falls\, TX\, 76308\, United States
CATEGORIES:Meetings
END:VEVENT
BEGIN:VEVENT
DTSTART;TZID=America/Chicago:20190827T180000
DTEND;TZID=America/Chicago:20190827T190000
DTSTAMP:20260421T104531
CREATED:20190823T212314Z
LAST-MODIFIED:20190823T212314Z
UID:4844-1566928800-1566932400@seniorjuniorforum.com
SUMMARY:Christmas Tour of Homes Committee Meeting
DESCRIPTION:Contact Co-Chairs: Vicki Tigert or Sharon McCluskey for more information
URL:https://seniorjuniorforum.com/event/christmas-tour-of-homes-committee-meeting-9/
LOCATION:Senior Junior Forum Room\, 2120 Speedway\, Wichita Falls\, TX\, 76308\, United States
CATEGORIES:Meetings
END:VEVENT
BEGIN:VEVENT
DTSTART;TZID=America/Chicago:20190825T103000
DTEND;TZID=America/Chicago:20190825T133000
DTSTAMP:20260421T104531
CREATED:20190823T220523Z
LAST-MODIFIED:20190823T220523Z
UID:4849-1566729000-1566739800@seniorjuniorforum.com
SUMMARY:Special Olympics - HHH Criterium Race
DESCRIPTION:contact Shelly Hutchins for more  information \nMake signs\, cheer\, give out awards \n 
URL:https://seniorjuniorforum.com/event/special-olympics-hhh-criterium-race/
LOCATION:MPEC\, 900 5th St.\, Wichita Falls\, TX\, United States
CATEGORIES:Volunteer Opportunities
END:VEVENT
BEGIN:VEVENT
DTSTART;TZID=America/Chicago:20190824T080000
DTEND;TZID=America/Chicago:20190825T120000
DTSTAMP:20260421T104531
CREATED:20190708T213550Z
LAST-MODIFIED:20190708T213612Z
UID:4831-1566633600-1566734400@seniorjuniorforum.com
SUMMARY:Special Olympics - Hotter 'N Hell Road Ride & Criterium Race
DESCRIPTION:contact Shelly Hutchins for more information
URL:https://seniorjuniorforum.com/event/special-olympics-hotter-n-hell-road-ride-criterium-race/
LOCATION:MPEC\, 900 5th St.\, Wichita Falls\, TX\, United States
CATEGORIES:Volunteer Opportunities
END:VEVENT
BEGIN:VEVENT
DTSTART;TZID=America/Chicago:20190819T180000
DTEND;TZID=America/Chicago:20190819T200000
DTSTAMP:20260421T104531
CREATED:20190613T145437Z
LAST-MODIFIED:20190613T145437Z
UID:4786-1566237600-1566244800@seniorjuniorforum.com
SUMMARY:Board Meeting
DESCRIPTION:contact Lisa Riley for more information
URL:https://seniorjuniorforum.com/event/board-meeting-13/
LOCATION:Senior Junior Forum Room\, 2120 Speedway\, Wichita Falls\, TX\, 76308\, United States
CATEGORIES:Meetings
END:VEVENT
BEGIN:VEVENT
DTSTART;TZID=America/Chicago:20190801T180000
DTEND;TZID=America/Chicago:20190801T200000
DTSTAMP:20260421T104531
CREATED:20190624T161716Z
LAST-MODIFIED:20190624T161716Z
UID:4812-1564682400-1564689600@seniorjuniorforum.com
SUMMARY:SJF/Special Olympics Unified Event
DESCRIPTION:SJF will be hosting it’s first Unified Event with Special Olympics by teaming up with athletes to make no-sew fleece blankets for Patsy’s House \nPlease see Monday Notes or contact Shelly Hutchins for more information
URL:https://seniorjuniorforum.com/event/sjf-special-olympics-unified-event/
LOCATION:The Forum Garden Room\, 2120 Speedway\, Wichita Falls\, TX\, 76308\, United States
CATEGORIES:Volunteer Opportunities
END:VEVENT
BEGIN:VEVENT
DTSTART;TZID=America/Chicago:20190725T173000
DTEND;TZID=America/Chicago:20190725T183000
DTSTAMP:20260421T104531
CREATED:20190722T193651Z
LAST-MODIFIED:20190722T193744Z
UID:4834-1564075800-1564079400@seniorjuniorforum.com
SUMMARY:Social Committee Meeting
DESCRIPTION:contact Roma Martin for more information
URL:https://seniorjuniorforum.com/event/social-committee-meeting-7/
LOCATION:Senior Junior Forum Room\, 2120 Speedway\, Wichita Falls\, TX\, 76308\, United States
CATEGORIES:Meetings
END:VEVENT
BEGIN:VEVENT
DTSTART;TZID=America/Chicago:20190722T173000
DTEND;TZID=America/Chicago:20190722T183000
DTSTAMP:20260421T104531
CREATED:20190708T213116Z
LAST-MODIFIED:20190708T213116Z
UID:4827-1563816600-1563820200@seniorjuniorforum.com
SUMMARY:Communications Committee Meeting
DESCRIPTION:contact Lori Wood for more information
URL:https://seniorjuniorforum.com/event/communications-committee-meeting-3/
LOCATION:TBD
CATEGORIES:Meetings
END:VEVENT
BEGIN:VEVENT
DTSTART;TZID=America/Chicago:20190719T100000
DTEND;TZID=America/Chicago:20190719T123000
DTSTAMP:20260421T104531
CREATED:20190708T212737Z
LAST-MODIFIED:20190708T212737Z
UID:4822-1563530400-1563539400@seniorjuniorforum.com
SUMMARY:The Kitchen - Senior Idol Day
DESCRIPTION:contact Shelly Hutchins for more information
URL:https://seniorjuniorforum.com/event/the-kitchen-senior-idol-day/
LOCATION:The Kitchen (Senior Citizens Service)\, 1000 Burnett\, Wichita Falls\, TX\, 76301\, United States
CATEGORIES:Volunteer Opportunities
END:VEVENT
BEGIN:VEVENT
DTSTART;TZID=America/Chicago:20190716T180000
DTEND;TZID=America/Chicago:20190716T193000
DTSTAMP:20260421T104531
CREATED:20190624T162741Z
LAST-MODIFIED:20190624T163119Z
UID:4817-1563300000-1563305400@seniorjuniorforum.com
SUMMARY:Community Service Committee Meeting
DESCRIPTION:Meeting will be held in the SJF Room at The Forum \nContact Shelly Hutchins for more information
URL:https://seniorjuniorforum.com/event/community-service-committee-meeting/
LOCATION:Senior Junior Forum Room\, 2120 Speedway\, Wichita Falls\, TX\, 76308\, United States
CATEGORIES:Meetings
END:VEVENT
BEGIN:VEVENT
DTSTART;TZID=America/Chicago:20190711T180000
DTEND;TZID=America/Chicago:20190711T203000
DTSTAMP:20260421T104531
CREATED:20190708T213013Z
LAST-MODIFIED:20190708T213013Z
UID:4824-1562868000-1562877000@seniorjuniorforum.com
SUMMARY:BUNCO MIXER
DESCRIPTION:RSVP to Cathy Norwood  – Click here for more info Bunco July 11th 2019
URL:https://seniorjuniorforum.com/event/bunco-mixer-6/
LOCATION:The Forum Club Room (East Entrance)\, 2120 Speedway\, Wichita Falls\, TX\, 76308\, United States
CATEGORIES:Socials
END:VEVENT
END:VCALENDAR