BEGIN:VCALENDAR
VERSION:2.0
PRODID:-//Senior Junior Forum - ECPv6.14.0//NONSGML v1.0//EN
CALSCALE:GREGORIAN
METHOD:PUBLISH
X-ORIGINAL-URL:https://seniorjuniorforum.com
X-WR-CALDESC:Events for Senior Junior Forum
REFRESH-INTERVAL;VALUE=DURATION:PT1H
X-Robots-Tag:noindex
X-PUBLISHED-TTL:PT1H
BEGIN:VTIMEZONE
TZID:America/Chicago
BEGIN:DAYLIGHT
TZOFFSETFROM:-0600
TZOFFSETTO:-0500
TZNAME:CDT
DTSTART:20180311T080000
END:DAYLIGHT
BEGIN:STANDARD
TZOFFSETFROM:-0500
TZOFFSETTO:-0600
TZNAME:CST
DTSTART:20181104T070000
END:STANDARD
END:VTIMEZONE
BEGIN:VEVENT
DTSTART;VALUE=DATE:20180402
DTEND;VALUE=DATE:20180403
DTSTAMP:20260422T135535
CREATED:20180320T144312Z
LAST-MODIFIED:20180320T144953Z
UID:4278-1522627200-1522713599@seniorjuniorforum.com
SUMMARY:MSU Scholarship Application Deadline
DESCRIPTION:Senior-Junior Forum awards 4 scholarships of $2\,000 each for one academic year.  More information can be found in the Community Support tab – Midwestern State University Scholarships. \nPlease click on the link to download: scholarship application-2018
URL:https://seniorjuniorforum.com/event/msu-scholarship-application-deadline/
CATEGORIES:Application
END:VEVENT
END:VCALENDAR