BEGIN:VCALENDAR
VERSION:2.0
PRODID:-//Senior Junior Forum - ECPv6.14.0//NONSGML v1.0//EN
CALSCALE:GREGORIAN
METHOD:PUBLISH
X-ORIGINAL-URL:https://seniorjuniorforum.com
X-WR-CALDESC:Events for Senior Junior Forum
REFRESH-INTERVAL;VALUE=DURATION:PT1H
X-Robots-Tag:noindex
X-PUBLISHED-TTL:PT1H
BEGIN:VTIMEZONE
TZID:America/Chicago
BEGIN:DAYLIGHT
TZOFFSETFROM:-0600
TZOFFSETTO:-0500
TZNAME:CDT
DTSTART:20230312T080000
END:DAYLIGHT
BEGIN:STANDARD
TZOFFSETFROM:-0500
TZOFFSETTO:-0600
TZNAME:CST
DTSTART:20231105T070000
END:STANDARD
END:VTIMEZONE
BEGIN:VEVENT
DTSTART;TZID=America/Chicago:20230620T090000
DTEND;TZID=America/Chicago:20230620T120000
DTSTAMP:20260425T113905
CREATED:20230526T195401Z
LAST-MODIFIED:20230526T195435Z
UID:6510-1687251600-1687262400@seniorjuniorforum.com
SUMMARY:The ARC - Camp Harmony Session I
DESCRIPTION:contact Theresa Gilmore for more information
URL:https://seniorjuniorforum.com/event/the-arc-camp-harmony-session-i/
LOCATION:TX
CATEGORIES:Volunteer Opportunities
END:VEVENT
BEGIN:VEVENT
DTSTART;TZID=America/Chicago:20230620T180000
DTEND;TZID=America/Chicago:20230620T190000
DTSTAMP:20260425T113905
CREATED:20230511T161129Z
LAST-MODIFIED:20230516T211104Z
UID:6459-1687284000-1687287600@seniorjuniorforum.com
SUMMARY:SJF Board Meeting
DESCRIPTION:contact Debbie Berend for more information
URL:https://seniorjuniorforum.com/event/sjf-board-meeting-33/
LOCATION:Senior Junior Forum Room\, 2120 Speedway\, Wichita Falls\, TX\, 76308\, United States
CATEGORIES:Meetings
END:VEVENT
END:VCALENDAR