BEGIN:VCALENDAR
VERSION:2.0
PRODID:-//Senior Junior Forum - ECPv6.14.0//NONSGML v1.0//EN
CALSCALE:GREGORIAN
METHOD:PUBLISH
X-ORIGINAL-URL:https://seniorjuniorforum.com
X-WR-CALDESC:Events for Senior Junior Forum
REFRESH-INTERVAL;VALUE=DURATION:PT1H
X-Robots-Tag:noindex
X-PUBLISHED-TTL:PT1H
BEGIN:VTIMEZONE
TZID:America/Chicago
BEGIN:DAYLIGHT
TZOFFSETFROM:-0600
TZOFFSETTO:-0500
TZNAME:CDT
DTSTART:20230312T080000
END:DAYLIGHT
BEGIN:STANDARD
TZOFFSETFROM:-0500
TZOFFSETTO:-0600
TZNAME:CST
DTSTART:20231105T070000
END:STANDARD
END:VTIMEZONE
BEGIN:VEVENT
DTSTART;TZID=America/Chicago:20230307T181500
DTEND;TZID=America/Chicago:20230307T193000
DTSTAMP:20260420T200942
CREATED:20220602T145800Z
LAST-MODIFIED:20230228T172332Z
UID:6032-1678212900-1678217400@seniorjuniorforum.com
SUMMARY:General Meeting
DESCRIPTION:Program: Red River Wine & Beer Festival Preview \nSpecial Guests: Sonja Oliver and Emily Coffey \nItems for Hours: Bingo Prizes for The Arc – examples: caps or hats (mens or womens) jewelry\, pajamas/loungewear\, slippers\, socks or stuffed animals
URL:https://seniorjuniorforum.com/event/general-meeting-50/
LOCATION:The Forum Garden Room\, 2120 Speedway\, Wichita Falls\, TX\, 76308\, United States
CATEGORIES:Meetings
END:VEVENT
END:VCALENDAR